{"text_format":"1","workbook":"xlsx","n_sheets":7,"sheets":["給与計算設定","給与明細","給与台帳","勤怠管理","所得税","賞与計算設定","賞与明細"],"not_rendered":{"charts":0,"images":0,"macros":1,"external_links":0,"defined_names":17,"comments":0,"pivot_tables":0},"unopened":[],"bounds":{"document_bytes":16777216,"sheet_cells":100000,"rows_first":2000,"rows_last":500,"rows_between":2000,"halvings":0,"cell_chars":16384,"cell_head_chars":4096},"cells_cut":0,"cells_raw":0,"read":"whole","date_system":"1900"}

{"sheet":"給与計算設定","index":0,"n_rows":346,"n_cols":14,"rows_kept":346,"cut":false,"hidden":false,"merged":[[1,8,1,13]]}
[]
["給与計算設定",null,null,"年度→",null,"年度",null,"事業者名→"]
[null,"↓氏名を入力してください"]
[1,null,"1月","2月","3月","4月","5月","6月","7月","8月","9月","10月","11月","12月"]
[null,"月額固定給"]
[null,"時給単価"]
[null,"時間外単価"]
[null,"深夜単価"]
[null,"休日単価"]
[null,"通勤手当"]
["手当項目を追加可↓"]
[]
[]
[]
[]
[]
[]
[]
[]
[null,"↓控除項目"]
["年金事務所から通知→","健康保険料"]
["年金事務所から通知→","介護保険料"]
["年金事務所から通知→","厚生年金保険料"]
["厚生労働省ＨＰで確認→","雇用保険料の率"]
["区市町村から通知→","住民税"]
["控除項目を追加可↓"]
[]
[]
[]
[]
[]
[]
[null,"所得税区分(甲または乙)","甲","甲","甲","甲","甲","甲","甲","甲","甲","甲","甲","甲"]
[null,"扶養人数(０～7人)",0,0,0,0,0,0,0,0,0,0,0,0]
[]
[]
[2,null,"1月","2月","3月","4月","5月","6月","7月","8月","9月","10月","11月","12月"]
[null,"月額固定給"]
[null,"時給単価"]
[null,"時間外単価"]
[null,"深夜単価"]
[null,"休日単価"]
[null,"通勤手当"]
[]
[]
[]
[]
[]
[]
[]
[]
[]
[null,"↓控除項目"]
[null,"健康保険料"]
[null,"介護保険料"]
[null,"厚生年金保険料"]
[null,"雇用保険料の率"]
[null,"住民税"]
[]
[]
[]
[]
[]
[]
[]
[null,"所得税区分(甲または乙)","甲","甲","甲","甲","甲","甲","甲","甲","甲","甲","甲","甲"]
[null,"扶養人数(０～7人)",0,0,0,0,0,0,0,0,0,0,0,0]
[]
[]
[3,null,"1月","2月","3月","4月","5月","6月","7月","8月","9月","10月","11月","12月"]
[null,"月額固定給"]
[null,"時給単価"]
[null,"時間外単価"]
[null,"深夜単価"]
[null,"休日単価"]
[null,"通勤手当"]
[]
[]
[]
[]
[]
[]
[]
[]
[]
[null,"↓控除項目"]
[null,"健康保険料"]
[null,"介護保険料"]
[null,"厚生年金保険料"]
[null,"雇用保険料の率"]
[null,"住民税"]
[]
[]
[]
[]
[]
[]
[]
[null,"所得税区分(甲または乙)","甲","甲","甲","甲","甲","甲","甲","甲","甲","甲","甲","甲"]
[null,"扶養人数(０～7人)",0,0,0,0,0,0,0,0,0,0,0,0]
[]
[]
[4,null,"1月","2月","3月","4月","5月","6月","7月","8月","9月","10月","11月","12月"]
[null,"月額固定給"]
[null,"時給単価"]
[null,"時間外単価"]
[null,"深夜単価"]
[null,"休日単価"]
[null,"通勤手当"]
[]
[]
[]
[]
[]
[]
[]
[]
[]
[null,"↓控除項目"]
[null,"健康保険料"]
[null,"介護保険料"]
[null,"厚生年金保険料"]
[null,"雇用保険料の率"]
[null,"住民税"]
[]
[]
[]
[]
[]
[]
[]
[null,"所得税区分(甲または乙)","甲","甲","甲","甲","甲","甲","甲","甲","甲","甲","甲","甲"]
[null,"扶養人数(０～7人)",0,0,0,0,0,0,0,0,0,0,0,0]
[]
[]
[5,null,"1月","2月","3月","4月","5月","6月","7月","8月","9月","10月","11月","12月"]
[null,"月額固定給"]
[null,"時給単価"]
[null,"時間外単価"]
[null,"深夜単価"]
[null,"休日単価"]
[null,"通勤手当"]
[]
[]
[]
[]
[]
[]
[]
[]
[]
[null,"↓控除項目"]
[null,"健康保険料"]
[null,"介護保険料"]
[null,"厚生年金保険料"]
[null,"雇用保険料の率"]
[null,"住民税"]
[]
[]
[]
[]
[]
[]
[]
[null,"所得税区分(甲または乙)","甲","甲","甲","甲","甲","甲","甲","甲","甲","甲","甲","甲"]
[null,"扶養人数(０～7人)",0,0,0,0,0,0,0,0,0,0,0,0]
[]
[]
[6,null,"1月","2月","3月","4月","5月","6月","7月","8月","9月","10月","11月","12月"]
[null,"月額固定給"]
[null,"時給単価"]
[null,"時間外単価"]
[null,"深夜単価"]
[null,"休日単価"]
[null,"通勤手当"]
[]
[]
[]
[]
[]
[]
[]
[]
[]
[null,"↓控除項目"]
[null,"健康保険料"]
[null,"介護保険料"]
[null,"厚生年金保険料"]
[null,"雇用保険料の率"]
[null,"住民税"]
[]
[]
[]
[]
[]
[]
[]
[null,"所得税区分(甲または乙)","甲","甲","甲","甲","甲","甲","甲","甲","甲","甲","甲","甲"]
[null,"扶養人数(０～7人)",0,0,0,0,0,0,0,0,0,0,0,0]
[]
[]
[7,null,"1月","2月","3月","4月","5月","6月","7月","8月","9月","10月","11月","12月"]
[null,"月額固定給"]
[null,"時給単価"]
[null,"時間外単価"]
[null,"深夜単価"]
[null,"休日単価"]
[null,"通勤手当"]
[]
[]
[]
[]
[]
[]
[]
[]
[]
[null,"↓控除項目"]
[null,"健康保険料"]
[null,"介護保険料"]
[null,"厚生年金保険料"]
[null,"雇用保険料の率"]
[null,"住民税"]
[]
[]
[]
[]
[]
[]
[]
[null,"所得税区分(甲または乙)","甲","甲","甲","甲","甲","甲","甲","甲","甲","甲","甲","甲"]
[null,"扶養人数(０～7人)",0,0,0,0,0,0,0,0,0,0,0,0]
[]
[]
[8,null,"1月","2月","3月","4月","5月","6月","7月","8月","9月","10月","11月","12月"]
[null,"月額固定給"]
[null,"時給単価"]
[null,"時間外単価"]
[null,"深夜単価"]
[null,"休日単価"]
[null,"通勤手当"]
[]
[]
[]
[]
[]
[]
[]
[]
[]
[null,"↓控除項目"]
[null,"健康保険料"]
[null,"介護保険料"]
[null,"厚生年金保険料"]
[null,"雇用保険料の率"]
[null,"住民税"]
[]
[]
[]
[]
[]
[]
[]
[null,"所得税区分(甲または乙)","甲","甲","甲","甲","甲","甲","甲","甲","甲","甲","甲","甲"]
[null,"扶養人数(０～7人)",0,0,0,0,0,0,0,0,0,0,0,0]
[]
[]
[9,null,"1月","2月","3月","4月","5月","6月","7月","8月","9月","10月","11月","12月"]
[null,"月額固定給"]
[null,"時給単価"]
[null,"時間外単価"]
[null,"深夜単価"]
[null,"休日単価"]
[null,"通勤手当"]
[]
[]
[]
[]
[]
[]
[]
[]
[]
[null,"↓控除項目"]
[null,"健康保険料"]
[null,"介護保険料"]
[null,"厚生年金保険料"]
[null,"雇用保険料の率"]
[null,"住民税"]
[]
[]
[]
[]
[]
[]
[]
[null,"所得税区分(甲または乙)","甲","甲","甲","甲","甲","甲","甲","甲","甲","甲","甲","甲"]
[null,"扶養人数(０～7人)",0,0,0,0,0,0,0,0,0,0,0,0]
[]
[]
[10,null,"1月","2月","3月","4月","5月","6月","7月","8月","9月","10月","11月","12月"]
[null,"月額固定給"]
[null,"時給単価"]
[null,"時間外単価"]
[null,"深夜単価"]
[null,"休日単価"]
[null,"通勤手当"]
[]
[]
[]
[]
[]
[]
[]
[]
[]
[null,"↓控除項目"]
[null,"健康保険料"]
[null,"介護保険料"]
[null,"厚生年金保険料"]
[null,"雇用保険料の率"]
[null,"住民税"]
[]
[]
[]
[]
[]
[]
[]
[null,"所得税区分(甲または乙)","甲","甲","甲","甲","甲","甲","甲","甲","甲","甲","甲","甲"]
[null,"扶養人数(０～7人)",0,0,0,0,0,0,0,0,0,0,0,0]
[]
[]
["社会保険料チェック（入力不要です）"]
[]
[null,"会社個人折半額","1月","2月","3月","4月","5月","6月","7月","8月","9月","10月","11月","12月"]
["介護保険料含む→","健康保険料",{"$f":"IF(SUM(C338:C339)=0,\"\",SUM(C338:C339))","v":""},{"$f":"IF(SUM(D338:D339)=0,\"\",SUM(D338:D339))","v":""},"","","","","","","","","",""]
[null,"健康保険料",{"$f":"IF(SUM(C21,C54,C87,C120,C153,C186,C219,C252,C285,C318)=0,\"\",SUM(C21,C54,C87,C120,C153,C186,C219,C252,C285,C318))","v":""},"","","","","","","","","","",""]
[null,"介護保険料",{"$f":"IF(SUM(C22,C55,C88,C121,C154,C187,C220,C253,C286,C319)=0,\"\",SUM(C22,C55,C88,C121,C154,C187,C220,C253,C286,C319))","v":""},"","","","","","","","","","",""]
[null,"厚生年金保険料",{"$f":"IF(SUM(C23,C56,C89,C122,C155,C188,C221,C254,C287,C320)=0,\"\",SUM(C23,C56,C89,C122,C155,C188,C221,C254,C287,C320))","v":""},"","","","","","","","","","",""]
[]
["折半額×２倍→","納付書額","1月","2月","3月","4月","5月","6月","7月","8月","9月","10月","11月","12月"]
["介護保険料含む→","健康保険料",{"$f":"IF(C337=\"\",\"\",C337*2)","v":""},{"$f":"IF(D337=\"\",\"\",D337*2)","v":""},"","","","","","","","","",""]
[null,"厚生年金保険料",{"$f":"IF(C340=\"\",\"\",C340*2)","v":""},{"$f":"IF(D340=\"\",\"\",D340*2)","v":""},"","","","","","","","","",""]
[]
[null,null,"＊納付書実際額との10円以下のズレは問題ありません。端数処理の関係です。 "]

{"sheet":"給与明細","index":1,"n_rows":211,"n_cols":133,"rows_kept":211,"cut":false,"hidden":false,"merged":[[204,34,207,34],[141,34,144,34],[157,34,160,34],[162,34,165,34],[115,34,118,34],[120,34,123,34],[136,34,139,34],[73,34,76,34],[78,34,81,34],[94,34,97,34],[99,34,102,34],[133,34,134,34],[178,34,181,34],[196,34,197,34],[7,1,8,1],[36,34,39,34],[52,34,55,34],[57,34,60,34],[10,34,13,34],[15,34,18,34],[31,34,34,34],[7,12,8,12],[28,12,29,12],[28,1,29,1],[49,1,50,1],[49,12,50,12],[36,12,39,12],[52,12,55,12],[57,12,60,12],[52,1,55,1],[57,1,60,1],[10,1,13,1],[15,1,18,1],[31,1,34,1],[36,1,39,1],[49,23,50,23],[49,34,50,34],[204,1,207,1],[136,1,139,1],[141,1,144,1],[157,1,160,1],[162,1,165,1],[178,1,181,1],[183,1,186,1],[199,1,202,1],[120,1,123,1],[154,1,155,1],[204,12,207,12],[10,23,13,23],[15,23,18,23],[31,23,34,23],[136,12,139,12],[141,12,144,12],[157,12,160,12],[162,12,165,12],[94,12,97,12],[99,12,102,12],[115,12,118,12],[73,23,76,23],[178,12,181,12],[183,12,186,12],[199,12,202,12],[10,12,13,12],[15,12,18,12],[31,12,34,12],[70,12,71,12],[91,12,92,12],[196,23,197,23],[115,23,118,23],[120,23,123,23],[136,23,139,23],[204,56,207,56],[178,56,181,56],[204,23,207,23],[162,23,165,23],[178,23,181,23],[183,23,186,23],[199,23,202,23],[10,45,13,45],[15,45,18,45],[31,45,34,45],[36,45,39,45],[52,45,55,45],[57,45,60,45],[73,45,76,45],[78,45,81,45],[94,45,97,45],[99,45,102,45],[115,45,118,45],[36,23,39,23],[52,23,55,23],[57,23,60,23],[157,23,160,23],[78,23,81,23],[199,34,202,34],[52,67,55,67],[57,67,60,67],[73,67,76,67],[78,67,81,67],[94,67,97,67],[199,45,202,45],[204,45,207,45],[10,56,13,56],[15,56,18,56],[31,56,34,56],[36,56,39,56],[52,56,55,56],[57,56,60,56],[73,56,76,56],[78,56,81,56],[94,56,97,56],[99,56,102,56],[115,56,118,56],[120,56,123,56],[136,56,139,56],[120,45,123,45],[136,45,139,45],[141,45,144,45],[157,45,160,45],[183,56,186,56],[199,56,202,56],[196,56,197,56],[178,67,181,67],[183,67,186,67],[199,67,202,67],[204,67,207,67],[10,78,13,78],[15,78,18,78],[31,78,34,78],[36,78,39,78],[52,78,55,78],[57,78,60,78],[73,78,76,78],[78,78,81,78],[94,78,97,78],[99,78,102,78],[115,78,118,78],[199,78,202,78],[204,78,207,78],[178,78,181,78],[133,56,134,56],[154,56,155,56],[154,67,155,67],[10,89,13,89],[15,89,18,89],[31,89,34,89],[36,89,39,89],[52,89,55,89],[57,89,60,89],[73,89,76,89],[78,89,81,89],[94,89,97,89],[99,89,102,89],[115,89,118,89],[120,89,123,89],[136,89,139,89],[120,78,123,78],[136,78,139,78],[141,78,144,78],[157,78,160,78],[162,78,165,78],[154,78,155,78],[204,89,207,89],[10,100,13,100],[15,100,18,100],[31,100,34,100],[36,100,39,100],[52,100,55,100],[57,100,60,100],[73,100,76,100],[78,100,81,100],[94,100,97,100],[99,100,102,100],[115,100,118,100],[120,100,123,100],[136,100,139,100],[141,100,144,100],[157,100,160,100],[141,89,144,89],[157,89,160,89],[162,89,165,89],[178,89,181,89],[183,89,186,89],[199,89,202,89],[199,100,202,100],[204,100,207,100],[136,122,139,122],[120,111,123,111],[136,111,139,111],[141,111,144,111],[10,111,13,111],[15,111,18,111],[31,111,34,111],[36,111,39,111],[52,111,55,111],[57,111,60,111],[73,111,76,111],[78,111,81,111],[94,111,97,111],[15,122,18,122],[31,122,34,122],[36,122,39,122],[52,122,55,122],[57,122,60,122],[73,122,76,122],[78,122,81,122],[94,122,97,122],[133,111,134,111],[112,111,113,111],[133,122,134,122],[99,111,102,111],[115,111,118,111],[99,122,102,122],[115,122,118,122],[120,122,123,122],[204,122,207,122],[141,122,144,122],[157,122,160,122],[162,122,165,122],[178,122,181,122],[183,122,186,122],[199,122,202,122],[183,111,186,111],[199,111,202,111],[204,111,207,111],[178,111,181,111],[154,122,155,122],[175,122,176,122],[196,122,197,122],[157,111,160,111],[162,111,165,111],[196,111,197,111],[175,111,176,111],[154,111,155,111],[70,1,71,1],[91,1,92,1],[154,12,155,12],[175,12,176,12],[175,1,176,1],[196,1,197,1],[196,12,197,12],[120,12,123,12],[115,1,118,1],[112,1,113,1],[112,12,113,12],[133,12,134,12],[133,1,134,1],[73,12,76,12],[78,12,81,12],[94,1,97,1],[99,1,102,1],[73,1,76,1],[78,1,81,1],[141,23,144,23],[133,23,134,23],[196,45,197,45],[175,45,176,45],[175,34,176,34],[175,23,176,23],[154,45,155,45],[154,34,155,34],[154,23,155,23],[183,45,186,45],[183,34,186,34],[162,45,165,45],[178,45,181,45],[133,45,134,45],[112,45,113,45],[112,34,113,34],[112,23,113,23],[91,23,92,23],[91,34,92,34],[91,45,92,45],[70,45,71,45],[70,34,71,34],[70,23,71,23],[94,23,97,23],[99,23,102,23],[49,45,50,45],[28,45,29,45],[28,34,29,34],[28,23,29,23],[7,23,8,23],[7,34,8,34],[7,45,8,45],[7,56,8,56],[7,67,8,67],[7,78,8,78],[28,78,29,78],[28,67,29,67],[28,56,29,56],[49,78,50,78],[49,67,50,67],[49,56,50,56],[10,67,13,67],[15,67,18,67],[31,67,34,67],[36,67,39,67],[175,56,176,56],[70,56,71,56],[70,67,71,67],[70,78,71,78],[91,56,92,56],[91,67,92,67],[91,78,92,78],[112,78,113,78],[112,67,113,67],[112,56,113,56],[162,67,165,67],[99,67,102,67],[115,67,118,67],[120,67,123,67],[136,67,139,67],[141,67,144,67],[157,67,160,67],[141,56,144,56],[157,56,160,56],[162,56,165,56],[133,67,134,67],[133,78,134,78],[162,100,165,100],[178,100,181,100],[183,100,186,100],[183,78,186,78],[133,89,134,89],[133,100,134,100],[175,78,176,78],[175,67,176,67],[196,67,197,67],[196,78,197,78],[196,100,197,100],[196,89,197,89],[175,89,176,89],[175,100,176,100],[154,100,155,100],[154,89,155,89],[7,89,8,89],[7,100,8,100],[7,111,8,111],[91,122,92,122],[7,122,8,122],[28,122,29,122],[49,122,50,122],[70,122,71,122],[112,122,113,122],[70,111,71,111],[70,100,71,100],[70,89,71,89],[49,89,50,89],[49,100,50,100],[49,111,50,111],[28,111,29,111],[28,100,29,100],[28,89,29,89],[112,100,113,100],[112,89,113,89],[91,89,92,89],[91,100,92,100],[91,111,92,111],[10,122,13,122]]}
[]
["給与明細"]
[]
[null,{"$f":"給与計算設定!$E$2&給与計算設定!$F$2&\"１月給与\"","v":"年度１月給与"},null,null,null,null,null,null,null,{"$f":"給与計算設定!E2&給与計算設定!F2&\"　\"&給与計算設定!I2","v":"年度　"},null,null,{"$f":"給与計算設定!$E$2&給与計算設定!$F$2&\"２月給与\"","v":"年度２月給与"},null,null,null,null,null,null,null,{"$f":"J4","v":"年度　"},null,null,{"$f":"給与計算設定!$E$2&給与計算設定!$F$2&\"３月給与\"","v":"年度３月給与"},null,null,null,null,null,null,null,{"$f":"U4","v":"年度　"},null,null,{"$f":"給与計算設定!$E$2&給与計算設定!$F$2&\"４月給与\"","v":"年度４月給与"},null,null,null,null,null,null,null,{"$f":"AF4","v":"年度　"},null,null,{"$f":"給与計算設定!$E$2&給与計算設定!$F$2&\"５月給与\"","v":"年度５月給与"},null,null,null,null,null,null,null,{"$f":"AQ4","v":"年度　"},null,null,{"$f":"給与計算設定!$E$2&給与計算設定!$F$2&\"６月給与\"","v":"年度６月給与"},null,null,null,null,null,null,null,{"$f":"BB4","v":"年度　"},null,null,{"$f":"給与計算設定!$E$2&給与計算設定!$F$2&\"７月給与\"","v":"年度７月給与"},null,null,null,null,null,null,null,{"$f":"BM4","v":"年度　"},null,null,{"$f":"給与計算設定!$E$2&給与計算設定!$F$2&\"８月給与\"","v":"年度８月給与"},null,null,null,null,null,null,null,{"$f":"BX4","v":"年度　"},null,null,{"$f":"給与計算設定!$E$2&給与計算設定!$F$2&\"９月給与\"","v":"年度９月給与"},null,null,null,null,null,null,null,{"$f":"CI4","v":"年度　"},null,null,{"$f":"給与計算設定!$E$2&給与計算設定!$F$2&\"１０月給与\"","v":"年度１０月給与"},null,null,null,null,null,null,null,{"$f":"CT4","v":"年度　"},null,null,{"$f":"給与計算設定!$E$2&給与計算設定!$F$2&\"１１月給与\"","v":"年度１１月給与"},null,null,null,null,null,null,null,{"$f":"DE4","v":"年度　"},null,null,{"$f":"給与計算設定!$E$2&給与計算設定!$F$2&\"１２月給与\"","v":"年度１２月給与"},null,null,null,null,null,null,null,{"$f":"DP4","v":"年度　"}]
[]
[1,"氏名",{"$f":"給与計算設定!B4","v":0},null,null,null,null,null,null,null,null,1,"氏名",{"$f":"C6","v":0},null,null,null,null,null,null,null,null,1,"氏名",{"$f":"N6","v":0},null,null,null,null,null,null,null,null,1,"氏名",{"$f":"Y6","v":0},null,null,null,null,null,null,null,null,1,"氏名",{"$f":"AJ6","v":0},null,null,null,null,null,null,null,null,1,"氏名",{"$f":"AU6","v":0},null,null,null,null,null,null,null,null,1,"氏名",{"$f":"BF6","v":0},null,null,null,null,null,null,null,null,1,"氏名",{"$f":"BQ6","v":0},null,null,null,null,null,null,null,null,1,"氏名",{"$f":"CB6","v":0},null,null,null,null,null,null,null,null,1,"氏名",{"$f":"CM6","v":0},null,null,null,null,null,null,null,null,1,"氏名",{"$f":"CX6","v":0},null,null,null,null,null,null,null,null,1,"氏名",{"$f":"DI6","v":0},null,null,null,null,null,null,null,null,1]
[]
[null,"勤怠","労働時間","普通残業時間","深夜労働時間","休日労働時間","出勤日数","欠勤日数","有休日数","有休残日数",null,null,"勤怠","労働時間","普通残業時間","深夜労働時間","休日労働時間","出勤日数","欠勤日数","有休日数","有休残日数",null,null,"勤怠","労働時間","普通残業時間","深夜労働時間","休日労働時間","出勤日数","欠勤日数","有休日数","有休残日数",null,null,"勤怠","労働時間","普通残業時間","深夜労働時間","休日労働時間","出勤日数","欠勤日数","有休日数","有休残日数",null,null,"勤怠","労働時間","普通残業時間","深夜労働時間","休日労働時間","出勤日数","欠勤日数","有休日数","有休残日数",null,null,"勤怠","労働時間","普通残業時間","深夜労働時間","休日労働時間","出勤日数","欠勤日数","有休日数","有休残日数",null,null,"勤怠","労働時間","普通残業時間","深夜労働時間","休日労働時間","出勤日数","欠勤日数","有休日数","有休残日数",null,null,"勤怠","労働時間","普通残業時間","深夜労働時間","休日労働時間","出勤日数","欠勤日数","有休日数","有休残日数",null,null,"勤怠","労働時間","普通残業時間","深夜労働時間","休日労働時間","出勤日数","欠勤日数","有休日数","有休残日数",null,null,"勤怠","労働時間","普通残業時間","深夜労働時間","休日労働時間","出勤日数","欠勤日数","有休日数","有休残日数",null,null,"勤怠","労働時間","普通残業時間","深夜労働時間","休日労働時間","出勤日数","欠勤日数","有休日数","有休残日数",null,null,"勤怠","労働時間","普通残業時間","深夜労働時間","休日労働時間","出勤日数","欠勤日数","有休日数","有休残日数"]
[]
[]
[null,"支給","基本給","時間外手当","深夜手当","休日手当",{"$f":"給与計算設定!B10","v":"通勤手当"},{"$f":"給与計算設定!B11","v":0},{"$f":"給与計算設定!B12","v":0},"課税対象額",null,null,"支給","基本給","時間外手当","深夜手当","休日手当",{"$f":"G11","v":"通勤手当"},{"$f":"H11","v":0},{"$f":"I11","v":0},"課税対象額",null,null,"支給","基本給","時間外手当","深夜手当","休日手当",{"$f":"R11","v":"通勤手当"},{"$f":"S11","v":0},{"$f":"T11","v":0},"課税対象額",null,null,"支給","基本給","時間外手当","深夜手当","休日手当",{"$f":"AC11","v":"通勤手当"},{"$f":"AD11","v":0},{"$f":"AE11","v":0},"課税対象額",null,null,"支給","基本給","時間外手当","深夜手当","休日手当",{"$f":"AN11","v":"通勤手当"},{"$f":"AO11","v":0},{"$f":"AP11","v":0},"課税対象額",null,null,"支給","基本給","時間外手当","深夜手当","休日手当",{"$f":"AY11","v":"通勤手当"},{"$f":"AZ11","v":0},{"$f":"BA11","v":0},"課税対象額",null,null,"支給","基本給","時間外手当","深夜手当","休日手当",{"$f":"BJ11","v":"通勤手当"},{"$f":"BK11","v":0},{"$f":"BL11","v":0},"課税対象額",null,null,"支給","基本給","時間外手当","深夜手当","休日手当",{"$f":"BU11","v":"通勤手当"},{"$f":"BV11","v":0},{"$f":"BW11","v":0},"課税対象額",null,null,"支給","基本給","時間外手当","深夜手当","休日手当",{"$f":"CF11","v":"通勤手当"},{"$f":"CG11","v":0},{"$f":"CH11","v":0},"課税対象額",null,null,"支給","基本給","時間外手当","深夜手当","休日手当",{"$f":"CQ11","v":"通勤手当"},{"$f":"CR11","v":0},{"$f":"CS11","v":0},"課税対象額",null,null,"支給","基本給","時間外手当","深夜手当","休日手当",{"$f":"DB11","v":"通勤手当"},{"$f":"DC11","v":0},{"$f":"DD11","v":0},"課税対象額",null,null,"支給","基本給","時間外手当","深夜手当","休日手当",{"$f":"DM11","v":"通勤手当"},{"$f":"DN11","v":0},{"$f":"DO11","v":0},"課税対象額"]
[null,null,{"$f":"IF(給与計算設定!C5<>\"\",給与計算設定!C5,ROUND(給与計算設定!C6*給与明細!C9,0))","v":0},{"$f":"ROUND(給与計算設定!C7*給与明細!D9,0)","v":0},{"$f":"ROUND(給与計算設定!C8*給与明細!E9,0)","v":0},{"$f":"ROUND(給与計算設定!C9*給与明細!F9,0)","v":0},{"$f":"給与計算設定!C10","v":0},{"$f":"給与計算設定!C11","v":0},{"$f":"給与計算設定!C12","v":0},{"$f":"J14-J17-G12","v":0},null,null,null,{"$f":"IF(給与計算設定!D5<>\"\",給与計算設定!D5,ROUND(給与計算設定!D6*給与明細!N9,0))","v":0},{"$f":"ROUND(給与計算設定!D7*給与明細!O9,0)","v":0},{"$f":"ROUND(給与計算設定!D8*給与明細!P9,0)","v":0},{"$f":"ROUND(給与計算設定!D9*給与明細!Q9,0)","v":0},{"$f":"給与計算設定!D10","v":0},{"$f":"給与計算設定!D11","v":0},{"$f":"給与計算設定!D12","v":0},{"$f":"U14-U17-R12","v":0},null,null,null,{"$f":"IF(給与計算設定!E5<>\"\",給与計算設定!E5,ROUND(給与計算設定!E6*給与明細!Y9,0))","v":0},{"$f":"ROUND(給与計算設定!E7*給与明細!Z9,0)","v":0},{"$f":"ROUND(給与計算設定!E8*給与明細!AA9,0)","v":0},{"$f":"ROUND(給与計算設定!E9*給与明細!AB9,0)","v":0},{"$f":"給与計算設定!E10","v":0},{"$f":"給与計算設定!E11","v":0},{"$f":"給与計算設定!E12","v":0},{"$f":"AF14-AF17-AC12","v":0},null,null,null,{"$f":"IF(給与計算設定!F5<>\"\",給与計算設定!F5,ROUND(給与計算設定!F6*給与明細!AJ9,0))","v":0},{"$f":"ROUND(給与計算設定!F7*給与明細!AK9,0)","v":0},{"$f":"ROUND(給与計算設定!F8*給与明細!AL9,0)","v":0},{"$f":"ROUND(給与計算設定!F9*給与明細!AM9,0)","v":0},{"$f":"給与計算設定!F10","v":0},{"$f":"給与計算設定!F11","v":0},{"$f":"給与計算設定!F12","v":0},{"$f":"AQ14-AQ17-AN12","v":0},null,null,null,{"$f":"IF(給与計算設定!G5<>\"\",給与計算設定!G5,ROUND(給与計算設定!G6*給与明細!AU9,0))","v":0},{"$f":"ROUND(給与計算設定!G7*給与明細!AV9,0)","v":0},{"$f":"ROUND(給与計算設定!G8*給与明細!AW9,0)","v":0},{"$f":"ROUND(給与計算設定!G9*給与明細!AX9,0)","v":0},{"$f":"給与計算設定!G10","v":0},{"$f":"給与計算設定!G11","v":0},{"$f":"給与計算設定!G12","v":0},{"$f":"BB14-BB17-AY12","v":0},null,null,null,{"$f":"IF(給与計算設定!H5<>\"\",給与計算設定!H5,ROUND(給与計算設定!H6*給与明細!BF9,0))","v":0},{"$f":"ROUND(給与計算設定!H7*給与明細!BG9,0)","v":0},{"$f":"ROUND(給与計算設定!H8*給与明細!BH9,0)","v":0},{"$f":"ROUND(給与計算設定!H9*給与明細!BH9,0)","v":0},{"$f":"給与計算設定!H10","v":0},{"$f":"給与計算設定!H11","v":0},{"$f":"給与計算設定!H12","v":0},{"$f":"BM14-BM17-BJ12","v":0},null,null,null,{"$f":"IF(給与計算設定!I5<>\"\",給与計算設定!I5,ROUND(給与計算設定!I6*給与明細!BQ9,0))","v":0},{"$f":"ROUND(給与計算設定!I7*給与明細!BR9,0)","v":0},{"$f":"ROUND(給与計算設定!I8*給与明細!BS9,0)","v":0},{"$f":"ROUND(給与計算設定!I9*給与明細!BT9,0)","v":0},{"$f":"給与計算設定!I10","v":0},{"$f":"給与計算設定!I11","v":0},{"$f":"給与計算設定!I12","v":0},{"$f":"BX14-BX17-BU12","v":0},null,null,null,{"$f":"IF(給与計算設定!J5<>\"\",給与計算設定!J5,ROUND(給与計算設定!J6*給与明細!CB9,0))","v":0},{"$f":"ROUND(給与計算設定!J7*給与明細!CC9,0)","v":0},{"$f":"ROUND(給与計算設定!J8*給与明細!CD9,0)","v":0},{"$f":"ROUND(給与計算設定!J9*給与明細!CE9,0)","v":0},{"$f":"給与計算設定!J10","v":0},{"$f":"給与計算設定!J11","v":0},{"$f":"給与計算設定!J12","v":0},{"$f":"CI14-CI17-CF12","v":0},null,null,null,{"$f":"IF(給与計算設定!K5<>\"\",給与計算設定!K5,ROUND(給与計算設定!K6*給与明細!CM9,0))","v":0},{"$f":"ROUND(給与計算設定!K7*給与明細!CN9,0)","v":0},{"$f":"ROUND(給与計算設定!K8*給与明細!CO9,0)","v":0},{"$f":"ROUND(給与計算設定!K9*給与明細!CP9,0)","v":0},{"$f":"給与計算設定!K10","v":0},{"$f":"給与計算設定!K11","v":0},{"$f":"給与計算設定!K12","v":0},{"$f":"CT14-CT17-CQ12","v":0},null,null,null,{"$f":"IF(給与計算設定!L5<>\"\",給与計算設定!L5,ROUND(給与計算設定!L6*給与明細!CX9,0))","v":0},{"$f":"ROUND(給与計算設定!L7*給与明細!CY9,0)","v":0},{"$f":"ROUND(給与計算設定!L8*給与明細!CZ9,0)","v":0},{"$f":"ROUND(給与計算設定!L9*給与明細!DA9,0)","v":0},{"$f":"給与計算設定!L10","v":0},{"$f":"給与計算設定!L11","v":0},{"$f":"給与計算設定!L12","v":0},{"$f":"DE14-DE17-DB12","v":0},null,null,null,{"$f":"IF(給与計算設定!M5<>\"\",給与計算設定!M5,ROUND(給与計算設定!M6*給与明細!DI9,0))","v":0},{"$f":"ROUND(給与計算設定!M7*給与明細!DJ9,0)","v":0},{"$f":"ROUND(給与計算設定!M8*給与明細!DK9,0)","v":0},{"$f":"ROUND(給与計算設定!M9*給与明細!DL9,0)","v":0},{"$f":"給与計算設定!M10","v":0},{"$f":"給与計算設定!M11","v":0},{"$f":"給与計算設定!M12","v":0},{"$f":"DP14-DP17-DM12","v":0},null,null,null,{"$f":"IF(給与計算設定!N5<>\"\",給与計算設定!N5,ROUND(給与計算設定!N6*給与明細!DT9,0))","v":0},{"$f":"ROUND(給与計算設定!N7*給与明細!DU9,0)","v":0},{"$f":"ROUND(給与計算設定!N8*給与明細!DV9,0)","v":0},{"$f":"ROUND(給与計算設定!N9*給与明細!DW9,0)","v":0},{"$f":"給与計算設定!N10","v":0},{"$f":"給与計算設定!N11","v":0},{"$f":"給与計算設定!N12","v":0},{"$f":"EA14-EA17-DX12","v":0}]
[null,null,{"$f":"給与計算設定!B13","v":0},{"$f":"給与計算設定!B14","v":0},{"$f":"給与計算設定!B15","v":0},{"$f":"給与計算設定!B16","v":0},{"$f":"給与計算設定!B17","v":0},{"$f":"給与計算設定!B18","v":0},{"$f":"給与計算設定!B19","v":0},"支給合計",null,null,null,{"$f":"C13","v":0},{"$f":"D13","v":0},0,0,0,0,0,"支給合計",null,null,null,{"$f":"N13","v":0},0,0,0,0,0,0,"支給合計",null,null,null,{"$f":"Y13","v":0},0,0,0,0,0,0,"支給合計",null,null,null,{"$f":"AJ13","v":0},0,0,0,0,0,0,"支給合計",null,null,null,{"$f":"AU13","v":0},0,0,0,0,0,0,"支給合計",null,null,null,{"$f":"BF13","v":0},0,0,0,0,0,0,"支給合計",null,null,null,{"$f":"BQ13","v":0},0,0,0,0,0,0,"支給合計",null,null,null,{"$f":"CB13","v":0},0,0,0,0,0,0,"支給合計",null,null,null,{"$f":"CM13","v":0},0,0,0,0,0,0,"支給合計",null,null,null,{"$f":"CX13","v":0},0,0,0,0,0,0,"支給合計",null,null,null,{"$f":"DI13","v":0},0,0,0,0,0,0,"支給合計"]
[null,null,{"$f":"給与計算設定!C13","v":0},{"$f":"給与計算設定!C14","v":0},{"$f":"給与計算設定!C15","v":0},{"$f":"給与計算設定!C16","v":0},{"$f":"給与計算設定!C17","v":0},{"$f":"給与計算設定!C18","v":0},{"$f":"給与計算設定!C19","v":0},{"$f":"SUM(C12:I12,C14:I14)","v":0},null,null,null,{"$f":"給与計算設定!D13","v":0},{"$f":"給与計算設定!D14","v":0},{"$f":"給与計算設定!D15","v":0},{"$f":"給与計算設定!D16","v":0},{"$f":"給与計算設定!D17","v":0},{"$f":"給与計算設定!D18","v":0},{"$f":"給与計算設定!D19","v":0},{"$f":"SUM(N12:T12,N14:T14)","v":0},null,null,null,{"$f":"給与計算設定!E13","v":0},{"$f":"給与計算設定!E14","v":0},{"$f":"給与計算設定!E15","v":0},{"$f":"給与計算設定!E16","v":0},{"$f":"給与計算設定!E17","v":0},{"$f":"給与計算設定!E18","v":0},{"$f":"給与計算設定!E19","v":0},{"$f":"SUM(Y12:AE12,Y14:AE14)","v":0},null,null,null,{"$f":"給与計算設定!F13","v":0},{"$f":"給与計算設定!F14","v":0},{"$f":"給与計算設定!F15","v":0},{"$f":"給与計算設定!F16","v":0},{"$f":"給与計算設定!F17","v":0},{"$f":"給与計算設定!F18","v":0},{"$f":"給与計算設定!F19","v":0},{"$f":"SUM(AJ12:AP12,AJ14:AP14)","v":0},null,null,null,{"$f":"給与計算設定!G13","v":0},{"$f":"給与計算設定!G14","v":0},{"$f":"給与計算設定!G15","v":0},{"$f":"給与計算設定!G16","v":0},{"$f":"給与計算設定!G17","v":0},{"$f":"給与計算設定!G18","v":0},{"$f":"給与計算設定!G19","v":0},{"$f":"SUM(AU12:BA12,AU14:BA14)","v":0},null,null,null,{"$f":"給与計算設定!H13","v":0},{"$f":"給与計算設定!H14","v":0},{"$f":"給与計算設定!H15","v":0},{"$f":"給与計算設定!H16","v":0},{"$f":"給与計算設定!H17","v":0},{"$f":"給与計算設定!H18","v":0},{"$f":"給与計算設定!H19","v":0},{"$f":"SUM(BF12:BL12,BF14:BL14)","v":0},null,null,null,{"$f":"給与計算設定!I13","v":0},{"$f":"給与計算設定!I14","v":0},{"$f":"給与計算設定!I15","v":0},{"$f":"給与計算設定!I16","v":0},{"$f":"給与計算設定!I17","v":0},{"$f":"給与計算設定!I18","v":0},{"$f":"給与計算設定!I19","v":0},{"$f":"SUM(BQ12:BW12,BQ14:BW14)","v":0},null,null,null,{"$f":"給与計算設定!J13","v":0},{"$f":"給与計算設定!J14","v":0},{"$f":"給与計算設定!J15","v":0},{"$f":"給与計算設定!J16","v":0},{"$f":"給与計算設定!J17","v":0},{"$f":"給与計算設定!J18","v":0},{"$f":"給与計算設定!J19","v":0},{"$f":"SUM(CB12:CH12,CB14:CH14)","v":0},null,null,null,{"$f":"給与計算設定!K13","v":0},{"$f":"給与計算設定!K14","v":0},{"$f":"給与計算設定!K15","v":0},{"$f":"給与計算設定!K16","v":0},{"$f":"給与計算設定!K17","v":0},{"$f":"給与計算設定!K18","v":0},{"$f":"給与計算設定!K19","v":0},{"$f":"SUM(CM12:CS12,CM14:CS14)","v":0},null,null,null,{"$f":"給与計算設定!L13","v":0},{"$f":"給与計算設定!L14","v":0},{"$f":"給与計算設定!L15","v":0},{"$f":"給与計算設定!L16","v":0},{"$f":"給与計算設定!L17","v":0},{"$f":"給与計算設定!L18","v":0},{"$f":"給与計算設定!L19","v":0},{"$f":"SUM(CX12:DD12,CX14:DD14)","v":0},null,null,null,{"$f":"給与計算設定!M13","v":0},{"$f":"給与計算設定!M14","v":0},{"$f":"給与計算設定!M15","v":0},{"$f":"給与計算設定!M16","v":0},{"$f":"給与計算設定!M17","v":0},{"$f":"給与計算設定!M18","v":0},{"$f":"給与計算設定!M19","v":0},{"$f":"SUM(DI12:DO12,DI14:DO14)","v":0},null,null,null,{"$f":"給与計算設定!N13","v":0},{"$f":"給与計算設定!N14","v":0},{"$f":"給与計算設定!N15","v":0},{"$f":"給与計算設定!N16","v":0},{"$f":"給与計算設定!N17","v":0},{"$f":"給与計算設定!N18","v":0},{"$f":"給与計算設定!N19","v":0},{"$f":"SUM(DT12:DZ12,DT14:DZ14)","v":0}]
[]
[null,"控除","健康保険料","介護保険料","厚生年金等","雇用保険料","所得税","住民税","年末調整","社会保険料合計",null,null,"控除","健康保険料","介護保険料","厚生年金等","雇用保険料","所得税","住民税","年末調整","社会保険料合計",null,null,"控除","健康保険料","介護保険料","厚生年金等","雇用保険料","所得税","住民税","年末調整","社会保険料合計",null,null,"控除","健康保険料","介護保険料","厚生年金等","雇用保険料","所得税","住民税","年末調整","社会保険料合計",null,null,"控除","健康保険料","介護保険料","厚生年金等","雇用保険料","所得税","住民税","年末調整","社会保険料合計",null,null,"控除","健康保険料","介護保険料","厚生年金等","雇用保険料","所得税","住民税","年末調整","社会保険料合計",null,null,"控除","健康保険料","介護保険料","厚生年金等","雇用保険料","所得税","住民税","年末調整","社会保険料合計",null,null,"控除","健康保険料","介護保険料","厚生年金等","雇用保険料","所得税","住民税","年末調整","社会保険料合計",null,null,"控除","健康保険料","介護保険料","厚生年金等","雇用保険料","所得税","住民税","年末調整","社会保険料合計",null,null,"控除","健康保険料","介護保険料","厚生年金等","雇用保険料","所得税","住民税","年末調整","社会保険料合計",null,null,"控除","健康保険料","介護保険料","厚生年金等","雇用保険料","所得税","住民税","年末調整","社会保険料合計",null,null,"控除","健康保険料","介護保険料","厚生年金等","雇用保険料","所得税","住民税","年末調整","社会保険料合計"]
[null,null,{"$f":"給与計算設定!C21","v":0},{"$f":"給与計算設定!C22","v":0},{"$f":"給与計算設定!C23","v":0},{"$f":"ROUND(給与計算設定!C24*給与明細!J14-0.01,0)","v":0},0,{"$f":"給与計算設定!C25","v":0},null,{"$f":"SUM(C17:F17)","v":0},null,null,null,{"$f":"給与計算設定!D21","v":0},{"$f":"給与計算設定!D22","v":0},{"$f":"給与計算設定!D23","v":0},{"$f":"ROUND(給与計算設定!D24*給与明細!U14-0.01,0)","v":0},0,{"$f":"給与計算設定!D25","v":0},null,{"$f":"SUM(N17:Q17)","v":0},null,null,null,{"$f":"給与計算設定!E21","v":0},{"$f":"給与計算設定!E22","v":0},{"$f":"給与計算設定!E23","v":0},{"$f":"ROUND(給与計算設定!E24*給与明細!AF14-0.01,0)","v":0},0,{"$f":"給与計算設定!E25","v":0},null,{"$f":"SUM(Y17:AB17)","v":0},null,null,null,{"$f":"給与計算設定!F21","v":0},{"$f":"給与計算設定!F22","v":0},{"$f":"給与計算設定!F23","v":0},{"$f":"ROUND(給与計算設定!F24*給与明細!AQ14-0.01,0)","v":0},0,{"$f":"給与計算設定!F25","v":0},null,{"$f":"SUM(AJ17:AM17)","v":0},null,null,null,{"$f":"給与計算設定!G21","v":0},{"$f":"給与計算設定!G22","v":0},{"$f":"給与計算設定!G23","v":0},{"$f":"ROUND(給与計算設定!G24*給与明細!BB14-0.01,0)","v":0},0,{"$f":"給与計算設定!G25","v":0},null,{"$f":"SUM(AU17:AX17)","v":0},null,null,null,{"$f":"給与計算設定!H21","v":0},{"$f":"給与計算設定!H22","v":0},{"$f":"給与計算設定!H23","v":0},{"$f":"ROUND(給与計算設定!H24*給与明細!BM14-0.01,0)","v":0},0,{"$f":"給与計算設定!H25","v":0},null,{"$f":"SUM(BF17:BI17)","v":0},null,null,null,{"$f":"給与計算設定!I21","v":0},{"$f":"給与計算設定!I22","v":0},{"$f":"給与計算設定!I23","v":0},{"$f":"ROUND(給与計算設定!I24*給与明細!BX14-0.01,0)","v":0},0,{"$f":"給与計算設定!I25","v":0},null,{"$f":"SUM(BQ17:BT17)","v":0},null,null,null,{"$f":"給与計算設定!J21","v":0},{"$f":"給与計算設定!J22","v":0},{"$f":"給与計算設定!J23","v":0},{"$f":"ROUND(給与計算設定!J24*給与明細!CI14-0.01,0)","v":0},0,{"$f":"給与計算設定!J25","v":0},null,{"$f":"SUM(CB17:CE17)","v":0},null,null,null,{"$f":"給与計算設定!K21","v":0},{"$f":"給与計算設定!K22","v":0},{"$f":"給与計算設定!K23","v":0},{"$f":"ROUND(給与計算設定!K24*給与明細!CT14-0.01,0)","v":0},0,{"$f":"給与計算設定!K25","v":0},null,{"$f":"SUM(CM17:CP17)","v":0},null,null,null,{"$f":"給与計算設定!L21","v":0},{"$f":"給与計算設定!L22","v":0},{"$f":"給与計算設定!L23","v":0},{"$f":"ROUND(給与計算設定!L24*給与明細!DE14-0.01,0)","v":0},0,{"$f":"給与計算設定!L25","v":0},null,{"$f":"SUM(CX17:DA17)","v":0},null,null,null,{"$f":"給与計算設定!M21","v":0},{"$f":"給与計算設定!M22","v":0},{"$f":"給与計算設定!M23","v":0},{"$f":"ROUND(給与計算設定!M24*給与明細!DP14-0.01,0)","v":0},0,{"$f":"給与計算設定!M25","v":0},null,{"$f":"SUM(DI17:DL17)","v":0},null,null,null,{"$f":"給与計算設定!N21","v":0},{"$f":"給与計算設定!N22","v":0},{"$f":"給与計算設定!N23","v":0},{"$f":"ROUND(給与計算設定!N24*給与明細!EA14-0.01,0)","v":0},0,{"$f":"給与計算設定!N25","v":0},null,{"$f":"SUM(DT17:DW17)","v":0}]
[null,null,{"$f":"給与計算設定!B26","v":0},{"$f":"給与計算設定!B27","v":0},{"$f":"給与計算設定!B28","v":0},{"$f":"給与計算設定!B29","v":0},{"$f":"給与計算設定!B30","v":0},{"$f":"給与計算設定!B31","v":0},{"$f":"給与計算設定!B32","v":0},"控除合計",null,null,null,{"$f":"C18","v":0},{"$f":"D18","v":0},0,0,0,0,0,"控除合計",null,null,null,{"$f":"N18","v":0},0,0,0,0,0,0,"控除合計",null,null,null,{"$f":"Y18","v":0},0,0,0,0,0,0,"控除合計",null,null,null,{"$f":"AJ18","v":0},0,0,0,0,0,0,"控除合計",null,null,null,{"$f":"AU18","v":0},0,0,0,0,0,0,"控除合計",null,null,null,{"$f":"BF18","v":0},0,0,0,0,0,0,"控除合計",null,null,null,{"$f":"BQ18","v":0},0,0,0,0,0,0,"控除合計",null,null,null,{"$f":"CB18","v":0},0,0,0,0,0,0,"控除合計",null,null,null,{"$f":"CM18","v":0},0,0,0,0,0,0,"控除合計",null,null,null,{"$f":"CX18","v":0},0,0,0,0,0,0,"控除合計",null,null,null,{"$f":"DI18","v":0},0,0,0,0,0,0,"控除合計"]
[null,null,{"$f":"給与計算設定!C26","v":0},{"$f":"給与計算設定!C27","v":0},{"$f":"給与計算設定!C28","v":0},{"$f":"給与計算設定!C29","v":0},{"$f":"給与計算設定!C30","v":0},{"$f":"給与計算設定!C31","v":0},{"$f":"給与計算設定!C32","v":0},{"$f":"SUM(C17:I17,C19:I19)","v":0},null,null,null,{"$f":"給与計算設定!D26","v":0},{"$f":"給与計算設定!D27","v":0},{"$f":"給与計算設定!D28","v":0},{"$f":"給与計算設定!D29","v":0},{"$f":"給与計算設定!D30","v":0},{"$f":"給与計算設定!D31","v":0},{"$f":"給与計算設定!D32","v":0},{"$f":"SUM(N17:T17,N19:T19)","v":0},null,null,null,{"$f":"給与計算設定!E26","v":0},{"$f":"給与計算設定!E27","v":0},{"$f":"給与計算設定!E28","v":0},{"$f":"給与計算設定!E29","v":0},{"$f":"給与計算設定!E30","v":0},{"$f":"給与計算設定!E31","v":0},{"$f":"給与計算設定!E32","v":0},{"$f":"SUM(Y17:AE17,Y19:AE19)","v":0},null,null,null,{"$f":"給与計算設定!F26","v":0},{"$f":"給与計算設定!F27","v":0},{"$f":"給与計算設定!F28","v":0},{"$f":"給与計算設定!F29","v":0},{"$f":"給与計算設定!F30","v":0},{"$f":"給与計算設定!F31","v":0},{"$f":"給与計算設定!F32","v":0},{"$f":"SUM(AJ17:AP17,AJ19:AP19)","v":0},null,null,null,{"$f":"給与計算設定!G26","v":0},{"$f":"給与計算設定!G27","v":0},{"$f":"給与計算設定!G28","v":0},{"$f":"給与計算設定!G29","v":0},{"$f":"給与計算設定!G30","v":0},{"$f":"給与計算設定!G31","v":0},{"$f":"給与計算設定!G32","v":0},{"$f":"SUM(AU17:BA17,AU19:BA19)","v":0},null,null,null,{"$f":"給与計算設定!H26","v":0},{"$f":"給与計算設定!H27","v":0},{"$f":"給与計算設定!H28","v":0},{"$f":"給与計算設定!H29","v":0},{"$f":"給与計算設定!H30","v":0},{"$f":"給与計算設定!H31","v":0},{"$f":"給与計算設定!H32","v":0},{"$f":"SUM(BF17:BL17,BF19:BL19)","v":0},null,null,null,{"$f":"給与計算設定!I26","v":0},{"$f":"給与計算設定!I27","v":0},{"$f":"給与計算設定!I28","v":0},{"$f":"給与計算設定!I29","v":0},{"$f":"給与計算設定!I30","v":0},{"$f":"給与計算設定!I31","v":0},{"$f":"給与計算設定!I32","v":0},{"$f":"SUM(BQ17:BW17,BQ19:BW19)","v":0},null,null,null,{"$f":"給与計算設定!J26","v":0},{"$f":"給与計算設定!J27","v":0},{"$f":"給与計算設定!J28","v":0},{"$f":"給与計算設定!J29","v":0},{"$f":"給与計算設定!J30","v":0},{"$f":"給与計算設定!J31","v":0},{"$f":"給与計算設定!J32","v":0},{"$f":"SUM(CB17:CH17,CB19:CH19)","v":0},null,null,null,{"$f":"給与計算設定!K26","v":0},{"$f":"給与計算設定!K27","v":0},{"$f":"給与計算設定!K28","v":0},{"$f":"給与計算設定!K29","v":0},{"$f":"給与計算設定!K30","v":0},{"$f":"給与計算設定!K31","v":0},{"$f":"給与計算設定!K32","v":0},{"$f":"SUM(CM17:CS17,CM19:CS19)","v":0},null,null,null,{"$f":"給与計算設定!L26","v":0},{"$f":"給与計算設定!L27","v":0},{"$f":"給与計算設定!L28","v":0},{"$f":"給与計算設定!L29","v":0},{"$f":"給与計算設定!L30","v":0},{"$f":"給与計算設定!L31","v":0},{"$f":"給与計算設定!L32","v":0},{"$f":"SUM(CX17:DD17,CX19:DD19)","v":0},null,null,null,{"$f":"給与計算設定!M26","v":0},{"$f":"給与計算設定!M27","v":0},{"$f":"給与計算設定!M28","v":0},{"$f":"給与計算設定!M29","v":0},{"$f":"給与計算設定!M30","v":0},{"$f":"給与計算設定!M31","v":0},{"$f":"給与計算設定!M32","v":0},{"$f":"SUM(DI17:DO17,DI19:DO19)","v":0},null,null,null,{"$f":"給与計算設定!N26","v":0},{"$f":"給与計算設定!N27","v":0},{"$f":"給与計算設定!N28","v":0},{"$f":"給与計算設定!N29","v":0},{"$f":"給与計算設定!N30","v":0},{"$f":"給与計算設定!N31","v":0},{"$f":"給与計算設定!N32","v":0},{"$f":"SUM(DT17:DZ17,DT19:DZ19)","v":0}]
[]
[null,"備考",null,null,null,null,null,null,null,"差引支給額",null,null,"備考",null,null,null,null,null,null,null,"差引支給額",null,null,"備考",null,null,null,null,null,null,null,"差引支給額",null,null,"備考",null,null,null,null,null,null,null,"差引支給額",null,null,"備考",null,null,null,null,null,null,null,"差引支給額",null,null,"備考",null,null,null,null,null,null,null,"差引支給額",null,null,"備考",null,null,null,null,null,null,null,"差引支給額",null,null,"備考",null,null,null,null,null,null,null,"差引支給額",null,null,"備考",null,null,null,null,null,null,null,"差引支給額",null,null,"備考",null,null,null,null,null,null,null,"差引支給額",null,null,"備考",null,null,null,null,null,null,null,"差引支給額",null,null,"備考",null,null,null,null,null,null,null,"差引支給額"]
[null,null,null,null,null,null,null,null,null,{"$f":"J14-J19","v":0},null,null,null,null,null,null,null,null,null,null,{"$f":"U14-U19","v":0},null,null,null,null,null,null,null,null,null,null,{"$f":"AF14-AF19","v":0},null,null,null,null,null,null,null,null,null,null,{"$f":"AQ14-AQ19","v":0},null,null,null,null,null,null,null,null,null,null,{"$f":"BB14-BB19","v":0},null,null,null,null,null,null,null,null,null,null,{"$f":"BM14-BM19","v":0},null,null,null,null,null,null,null,null,null,null,{"$f":"BX14-BX19","v":0},null,null,null,null,null,null,null,null,null,null,{"$f":"CI14-CI19","v":0},null,null,null,null,null,null,null,null,null,null,{"$f":"CT14-CT19","v":0},null,null,null,null,null,null,null,null,null,null,{"$f":"DE14-DE19","v":0},null,null,null,null,null,null,null,null,null,null,{"$f":"DP14-DP19","v":0},null,null,null,null,null,null,null,null,null,null,{"$f":"EA14-EA19","v":0}]
[]
[]
[null,{"$f":"B4","v":"年度１月給与"},null,null,null,null,null,null,null,{"$f":"J4","v":"年度　"},null,null,{"$f":"M4","v":"年度２月給与"},null,null,null,null,null,null,null,{"$f":"J25","v":"年度　"},null,null,{"$f":"X4","v":"年度３月給与"},null,null,null,null,null,null,null,{"$f":"U25","v":"年度　"},null,null,{"$f":"AI4","v":"年度４月給与"},null,null,null,null,null,null,null,{"$f":"AF25","v":"年度　"},null,null,{"$f":"AT4","v":"年度５月給与"},null,null,null,null,null,null,null,{"$f":"AQ25","v":"年度　"},null,null,{"$f":"BE4","v":"年度６月給与"},null,null,null,null,null,null,null,{"$f":"BB25","v":"年度　"},null,null,{"$f":"BP4","v":"年度７月給与"},null,null,null,null,null,null,null,{"$f":"BM25","v":"年度　"},null,null,{"$f":"給与計算設定!$E$2&給与計算設定!$F$2&\"８月給与\"","v":"年度８月給与"},null,null,null,null,null,null,null,{"$f":"BX25","v":"年度　"},null,null,{"$f":"給与計算設定!$E$2&給与計算設定!$F$2&\"９月給与\"","v":"年度９月給与"},null,null,null,null,null,null,null,{"$f":"CI25","v":"年度　"},null,null,{"$f":"給与計算設定!$E$2&給与計算設定!$F$2&\"１０月給与\"","v":"年度１０月給与"},null,null,null,null,null,null,null,{"$f":"CT25","v":"年度　"},null,null,{"$f":"給与計算設定!$E$2&給与計算設定!$F$2&\"１１月給与\"","v":"年度１１月給与"},null,null,null,null,null,null,null,{"$f":"DE25","v":"年度　"},null,null,{"$f":"給与計算設定!$E$2&給与計算設定!$F$2&\"１２月給与\"","v":"年度１２月給与"},null,null,null,null,null,null,null,{"$f":"DP25","v":"年度　"}]
[]
[2,"氏名",{"$f":"給与計算設定!B37","v":0},null,null,null,null,null,null,null,null,2,"氏名",{"$f":"C27","v":0},null,null,null,null,null,null,null,null,2,"氏名",{"$f":"N27","v":0},null,null,null,null,null,null,null,null,2,"氏名",{"$f":"Y27","v":0},null,null,null,null,null,null,null,null,2,"氏名",{"$f":"AJ27","v":0},null,null,{"$f":"AX4","v":0},null,null,null,{"$f":"AQ27","v":0},null,2,"氏名",{"$f":"AU27","v":0},null,null,{"$f":"BI4","v":0},null,null,null,{"$f":"BB27","v":0},null,2,"氏名",{"$f":"BF27","v":0},null,null,{"$f":"BT4","v":0},null,null,null,{"$f":"BM27","v":0},null,2,"氏名",{"$f":"BQ27","v":0},null,null,null,null,null,null,null,null,2,"氏名",{"$f":"CB27","v":0},null,null,null,null,null,null,null,null,2,"氏名",{"$f":"CM27","v":0},null,null,null,null,null,null,null,null,2,"氏名",{"$f":"CX27","v":0},null,null,null,null,null,null,null,null,2,"氏名",{"$f":"DI27","v":0},null,null,null,null,null,null,null,null,2]
[]
[null,"勤怠","労働時間","普通残業時間","深夜労働時間","休日労働時間","出勤日数","欠勤日数","有休日数","有休残日数",null,null,"勤怠","労働時間","普通残業時間","深夜労働時間","休日労働時間","出勤日数","欠勤日数","有休日数","有休残日数",null,null,"勤怠","労働時間","普通残業時間","深夜労働時間","休日労働時間","出勤日数","欠勤日数","有休日数","有休残日数",null,null,"勤怠","労働時間","普通残業時間","深夜労働時間","休日労働時間","出勤日数","欠勤日数","有休日数","有休残日数",null,null,"勤怠","労働時間","普通残業時間","深夜労働時間","休日労働時間","出勤日数","欠勤日数","有休日数","有休残日数",null,null,"勤怠","労働時間","普通残業時間","深夜労働時間","休日労働時間","出勤日数","欠勤日数","有休日数","有休残日数",null,null,"勤怠","労働時間","普通残業時間","深夜労働時間","休日労働時間","出勤日数","欠勤日数","有休日数","有休残日数",null,null,"勤怠","労働時間","普通残業時間","深夜労働時間","休日労働時間","出勤日数","欠勤日数","有休日数","有休残日数",null,null,"勤怠","労働時間","普通残業時間","深夜労働時間","休日労働時間","出勤日数","欠勤日数","有休日数","有休残日数",null,null,"勤怠","労働時間","普通残業時間","深夜労働時間","休日労働時間","出勤日数","欠勤日数","有休日数","有休残日数",null,null,"勤怠","労働時間","普通残業時間","深夜労働時間","休日労働時間","出勤日数","欠勤日数","有休日数","有休残日数",null,null,"勤怠","労働時間","普通残業時間","深夜労働時間","休日労働時間","出勤日数","欠勤日数","有休日数","有休残日数"]
[]
[]
[null,"支給","基本給","時間外手当","深夜手当","休日手当",{"$f":"給与計算設定!B43","v":"通勤手当"},{"$f":"給与計算設定!B44","v":0},{"$f":"給与計算設定!B45","v":0},"課税対象額",null,null,"支給","基本給","時間外手当","深夜手当","休日手当",{"$f":"G32","v":"通勤手当"},{"$f":"H32","v":0},{"$f":"I32","v":0},"課税対象額",null,null,"支給","基本給","時間外手当","深夜手当","休日手当",{"$f":"R32","v":"通勤手当"},{"$f":"S32","v":0},{"$f":"T32","v":0},"課税対象額",null,null,"支給","基本給","時間外手当","深夜手当","休日手当",{"$f":"AC32","v":"通勤手当"},{"$f":"AD32","v":0},{"$f":"AE32","v":0},"課税対象額",null,null,"支給","基本給","時間外手当","深夜手当","休日手当",{"$f":"AN32","v":"通勤手当"},{"$f":"AO32","v":0},{"$f":"AP32","v":0},"課税対象額",null,null,"支給","基本給","時間外手当","深夜手当","休日手当",{"$f":"AY32","v":"通勤手当"},{"$f":"AZ32","v":0},{"$f":"BA32","v":0},"課税対象額",null,null,"支給","基本給","時間外手当","深夜手当","休日手当",{"$f":"BJ32","v":"通勤手当"},{"$f":"BK32","v":0},{"$f":"BL32","v":0},"課税対象額",null,null,"支給","基本給","時間外手当","深夜手当","休日手当",{"$f":"BU32","v":"通勤手当"},{"$f":"BV32","v":0},{"$f":"BW32","v":0},"課税対象額",null,null,"支給","基本給","時間外手当","深夜手当","休日手当",{"$f":"CF32","v":"通勤手当"},{"$f":"CG32","v":0},{"$f":"CH32","v":0},"課税対象額",null,null,"支給","基本給","時間外手当","深夜手当","休日手当",{"$f":"CQ32","v":"通勤手当"},{"$f":"CR32","v":0},{"$f":"CS32","v":0},"課税対象額",null,null,"支給","基本給","時間外手当","深夜手当","休日手当",{"$f":"DB32","v":"通勤手当"},{"$f":"DC32","v":0},{"$f":"DD32","v":0},"課税対象額",null,null,"支給","基本給","時間外手当","深夜手当","休日手当",{"$f":"DM32","v":"通勤手当"},{"$f":"DN32","v":0},{"$f":"DO32","v":0},"課税対象額"]
[null,null,{"$f":"IF(給与計算設定!C38<>\"\",給与計算設定!C38,ROUND(給与計算設定!C39*給与明細!C30,0))","v":0},{"$f":"ROUND(給与計算設定!C40*給与明細!D30,0)","v":0},{"$f":"ROUND(給与計算設定!C41*給与明細!E30,0)","v":0},{"$f":"ROUND(給与計算設定!C42*給与明細!F30,0)","v":0},{"$f":"給与計算設定!C43","v":0},{"$f":"給与計算設定!C44","v":0},{"$f":"給与計算設定!C45","v":0},{"$f":"J35-J38-G33","v":0},null,null,null,{"$f":"IF(給与計算設定!D38<>\"\",給与計算設定!D38,ROUND(給与計算設定!D39*給与明細!N30,0))","v":0},{"$f":"ROUND(給与計算設定!D40*給与明細!O30,0)","v":0},{"$f":"ROUND(給与計算設定!D41*給与明細!P30,0)","v":0},{"$f":"ROUND(給与計算設定!D42*給与明細!Q30,0)","v":0},{"$f":"給与計算設定!D43","v":0},{"$f":"給与計算設定!D44","v":0},{"$f":"給与計算設定!D45","v":0},{"$f":"U35-U38-R33","v":0},null,null,null,{"$f":"IF(給与計算設定!E38<>\"\",給与計算設定!E38,ROUND(給与計算設定!E39*給与明細!Y30,0))","v":0},{"$f":"ROUND(給与計算設定!E40*給与明細!Z30,0)","v":0},{"$f":"ROUND(給与計算設定!E41*給与明細!AA30,0)","v":0},{"$f":"ROUND(給与計算設定!E42*給与明細!AB30,0)","v":0},{"$f":"給与計算設定!E43","v":0},{"$f":"給与計算設定!E44","v":0},{"$f":"給与計算設定!E45","v":0},{"$f":"AF35-AF38-AC33","v":0},null,null,null,{"$f":"IF(給与計算設定!F38<>\"\",給与計算設定!F38,ROUND(給与計算設定!F39*給与明細!AJ30,0))","v":0},{"$f":"ROUND(給与計算設定!F40*給与明細!AK30,0)","v":0},{"$f":"ROUND(給与計算設定!F41*給与明細!AL30,0)","v":0},{"$f":"ROUND(給与計算設定!F42*給与明細!AM30,0)","v":0},{"$f":"給与計算設定!F43","v":0},{"$f":"給与計算設定!F44","v":0},{"$f":"給与計算設定!F45","v":0},{"$f":"AQ35-AQ38-AN33","v":0},null,null,null,{"$f":"IF(給与計算設定!G38<>\"\",給与計算設定!G38,ROUND(給与計算設定!G39*給与明細!AU30,0))","v":0},{"$f":"ROUND(給与計算設定!G40*給与明細!AV30,0)","v":0},{"$f":"ROUND(給与計算設定!G41*給与明細!AW30,0)","v":0},{"$f":"ROUND(給与計算設定!G42*給与明細!AX30,0)","v":0},{"$f":"給与計算設定!G43","v":0},{"$f":"給与計算設定!G44","v":0},{"$f":"給与計算設定!G45","v":0},{"$f":"BB35-BB38-AY33","v":0},null,null,null,{"$f":"IF(給与計算設定!H38<>\"\",給与計算設定!H38,ROUND(給与計算設定!H39*給与明細!BF30,0))","v":0},{"$f":"ROUND(給与計算設定!H40*給与明細!BG30,0)","v":0},{"$f":"ROUND(給与計算設定!H41*給与明細!BH30,0)","v":0},{"$f":"ROUND(給与計算設定!H42*給与明細!BH30,0)","v":0},{"$f":"給与計算設定!H43","v":0},{"$f":"給与計算設定!H44","v":0},{"$f":"給与計算設定!H45","v":0},{"$f":"BM35-BM38-BJ33","v":0},null,null,null,{"$f":"IF(給与計算設定!I38<>\"\",給与計算設定!I38,ROUND(給与計算設定!I39*給与明細!BQ30,0))","v":0},{"$f":"ROUND(給与計算設定!I40*給与明細!BR30,0)","v":0},{"$f":"ROUND(給与計算設定!I41*給与明細!BS30,0)","v":0},{"$f":"ROUND(給与計算設定!I42*給与明細!BT30,0)","v":0},{"$f":"給与計算設定!I43","v":0},{"$f":"給与計算設定!I44","v":0},{"$f":"給与計算設定!I45","v":0},{"$f":"BX35-BX38-BU33","v":0},null,null,null,{"$f":"IF(給与計算設定!J38<>\"\",給与計算設定!J38,ROUND(給与計算設定!J39*給与明細!CB30,0))","v":0},{"$f":"ROUND(給与計算設定!J40*給与明細!CC30,0)","v":0},{"$f":"ROUND(給与計算設定!J41*給与明細!CD30,0)","v":0},{"$f":"ROUND(給与計算設定!J42*給与明細!CE30,0)","v":0},{"$f":"給与計算設定!J43","v":0},{"$f":"給与計算設定!J44","v":0},{"$f":"給与計算設定!J45","v":0},{"$f":"CI35-CI38-CF33","v":0},null,null,null,{"$f":"IF(給与計算設定!K38<>\"\",給与計算設定!K38,ROUND(給与計算設定!K39*給与明細!CM30,0))","v":0},{"$f":"ROUND(給与計算設定!K40*給与明細!CN30,0)","v":0},{"$f":"ROUND(給与計算設定!K41*給与明細!CO30,0)","v":0},{"$f":"ROUND(給与計算設定!K42*給与明細!CP30,0)","v":0},{"$f":"給与計算設定!K43","v":0},{"$f":"給与計算設定!K44","v":0},{"$f":"給与計算設定!K45","v":0},{"$f":"CT35-CT38-CQ33","v":0},null,null,null,{"$f":"IF(給与計算設定!L38<>\"\",給与計算設定!L38,ROUND(給与計算設定!L39*給与明細!CX30,0))","v":0},{"$f":"ROUND(給与計算設定!L40*給与明細!CY30,0)","v":0},{"$f":"ROUND(給与計算設定!L41*給与明細!CZ30,0)","v":0},{"$f":"ROUND(給与計算設定!L42*給与明細!DA30,0)","v":0},{"$f":"給与計算設定!L43","v":0},{"$f":"給与計算設定!L44","v":0},{"$f":"給与計算設定!L45","v":0},{"$f":"DE35-DE38-DB33","v":0},null,null,null,{"$f":"IF(給与計算設定!M38<>\"\",給与計算設定!M38,ROUND(給与計算設定!M39*給与明細!DI30,0))","v":0},{"$f":"ROUND(給与計算設定!M40*給与明細!DJ30,0)","v":0},{"$f":"ROUND(給与計算設定!M41*給与明細!DK30,0)","v":0},{"$f":"ROUND(給与計算設定!M42*給与明細!DL30,0)","v":0},{"$f":"給与計算設定!M43","v":0},{"$f":"給与計算設定!M44","v":0},{"$f":"給与計算設定!M45","v":0},{"$f":"DP35-DP38-DM33","v":0},null,null,null,{"$f":"IF(給与計算設定!N38<>\"\",給与計算設定!N38,ROUND(給与計算設定!N39*給与明細!DT30,0))","v":0},{"$f":"ROUND(給与計算設定!N40*給与明細!DU30,0)","v":0},{"$f":"ROUND(給与計算設定!N41*給与明細!DV30,0)","v":0},{"$f":"ROUND(給与計算設定!N42*給与明細!DW30,0)","v":0},{"$f":"給与計算設定!N43","v":0},{"$f":"給与計算設定!N44","v":0},{"$f":"給与計算設定!N45","v":0},{"$f":"EA35-EA38-DX33","v":0}]
[null,null,{"$f":"給与計算設定!B46","v":0},{"$f":"給与計算設定!B47","v":0},{"$f":"給与計算設定!B48","v":0},{"$f":"給与計算設定!B49","v":0},{"$f":"給与計算設定!B50","v":0},{"$f":"給与計算設定!B51","v":0},{"$f":"給与計算設定!B52","v":0},"支給合計",null,null,null,{"$f":"C34","v":0},0,0,0,0,0,0,"支給合計",null,null,null,{"$f":"N34","v":0},0,0,0,0,0,0,"支給合計",null,null,null,{"$f":"Y34","v":0},0,0,0,0,0,0,"支給合計",null,null,null,{"$f":"AJ34","v":0},0,0,0,0,0,0,"支給合計",null,null,null,{"$f":"AU34","v":0},0,0,0,0,0,0,"支給合計",null,null,null,{"$f":"BF34","v":0},0,0,0,0,0,0,"支給合計",null,null,null,{"$f":"BQ34","v":0},0,0,0,0,0,0,"支給合計",null,null,null,{"$f":"CB34","v":0},0,0,0,0,0,0,"支給合計",null,null,null,{"$f":"CM34","v":0},0,0,0,0,0,0,"支給合計",null,null,null,{"$f":"CX34","v":0},0,0,0,0,0,0,"支給合計",null,null,null,{"$f":"DI34","v":0},0,0,0,0,0,0,"支給合計"]
[null,null,{"$f":"給与計算設定!C46","v":0},{"$f":"給与計算設定!C47","v":0},{"$f":"給与計算設定!C48","v":0},{"$f":"給与計算設定!C49","v":0},{"$f":"給与計算設定!C50","v":0},{"$f":"給与計算設定!C51","v":0},{"$f":"給与計算設定!C52","v":0},{"$f":"SUM(C33:I33,C35:I35)","v":0},null,null,null,{"$f":"給与計算設定!D46","v":0},{"$f":"給与計算設定!D47","v":0},{"$f":"給与計算設定!D48","v":0},{"$f":"給与計算設定!D49","v":0},{"$f":"給与計算設定!D50","v":0},{"$f":"給与計算設定!D51","v":0},{"$f":"給与計算設定!D52","v":0},{"$f":"SUM(N33:T33,N35:T35)","v":0},null,null,null,{"$f":"給与計算設定!E46","v":0},{"$f":"給与計算設定!E47","v":0},{"$f":"給与計算設定!E48","v":0},{"$f":"給与計算設定!E49","v":0},{"$f":"給与計算設定!E50","v":0},{"$f":"給与計算設定!E51","v":0},{"$f":"給与計算設定!E52","v":0},{"$f":"SUM(Y33:AE33,Y35:AE35)","v":0},null,null,null,{"$f":"給与計算設定!F46","v":0},{"$f":"給与計算設定!F47","v":0},{"$f":"給与計算設定!F48","v":0},{"$f":"給与計算設定!F49","v":0},{"$f":"給与計算設定!F50","v":0},{"$f":"給与計算設定!F51","v":0},{"$f":"給与計算設定!F52","v":0},{"$f":"SUM(AJ33:AP33,AJ35:AP35)","v":0},null,null,null,{"$f":"給与計算設定!G46","v":0},{"$f":"給与計算設定!G47","v":0},{"$f":"給与計算設定!G48","v":0},{"$f":"給与計算設定!G49","v":0},{"$f":"給与計算設定!G50","v":0},{"$f":"給与計算設定!G51","v":0},{"$f":"給与計算設定!G52","v":0},{"$f":"SUM(AU33:BA33,AU35:BA35)","v":0},null,null,null,{"$f":"給与計算設定!H46","v":0},{"$f":"給与計算設定!H47","v":0},{"$f":"給与計算設定!H48","v":0},{"$f":"給与計算設定!H49","v":0},{"$f":"給与計算設定!H50","v":0},{"$f":"給与計算設定!H51","v":0},{"$f":"給与計算設定!H52","v":0},{"$f":"SUM(BF33:BL33,BF35:BL35)","v":0},null,null,null,{"$f":"給与計算設定!I46","v":0},{"$f":"給与計算設定!I47","v":0},{"$f":"給与計算設定!I48","v":0},{"$f":"給与計算設定!I49","v":0},{"$f":"給与計算設定!I50","v":0},{"$f":"給与計算設定!I51","v":0},{"$f":"給与計算設定!I52","v":0},{"$f":"SUM(BQ33:BW33,BQ35:BW35)","v":0},null,null,null,{"$f":"給与計算設定!J46","v":0},{"$f":"給与計算設定!J47","v":0},{"$f":"給与計算設定!J48","v":0},{"$f":"給与計算設定!J49","v":0},{"$f":"給与計算設定!J50","v":0},{"$f":"給与計算設定!J51","v":0},{"$f":"給与計算設定!J52","v":0},{"$f":"SUM(CB33:CH33,CB35:CH35)","v":0},null,null,null,{"$f":"給与計算設定!K46","v":0},{"$f":"給与計算設定!K47","v":0},{"$f":"給与計算設定!K48","v":0},{"$f":"給与計算設定!K49","v":0},{"$f":"給与計算設定!K50","v":0},{"$f":"給与計算設定!K51","v":0},{"$f":"給与計算設定!K52","v":0},{"$f":"SUM(CM33:CS33,CM35:CS35)","v":0},null,null,null,{"$f":"給与計算設定!L46","v":0},{"$f":"給与計算設定!L47","v":0},{"$f":"給与計算設定!L48","v":0},{"$f":"給与計算設定!L49","v":0},{"$f":"給与計算設定!L50","v":0},{"$f":"給与計算設定!L51","v":0},{"$f":"給与計算設定!L52","v":0},{"$f":"SUM(CX33:DD33,CX35:DD35)","v":0},null,null,null,{"$f":"給与計算設定!M46","v":0},{"$f":"給与計算設定!M47","v":0},{"$f":"給与計算設定!M48","v":0},{"$f":"給与計算設定!M49","v":0},{"$f":"給与計算設定!M50","v":0},{"$f":"給与計算設定!M51","v":0},{"$f":"給与計算設定!M52","v":0},{"$f":"SUM(DI33:DO33,DI35:DO35)","v":0},null,null,null,{"$f":"給与計算設定!N46","v":0},{"$f":"給与計算設定!N47","v":0},{"$f":"給与計算設定!N48","v":0},{"$f":"給与計算設定!N49","v":0},{"$f":"給与計算設定!N50","v":0},{"$f":"給与計算設定!N51","v":0},{"$f":"給与計算設定!N52","v":0},{"$f":"SUM(DT33:DZ33,DT35:DZ35)","v":0}]
[]
[null,"控除","健康保険料","介護保険料","厚生年金等","雇用保険料","所得税","住民税","年末調整","社会保険料合計",null,null,"控除","健康保険料","介護保険料","厚生年金等","雇用保険料","所得税","住民税","年末調整","社会保険料合計",null,null,"控除","健康保険料","介護保険料","厚生年金等","雇用保険料","所得税","住民税","年末調整","社会保険料合計",null,null,"控除","健康保険料","介護保険料","厚生年金等","雇用保険料","所得税","住民税","年末調整","社会保険料合計",null,null,"控除","健康保険料","介護保険料","厚生年金等","雇用保険料","所得税","住民税","年末調整","社会保険料合計",null,null,"控除","健康保険料","介護保険料","厚生年金等","雇用保険料","所得税","住民税","年末調整","社会保険料合計",null,null,"控除","健康保険料","介護保険料","厚生年金等","雇用保険料","所得税","住民税","年末調整","社会保険料合計",null,null,"控除","健康保険料","介護保険料","厚生年金等","雇用保険料","所得税","住民税","年末調整","社会保険料合計",null,null,"控除","健康保険料","介護保険料","厚生年金等","雇用保険料","所得税","住民税","年末調整","社会保険料合計",null,null,"控除","健康保険料","介護保険料","厚生年金等","雇用保険料","所得税","住民税","年末調整","社会保険料合計",null,null,"控除","健康保険料","介護保険料","厚生年金等","雇用保険料","所得税","住民税","年末調整","社会保険料合計",null,null,"控除","健康保険料","介護保険料","厚生年金等","雇用保険料","所得税","住民税","年末調整","社会保険料合計"]
[null,null,{"$f":"給与計算設定!C54","v":0},{"$f":"給与計算設定!C55","v":0},{"$f":"給与計算設定!C56","v":0},{"$f":"ROUND(給与計算設定!C57*給与明細!J35-0.01,0)","v":0},0,{"$f":"給与計算設定!C58","v":0},null,{"$f":"SUM(C38:F38)","v":0},null,null,null,{"$f":"給与計算設定!D54","v":0},{"$f":"給与計算設定!D55","v":0},{"$f":"給与計算設定!D56","v":0},{"$f":"ROUND(給与計算設定!D57*給与明細!U35-0.01,0)","v":0},0,{"$f":"給与計算設定!D58","v":0},null,{"$f":"SUM(N38:Q38)","v":0},null,null,null,{"$f":"給与計算設定!E54","v":0},{"$f":"給与計算設定!E55","v":0},{"$f":"給与計算設定!E56","v":0},{"$f":"ROUND(給与計算設定!E57*給与明細!AF35-0.01,0)","v":0},0,{"$f":"給与計算設定!E58","v":0},null,{"$f":"SUM(Y38:AB38)","v":0},null,null,null,{"$f":"給与計算設定!F54","v":0},{"$f":"給与計算設定!F55","v":0},{"$f":"給与計算設定!F56","v":0},{"$f":"ROUND(給与計算設定!F57*給与明細!AQ35-0.01,0)","v":0},0,{"$f":"給与計算設定!F58","v":0},null,{"$f":"SUM(AJ38:AM38)","v":0},null,null,null,{"$f":"給与計算設定!G54","v":0},{"$f":"給与計算設定!G55","v":0},{"$f":"給与計算設定!G56","v":0},{"$f":"ROUND(給与計算設定!G57*給与明細!BB35-0.01,0)","v":0},0,{"$f":"給与計算設定!G58","v":0},null,{"$f":"SUM(AU38:AX38)","v":0},null,null,null,{"$f":"給与計算設定!H54","v":0},{"$f":"給与計算設定!H55","v":0},{"$f":"給与計算設定!H56","v":0},{"$f":"ROUND(給与計算設定!H57*給与明細!BM35-0.01,0)","v":0},0,{"$f":"給与計算設定!H58","v":0},null,{"$f":"SUM(BF38:BI38)","v":0},null,null,null,{"$f":"給与計算設定!I54","v":0},{"$f":"給与計算設定!I55","v":0},{"$f":"給与計算設定!I56","v":0},{"$f":"ROUND(給与計算設定!I57*給与明細!BX35-0.01,0)","v":0},0,{"$f":"給与計算設定!I58","v":0},null,{"$f":"SUM(BQ38:BT38)","v":0},null,null,null,{"$f":"給与計算設定!J54","v":0},{"$f":"給与計算設定!J55","v":0},{"$f":"給与計算設定!J56","v":0},{"$f":"ROUND(給与計算設定!J57*給与明細!CI35-0.01,0)","v":0},0,{"$f":"給与計算設定!J58","v":0},null,{"$f":"SUM(CB38:CE38)","v":0},null,null,null,{"$f":"給与計算設定!K54","v":0},{"$f":"給与計算設定!K55","v":0},{"$f":"給与計算設定!K56","v":0},{"$f":"ROUND(給与計算設定!K57*給与明細!CT35-0.01,0)","v":0},0,{"$f":"給与計算設定!K58","v":0},null,{"$f":"SUM(CM38:CP38)","v":0},null,null,null,{"$f":"給与計算設定!L54","v":0},{"$f":"給与計算設定!L55","v":0},{"$f":"給与計算設定!L56","v":0},{"$f":"ROUND(給与計算設定!L57*給与明細!DE35-0.01,0)","v":0},0,{"$f":"給与計算設定!L58","v":0},null,{"$f":"SUM(CX38:DA38)","v":0},null,null,null,{"$f":"給与計算設定!M54","v":0},{"$f":"給与計算設定!M55","v":0},{"$f":"給与計算設定!M56","v":0},{"$f":"ROUND(給与計算設定!M57*給与明細!DP35-0.01,0)","v":0},0,{"$f":"給与計算設定!M58","v":0},null,{"$f":"SUM(DI38:DL38)","v":0},null,null,null,{"$f":"給与計算設定!N54","v":0},{"$f":"給与計算設定!N55","v":0},{"$f":"給与計算設定!N56","v":0},{"$f":"ROUND(給与計算設定!N57*給与明細!EA35-0.01,0)","v":0},0,{"$f":"給与計算設定!N58","v":0},null,{"$f":"SUM(DT38:DW38)","v":0}]
[null,null,{"$f":"給与計算設定!B59","v":0},{"$f":"給与計算設定!B60","v":0},{"$f":"給与計算設定!B61","v":0},{"$f":"給与計算設定!B62","v":0},{"$f":"給与計算設定!B63","v":0},{"$f":"給与計算設定!B64","v":0},{"$f":"給与計算設定!B65","v":0},"控除合計",null,null,null,{"$f":"C39","v":0},0,0,0,0,0,0,"控除合計",null,null,null,{"$f":"N39","v":0},0,0,0,0,0,0,"控除合計",null,null,null,{"$f":"Y39","v":0},0,0,0,0,0,0,"控除合計",null,null,null,{"$f":"AJ39","v":0},0,0,0,0,0,0,"控除合計",null,null,null,{"$f":"AU39","v":0},0,0,0,0,0,0,"控除合計",null,null,null,{"$f":"BF39","v":0},0,0,0,0,0,0,"控除合計",null,null,null,{"$f":"BQ39","v":0},0,0,0,0,0,0,"控除合計",null,null,null,{"$f":"CB39","v":0},0,0,0,0,0,0,"控除合計",null,null,null,{"$f":"CM39","v":0},0,0,0,0,0,0,"控除合計",null,null,null,{"$f":"CX39","v":0},0,0,0,0,0,0,"控除合計",null,null,null,{"$f":"DI39","v":0},0,0,0,0,0,0,"控除合計"]
[null,null,{"$f":"給与計算設定!C59","v":0},{"$f":"給与計算設定!C60","v":0},{"$f":"給与計算設定!C61","v":0},{"$f":"給与計算設定!C62","v":0},{"$f":"給与計算設定!C63","v":0},{"$f":"給与計算設定!C64","v":0},{"$f":"給与計算設定!C65","v":0},{"$f":"SUM(C38:I38,C40:I40)","v":0},null,null,null,{"$f":"給与計算設定!D59","v":0},{"$f":"給与計算設定!D60","v":0},{"$f":"給与計算設定!D61","v":0},{"$f":"給与計算設定!D62","v":0},{"$f":"給与計算設定!D63","v":0},{"$f":"給与計算設定!D64","v":0},{"$f":"給与計算設定!D65","v":0},{"$f":"SUM(N38:T38,N40:T40)","v":0},null,null,null,{"$f":"給与計算設定!E59","v":0},{"$f":"給与計算設定!E60","v":0},{"$f":"給与計算設定!E61","v":0},{"$f":"給与計算設定!E62","v":0},{"$f":"給与計算設定!E63","v":0},{"$f":"給与計算設定!E64","v":0},{"$f":"給与計算設定!E65","v":0},{"$f":"SUM(Y38:AE38,Y40:AE40)","v":0},null,null,null,{"$f":"給与計算設定!F59","v":0},{"$f":"給与計算設定!F60","v":0},{"$f":"給与計算設定!F61","v":0},{"$f":"給与計算設定!F62","v":0},{"$f":"給与計算設定!F63","v":0},{"$f":"給与計算設定!F64","v":0},{"$f":"給与計算設定!F65","v":0},{"$f":"SUM(AJ38:AP38,AJ40:AP40)","v":0},null,null,null,{"$f":"給与計算設定!G59","v":0},{"$f":"給与計算設定!G60","v":0},{"$f":"給与計算設定!G61","v":0},{"$f":"給与計算設定!G62","v":0},{"$f":"給与計算設定!G63","v":0},{"$f":"給与計算設定!G64","v":0},{"$f":"給与計算設定!G65","v":0},{"$f":"SUM(AU38:BA38,AU40:BA40)","v":0},null,null,null,{"$f":"給与計算設定!H59","v":0},{"$f":"給与計算設定!H60","v":0},{"$f":"給与計算設定!H61","v":0},{"$f":"給与計算設定!H62","v":0},{"$f":"給与計算設定!H63","v":0},{"$f":"給与計算設定!H64","v":0},{"$f":"給与計算設定!H65","v":0},{"$f":"SUM(BF38:BL38,BF40:BL40)","v":0},null,null,null,{"$f":"給与計算設定!I59","v":0},{"$f":"給与計算設定!I60","v":0},{"$f":"給与計算設定!I61","v":0},{"$f":"給与計算設定!I62","v":0},{"$f":"給与計算設定!I63","v":0},{"$f":"給与計算設定!I64","v":0},{"$f":"給与計算設定!I65","v":0},{"$f":"SUM(BQ38:BW38,BQ40:BW40)","v":0},null,null,null,{"$f":"給与計算設定!J59","v":0},{"$f":"給与計算設定!J60","v":0},{"$f":"給与計算設定!J61","v":0},{"$f":"給与計算設定!J62","v":0},{"$f":"給与計算設定!J63","v":0},{"$f":"給与計算設定!J64","v":0},{"$f":"給与計算設定!J65","v":0},{"$f":"SUM(CB38:CH38,CB40:CH40)","v":0},null,null,null,{"$f":"給与計算設定!K59","v":0},{"$f":"給与計算設定!K60","v":0},{"$f":"給与計算設定!K61","v":0},{"$f":"給与計算設定!K62","v":0},{"$f":"給与計算設定!K63","v":0},{"$f":"給与計算設定!K64","v":0},{"$f":"給与計算設定!K65","v":0},{"$f":"SUM(CM38:CS38,CM40:CS40)","v":0},null,null,null,{"$f":"給与計算設定!L59","v":0},{"$f":"給与計算設定!L60","v":0},{"$f":"給与計算設定!L61","v":0},{"$f":"給与計算設定!L62","v":0},{"$f":"給与計算設定!L63","v":0},{"$f":"給与計算設定!L64","v":0},{"$f":"給与計算設定!L65","v":0},{"$f":"SUM(CX38:DD38,CX40:DD40)","v":0},null,null,null,{"$f":"給与計算設定!M59","v":0},{"$f":"給与計算設定!M60","v":0},{"$f":"給与計算設定!M61","v":0},{"$f":"給与計算設定!M62","v":0},{"$f":"給与計算設定!M63","v":0},{"$f":"給与計算設定!M64","v":0},{"$f":"給与計算設定!M65","v":0},{"$f":"SUM(DI38:DO38,DI40:DO40)","v":0},null,null,null,{"$f":"給与計算設定!N59","v":0},{"$f":"給与計算設定!N60","v":0},{"$f":"給与計算設定!N61","v":0},{"$f":"給与計算設定!N62","v":0},{"$f":"給与計算設定!N63","v":0},{"$f":"給与計算設定!N64","v":0},{"$f":"給与計算設定!N65","v":0},{"$f":"SUM(DT38:DZ38,DT40:DZ40)","v":0}]
[]
[null,"備考",null,null,null,null,null,null,null,"差引支給額",null,null,"備考",null,null,null,null,null,null,null,"差引支給額",null,null,"備考",null,null,null,null,null,null,null,"差引支給額",null,null,"備考",null,null,null,null,null,null,null,"差引支給額",null,null,"備考",null,null,null,null,null,null,null,"差引支給額",null,null,"備考",null,null,null,null,null,null,null,"差引支給額",null,null,"備考",null,null,null,null,null,null,null,"差引支給額",null,null,"備考",null,null,null,null,null,null,null,"差引支給額",null,null,"備考",null,null,null,null,null,null,null,"差引支給額",null,null,"備考",null,null,null,null,null,null,null,"差引支給額",null,null,"備考",null,null,null,null,null,null,null,"差引支給額",null,null,"備考",null,null,null,null,null,null,null,"差引支給額"]
[null,null,null,null,null,null,null,null,null,{"$f":"J35-J40","v":0},null,null,null,null,null,null,null,null,null,null,{"$f":"U35-U40","v":0},null,null,null,null,null,null,null,null,null,null,{"$f":"AF35-AF40","v":0},null,null,null,null,null,null,null,null,null,null,{"$f":"AQ35-AQ40","v":0},null,null,null,null,null,null,null,null,null,null,{"$f":"BB35-BB40","v":0},null,null,null,null,null,null,null,null,null,null,{"$f":"BM35-BM40","v":0},null,null,null,null,null,null,null,null,null,null,{"$f":"BX35-BX40","v":0},null,null,null,null,null,null,null,null,null,null,{"$f":"CI35-CI40","v":0},null,null,null,null,null,null,null,null,null,null,{"$f":"CT35-CT40","v":0},null,null,null,null,null,null,null,null,null,null,{"$f":"DE35-DE40","v":0},null,null,null,null,null,null,null,null,null,null,{"$f":"DP35-DP40","v":0},null,null,null,null,null,null,null,null,null,null,{"$f":"EA35-EA40","v":0}]
[]
[]
[null,{"$f":"B25","v":"年度１月給与"},null,null,null,null,null,null,null,{"$f":"J25","v":"年度　"},null,null,{"$f":"M25","v":"年度２月給与"},null,null,null,null,null,null,null,{"$f":"J46","v":"年度　"},null,null,{"$f":"X25","v":"年度３月給与"},null,null,null,null,null,null,null,{"$f":"U46","v":"年度　"},null,null,{"$f":"AI25","v":"年度４月給与"},null,null,null,null,null,null,null,{"$f":"AF46","v":"年度　"},null,null,{"$f":"AT25","v":"年度５月給与"},null,null,null,null,null,null,null,{"$f":"AQ46","v":"年度　"},null,null,{"$f":"BE25","v":"年度６月給与"},null,null,null,null,null,null,null,{"$f":"BB46","v":"年度　"},null,null,{"$f":"BP25","v":"年度７月給与"},null,null,null,null,null,null,null,{"$f":"BM46","v":"年度　"},null,null,{"$f":"給与計算設定!$E$2&給与計算設定!$F$2&\"８月給与\"","v":"年度８月給与"},null,null,null,null,null,null,null,{"$f":"BX46","v":"年度　"},null,null,{"$f":"給与計算設定!$E$2&給与計算設定!$F$2&\"９月給与\"","v":"年度９月給与"},null,null,null,null,null,null,null,{"$f":"CI46","v":"年度　"},null,null,{"$f":"給与計算設定!$E$2&給与計算設定!$F$2&\"１０月給与\"","v":"年度１０月給与"},null,null,null,null,null,null,null,{"$f":"CT46","v":"年度　"},null,null,{"$f":"給与計算設定!$E$2&給与計算設定!$F$2&\"１１月給与\"","v":"年度１１月給与"},null,null,null,null,null,null,null,{"$f":"DE46","v":"年度　"},null,null,{"$f":"給与計算設定!$E$2&給与計算設定!$F$2&\"１２月給与\"","v":"年度１２月給与"},null,null,null,null,null,null,null,{"$f":"DP46","v":"年度　"}]
[]
[3,"氏名",{"$f":"給与計算設定!B70","v":0},null,null,null,null,null,null,null,null,3,"氏名",{"$f":"C48","v":0},null,null,null,null,null,null,null,null,3,"氏名",{"$f":"N48","v":0},null,null,null,null,null,null,null,null,3,"氏名",{"$f":"Y48","v":0},null,null,null,null,null,null,null,null,3,"氏名",{"$f":"AJ48","v":0},null,null,{"$f":"AX25","v":0},null,null,null,{"$f":"AQ48","v":0},null,3,"氏名",{"$f":"AU48","v":0},null,null,{"$f":"BI25","v":0},null,null,null,{"$f":"BB48","v":0},null,3,"氏名",{"$f":"BF48","v":0},null,null,{"$f":"BT25","v":0},null,null,null,{"$f":"BM48","v":0},null,3,"氏名",{"$f":"BQ48","v":0},null,null,null,null,null,null,null,null,3,"氏名",{"$f":"CB48","v":0},null,null,null,null,null,null,null,null,3,"氏名",{"$f":"CM48","v":0},null,null,null,null,null,null,null,null,3,"氏名",{"$f":"CX48","v":0},null,null,null,null,null,null,null,null,3,"氏名",{"$f":"DI48","v":0},null,null,null,null,null,null,null,null,3]
[]
[null,"勤怠","労働時間","普通残業時間","深夜労働時間","休日労働時間","出勤日数","欠勤日数","有休日数","有休残日数",null,null,"勤怠","労働時間","普通残業時間","深夜労働時間","休日労働時間","出勤日数","欠勤日数","有休日数","有休残日数",null,null,"勤怠","労働時間","普通残業時間","深夜労働時間","休日労働時間","出勤日数","欠勤日数","有休日数","有休残日数",null,null,"勤怠","労働時間","普通残業時間","深夜労働時間","休日労働時間","出勤日数","欠勤日数","有休日数","有休残日数",null,null,"勤怠","労働時間","普通残業時間","深夜労働時間","休日労働時間","出勤日数","欠勤日数","有休日数","有休残日数",null,null,"勤怠","労働時間","普通残業時間","深夜労働時間","休日労働時間","出勤日数","欠勤日数","有休日数","有休残日数",null,null,"勤怠","労働時間","普通残業時間","深夜労働時間","休日労働時間","出勤日数","欠勤日数","有休日数","有休残日数",null,null,"勤怠","労働時間","普通残業時間","深夜労働時間","休日労働時間","出勤日数","欠勤日数","有休日数","有休残日数",null,null,"勤怠","労働時間","普通残業時間","深夜労働時間","休日労働時間","出勤日数","欠勤日数","有休日数","有休残日数",null,null,"勤怠","労働時間","普通残業時間","深夜労働時間","休日労働時間","出勤日数","欠勤日数","有休日数","有休残日数",null,null,"勤怠","労働時間","普通残業時間","深夜労働時間","休日労働時間","出勤日数","欠勤日数","有休日数","有休残日数",null,null,"勤怠","労働時間","普通残業時間","深夜労働時間","休日労働時間","出勤日数","欠勤日数","有休日数","有休残日数"]
[]
[]
[null,"支給","基本給","時間外手当","深夜手当","休日手当",{"$f":"給与計算設定!B76","v":"通勤手当"},{"$f":"給与計算設定!B77","v":0},{"$f":"給与計算設定!B78","v":0},"課税対象額",null,null,"支給","基本給","時間外手当","深夜手当","休日手当",{"$f":"G53","v":"通勤手当"},{"$f":"H53","v":0},{"$f":"I53","v":0},"課税対象額",null,null,"支給","基本給","時間外手当","深夜手当","休日手当",{"$f":"R53","v":"通勤手当"},{"$f":"S53","v":0},{"$f":"T53","v":0},"課税対象額",null,null,"支給","基本給","時間外手当","深夜手当","休日手当",{"$f":"AC53","v":"通勤手当"},{"$f":"AD53","v":0},{"$f":"AE53","v":0},"課税対象額",null,null,"支給","基本給","時間外手当","深夜手当","休日手当",{"$f":"AN53","v":"通勤手当"},{"$f":"AO53","v":0},{"$f":"AP53","v":0},"課税対象額",null,null,"支給","基本給","時間外手当","深夜手当","休日手当",{"$f":"AY53","v":"通勤手当"},{"$f":"AZ53","v":0},{"$f":"BA53","v":0},"課税対象額",null,null,"支給","基本給","時間外手当","深夜手当","休日手当",{"$f":"BJ53","v":"通勤手当"},{"$f":"BK53","v":0},{"$f":"BL53","v":0},"課税対象額",null,null,"支給","基本給","時間外手当","深夜手当","休日手当",{"$f":"BU53","v":"通勤手当"},{"$f":"BV53","v":0},{"$f":"BW53","v":0},"課税対象額",null,null,"支給","基本給","時間外手当","深夜手当","休日手当",{"$f":"CF53","v":"通勤手当"},{"$f":"CG53","v":0},{"$f":"CH53","v":0},"課税対象額",null,null,"支給","基本給","時間外手当","深夜手当","休日手当",{"$f":"CQ53","v":"通勤手当"},{"$f":"CR53","v":0},{"$f":"CS53","v":0},"課税対象額",null,null,"支給","基本給","時間外手当","深夜手当","休日手当",{"$f":"DB53","v":"通勤手当"},{"$f":"DC53","v":0},{"$f":"DD53","v":0},"課税対象額",null,null,"支給","基本給","時間外手当","深夜手当","休日手当",{"$f":"DM53","v":"通勤手当"},{"$f":"DN53","v":0},{"$f":"DO53","v":0},"課税対象額"]
[null,null,{"$f":"IF(給与計算設定!C71<>\"\",給与計算設定!C71,ROUND(給与計算設定!C72*給与明細!C51,0))","v":0},{"$f":"ROUND(給与計算設定!C73*給与明細!D51,0)","v":0},{"$f":"ROUND(給与計算設定!C74*給与明細!E51,0)","v":0},{"$f":"ROUND(給与計算設定!C75*給与明細!F51,0)","v":0},{"$f":"給与計算設定!C76","v":0},{"$f":"給与計算設定!C77","v":0},{"$f":"給与計算設定!C78","v":0},{"$f":"J56-J59-G54","v":0},null,null,null,{"$f":"IF(給与計算設定!D71<>\"\",給与計算設定!D71,ROUND(給与計算設定!D72*給与明細!N51,0))","v":0},{"$f":"ROUND(給与計算設定!D73*給与明細!O51,0)","v":0},{"$f":"ROUND(給与計算設定!D74*給与明細!P51,0)","v":0},{"$f":"ROUND(給与計算設定!D75*給与明細!Q51,0)","v":0},{"$f":"給与計算設定!D76","v":0},{"$f":"給与計算設定!D77","v":0},{"$f":"給与計算設定!D78","v":0},{"$f":"U56-U59-R54","v":0},null,null,null,{"$f":"IF(給与計算設定!E71<>\"\",給与計算設定!E71,ROUND(給与計算設定!E72*給与明細!Y51,0))","v":0},{"$f":"ROUND(給与計算設定!E73*給与明細!Z51,0)","v":0},{"$f":"ROUND(給与計算設定!E74*給与明細!AA51,0)","v":0},{"$f":"ROUND(給与計算設定!E75*給与明細!AB51,0)","v":0},{"$f":"給与計算設定!E76","v":0},{"$f":"給与計算設定!E77","v":0},{"$f":"給与計算設定!E78","v":0},{"$f":"AF56-AF59-AC54","v":0},null,null,null,{"$f":"IF(給与計算設定!F71<>\"\",給与計算設定!F71,ROUND(給与計算設定!F72*給与明細!AJ51,0))","v":0},{"$f":"ROUND(給与計算設定!F73*給与明細!AK51,0)","v":0},{"$f":"ROUND(給与計算設定!F74*給与明細!AL51,0)","v":0},{"$f":"ROUND(給与計算設定!F75*給与明細!AM51,0)","v":0},{"$f":"給与計算設定!F76","v":0},{"$f":"給与計算設定!F77","v":0},{"$f":"給与計算設定!F78","v":0},{"$f":"AQ56-AQ59-AN54","v":0},null,null,null,{"$f":"IF(給与計算設定!G71<>\"\",給与計算設定!G71,ROUND(給与計算設定!G72*給与明細!AU51,0))","v":0},{"$f":"ROUND(給与計算設定!G73*給与明細!AV51,0)","v":0},{"$f":"ROUND(給与計算設定!G74*給与明細!AW51,0)","v":0},{"$f":"ROUND(給与計算設定!G75*給与明細!AX51,0)","v":0},{"$f":"給与計算設定!G76","v":0},{"$f":"給与計算設定!G77","v":0},{"$f":"給与計算設定!G78","v":0},{"$f":"BB56-BB59-AY54","v":0},null,null,null,{"$f":"IF(給与計算設定!H71<>\"\",給与計算設定!H71,ROUND(給与計算設定!H72*給与明細!BF51,0))","v":0},{"$f":"ROUND(給与計算設定!H73*給与明細!BG51,0)","v":0},{"$f":"ROUND(給与計算設定!H74*給与明細!BH51,0)","v":0},{"$f":"ROUND(給与計算設定!H75*給与明細!BH51,0)","v":0},{"$f":"給与計算設定!H76","v":0},{"$f":"給与計算設定!H77","v":0},{"$f":"給与計算設定!H78","v":0},{"$f":"BM56-BM59-BJ54","v":0},null,null,null,{"$f":"IF(給与計算設定!I71<>\"\",給与計算設定!I71,ROUND(給与計算設定!I72*給与明細!BQ51,0))","v":0},{"$f":"ROUND(給与計算設定!I73*給与明細!BR51,0)","v":0},{"$f":"ROUND(給与計算設定!I74*給与明細!BS51,0)","v":0},{"$f":"ROUND(給与計算設定!I75*給与明細!BT51,0)","v":0},{"$f":"給与計算設定!I76","v":0},{"$f":"給与計算設定!I77","v":0},{"$f":"給与計算設定!I78","v":0},{"$f":"BX56-BX59-BU54","v":0},null,null,null,{"$f":"IF(給与計算設定!J71<>\"\",給与計算設定!J71,ROUND(給与計算設定!J72*給与明細!CB51,0))","v":0},{"$f":"ROUND(給与計算設定!J73*給与明細!CC51,0)","v":0},{"$f":"ROUND(給与計算設定!J74*給与明細!CD51,0)","v":0},{"$f":"ROUND(給与計算設定!J75*給与明細!CE51,0)","v":0},{"$f":"給与計算設定!J76","v":0},{"$f":"給与計算設定!J77","v":0},{"$f":"給与計算設定!J78","v":0},{"$f":"CI56-CI59-CF54","v":0},null,null,null,{"$f":"IF(給与計算設定!K71<>\"\",給与計算設定!K71,ROUND(給与計算設定!K72*給与明細!CM51,0))","v":0},{"$f":"ROUND(給与計算設定!K73*給与明細!CN51,0)","v":0},{"$f":"ROUND(給与計算設定!K74*給与明細!CO51,0)","v":0},{"$f":"ROUND(給与計算設定!K75*給与明細!CP51,0)","v":0},{"$f":"給与計算設定!K76","v":0},{"$f":"給与計算設定!K77","v":0},{"$f":"給与計算設定!K78","v":0},{"$f":"CT56-CT59-CQ54","v":0},null,null,null,{"$f":"IF(給与計算設定!L71<>\"\",給与計算設定!L71,ROUND(給与計算設定!L72*給与明細!CX51,0))","v":0},{"$f":"ROUND(給与計算設定!L73*給与明細!CY51,0)","v":0},{"$f":"ROUND(給与計算設定!L74*給与明細!CZ51,0)","v":0},{"$f":"ROUND(給与計算設定!L75*給与明細!DA51,0)","v":0},{"$f":"給与計算設定!L76","v":0},{"$f":"給与計算設定!L77","v":0},{"$f":"給与計算設定!L78","v":0},{"$f":"DE56-DE59-DB54","v":0},null,null,null,{"$f":"IF(給与計算設定!M71<>\"\",給与計算設定!M71,ROUND(給与計算設定!M72*給与明細!DI51,0))","v":0},{"$f":"ROUND(給与計算設定!M73*給与明細!DJ51,0)","v":0},{"$f":"ROUND(給与計算設定!M74*給与明細!DK51,0)","v":0},{"$f":"ROUND(給与計算設定!M75*給与明細!DL51,0)","v":0},{"$f":"給与計算設定!M76","v":0},{"$f":"給与計算設定!M77","v":0},{"$f":"給与計算設定!M78","v":0},{"$f":"DP56-DP59-DM54","v":0},null,null,null,{"$f":"IF(給与計算設定!N71<>\"\",給与計算設定!N71,ROUND(給与計算設定!N72*給与明細!DT51,0))","v":0},{"$f":"ROUND(給与計算設定!N73*給与明細!DU51,0)","v":0},{"$f":"ROUND(給与計算設定!N74*給与明細!DV51,0)","v":0},{"$f":"ROUND(給与計算設定!N75*給与明細!DW51,0)","v":0},{"$f":"給与計算設定!N76","v":0},{"$f":"給与計算設定!N77","v":0},{"$f":"給与計算設定!N78","v":0},{"$f":"EA56-EA59-DX54","v":0}]
[null,null,{"$f":"給与計算設定!B79","v":0},{"$f":"給与計算設定!B80","v":0},{"$f":"給与計算設定!B81","v":0},{"$f":"給与計算設定!B82","v":0},{"$f":"給与計算設定!B83","v":0},{"$f":"給与計算設定!B84","v":0},{"$f":"給与計算設定!B85","v":0},"支給合計",null,null,null,{"$f":"C55","v":0},0,0,0,0,0,0,"支給合計",null,null,null,{"$f":"N55","v":0},0,0,0,0,0,0,"支給合計",null,null,null,{"$f":"Y55","v":0},0,0,0,0,0,0,"支給合計",null,null,null,{"$f":"AJ55","v":0},0,0,0,0,0,0,"支給合計",null,null,null,{"$f":"AU55","v":0},0,0,0,0,0,0,"支給合計",null,null,null,{"$f":"BF55","v":0},0,0,0,0,0,0,"支給合計",null,null,null,{"$f":"BQ55","v":0},0,0,0,0,0,0,"支給合計",null,null,null,{"$f":"CB55","v":0},0,0,0,0,0,0,"支給合計",null,null,null,{"$f":"CM55","v":0},0,0,0,0,0,0,"支給合計",null,null,null,{"$f":"CX55","v":0},0,0,0,0,0,0,"支給合計",null,null,null,{"$f":"DI55","v":0},0,0,0,0,0,0,"支給合計"]
[null,null,{"$f":"給与計算設定!C79","v":0},{"$f":"給与計算設定!C80","v":0},{"$f":"給与計算設定!C81","v":0},{"$f":"給与計算設定!C82","v":0},{"$f":"給与計算設定!C83","v":0},{"$f":"給与計算設定!C84","v":0},{"$f":"給与計算設定!C85","v":0},{"$f":"SUM(C54:I54,C56:I56)","v":0},null,null,null,{"$f":"給与計算設定!D79","v":0},{"$f":"給与計算設定!D80","v":0},{"$f":"給与計算設定!D81","v":0},{"$f":"給与計算設定!D82","v":0},{"$f":"給与計算設定!D83","v":0},{"$f":"給与計算設定!D84","v":0},{"$f":"給与計算設定!D85","v":0},{"$f":"SUM(N54:T54,N56:T56)","v":0},null,null,null,{"$f":"給与計算設定!E79","v":0},{"$f":"給与計算設定!E80","v":0},{"$f":"給与計算設定!E81","v":0},{"$f":"給与計算設定!E82","v":0},{"$f":"給与計算設定!E83","v":0},{"$f":"給与計算設定!E84","v":0},{"$f":"給与計算設定!E85","v":0},{"$f":"SUM(Y54:AE54,Y56:AE56)","v":0},null,null,null,{"$f":"給与計算設定!F79","v":0},{"$f":"給与計算設定!F80","v":0},{"$f":"給与計算設定!F81","v":0},{"$f":"給与計算設定!F82","v":0},{"$f":"給与計算設定!F83","v":0},{"$f":"給与計算設定!F84","v":0},{"$f":"給与計算設定!F85","v":0},{"$f":"SUM(AJ54:AP54,AJ56:AP56)","v":0},null,null,null,{"$f":"給与計算設定!G79","v":0},{"$f":"給与計算設定!G80","v":0},{"$f":"給与計算設定!G81","v":0},{"$f":"給与計算設定!G82","v":0},{"$f":"給与計算設定!G83","v":0},{"$f":"給与計算設定!G84","v":0},{"$f":"給与計算設定!G85","v":0},{"$f":"SUM(AU54:BA54,AU56:BA56)","v":0},null,null,null,{"$f":"給与計算設定!H79","v":0},{"$f":"給与計算設定!H80","v":0},{"$f":"給与計算設定!H81","v":0},{"$f":"給与計算設定!H82","v":0},{"$f":"給与計算設定!H83","v":0},{"$f":"給与計算設定!H84","v":0},{"$f":"給与計算設定!H85","v":0},{"$f":"SUM(BF54:BL54,BF56:BL56)","v":0},null,null,null,{"$f":"給与計算設定!I79","v":0},{"$f":"給与計算設定!I80","v":0},{"$f":"給与計算設定!I81","v":0},{"$f":"給与計算設定!I82","v":0},{"$f":"給与計算設定!I83","v":0},{"$f":"給与計算設定!I84","v":0},{"$f":"給与計算設定!I85","v":0},{"$f":"SUM(BQ54:BW54,BQ56:BW56)","v":0},null,null,null,{"$f":"給与計算設定!J79","v":0},{"$f":"給与計算設定!J80","v":0},{"$f":"給与計算設定!J81","v":0},{"$f":"給与計算設定!J82","v":0},{"$f":"給与計算設定!J83","v":0},{"$f":"給与計算設定!J84","v":0},{"$f":"給与計算設定!J85","v":0},{"$f":"SUM(CB54:CH54,CB56:CH56)","v":0},null,null,null,{"$f":"給与計算設定!K79","v":0},{"$f":"給与計算設定!K80","v":0},{"$f":"給与計算設定!K81","v":0},{"$f":"給与計算設定!K82","v":0},{"$f":"給与計算設定!K83","v":0},{"$f":"給与計算設定!K84","v":0},{"$f":"給与計算設定!K85","v":0},{"$f":"SUM(CM54:CS54,CM56:CS56)","v":0},null,null,null,{"$f":"給与計算設定!L79","v":0},{"$f":"給与計算設定!L80","v":0},{"$f":"給与計算設定!L81","v":0},{"$f":"給与計算設定!L82","v":0},{"$f":"給与計算設定!L83","v":0},{"$f":"給与計算設定!L84","v":0},{"$f":"給与計算設定!L85","v":0},{"$f":"SUM(CX54:DD54,CX56:DD56)","v":0},null,null,null,{"$f":"給与計算設定!M79","v":0},{"$f":"給与計算設定!M80","v":0},{"$f":"給与計算設定!M81","v":0},{"$f":"給与計算設定!M82","v":0},{"$f":"給与計算設定!M83","v":0},{"$f":"給与計算設定!M84","v":0},{"$f":"給与計算設定!M85","v":0},{"$f":"SUM(DI54:DO54,DI56:DO56)","v":0},null,null,null,{"$f":"給与計算設定!N79","v":0},{"$f":"給与計算設定!N80","v":0},{"$f":"給与計算設定!N81","v":0},{"$f":"給与計算設定!N82","v":0},{"$f":"給与計算設定!N83","v":0},{"$f":"給与計算設定!N84","v":0},{"$f":"給与計算設定!N85","v":0},{"$f":"SUM(DT54:DZ54,DT56:DZ56)","v":0}]
[]
[null,"控除","健康保険料","介護保険料","厚生年金等","雇用保険料","所得税","住民税","年末調整","社会保険料合計",null,null,"控除","健康保険料","介護保険料","厚生年金等","雇用保険料","所得税","住民税","年末調整","社会保険料合計",null,null,"控除","健康保険料","介護保険料","厚生年金等","雇用保険料","所得税","住民税","年末調整","社会保険料合計",null,null,"控除","健康保険料","介護保険料","厚生年金等","雇用保険料","所得税","住民税","年末調整","社会保険料合計",null,null,"控除","健康保険料","介護保険料","厚生年金等","雇用保険料","所得税","住民税","年末調整","社会保険料合計",null,null,"控除","健康保険料","介護保険料","厚生年金等","雇用保険料","所得税","住民税","年末調整","社会保険料合計",null,null,"控除","健康保険料","介護保険料","厚生年金等","雇用保険料","所得税","住民税","年末調整","社会保険料合計",null,null,"控除","健康保険料","介護保険料","厚生年金等","雇用保険料","所得税","住民税","年末調整","社会保険料合計",null,null,"控除","健康保険料","介護保険料","厚生年金等","雇用保険料","所得税","住民税","年末調整","社会保険料合計",null,null,"控除","健康保険料","介護保険料","厚生年金等","雇用保険料","所得税","住民税","年末調整","社会保険料合計",null,null,"控除","健康保険料","介護保険料","厚生年金等","雇用保険料","所得税","住民税","年末調整","社会保険料合計",null,null,"控除","健康保険料","介護保険料","厚生年金等","雇用保険料","所得税","住民税","年末調整","社会保険料合計"]
[null,null,{"$f":"給与計算設定!C87","v":0},{"$f":"給与計算設定!C88","v":0},{"$f":"給与計算設定!C89","v":0},{"$f":"ROUND(給与計算設定!C90*給与明細!J56-0.01,0)","v":0},0,{"$f":"給与計算設定!C91","v":0},null,{"$f":"SUM(C59:F59)","v":0},null,null,null,{"$f":"給与計算設定!D87","v":0},{"$f":"給与計算設定!D88","v":0},{"$f":"給与計算設定!D89","v":0},{"$f":"ROUND(給与計算設定!D90*給与明細!U56-0.01,0)","v":0},0,{"$f":"給与計算設定!D91","v":0},null,{"$f":"SUM(N59:Q59)","v":0},null,null,null,{"$f":"給与計算設定!E87","v":0},{"$f":"給与計算設定!E88","v":0},{"$f":"給与計算設定!E89","v":0},{"$f":"ROUND(給与計算設定!E90*給与明細!AF56-0.01,0)","v":0},0,{"$f":"給与計算設定!E91","v":0},null,{"$f":"SUM(Y59:AB59)","v":0},null,null,null,{"$f":"給与計算設定!F87","v":0},{"$f":"給与計算設定!F88","v":0},{"$f":"給与計算設定!F89","v":0},{"$f":"ROUND(給与計算設定!F90*給与明細!AQ56-0.01,0)","v":0},0,{"$f":"給与計算設定!F91","v":0},null,{"$f":"SUM(AJ59:AM59)","v":0},null,null,null,{"$f":"給与計算設定!G87","v":0},{"$f":"給与計算設定!G88","v":0},{"$f":"給与計算設定!G89","v":0},{"$f":"ROUND(給与計算設定!G90*給与明細!BB56-0.01,0)","v":0},0,{"$f":"給与計算設定!G91","v":0},null,{"$f":"SUM(AU59:AX59)","v":0},null,null,null,{"$f":"給与計算設定!H87","v":0},{"$f":"給与計算設定!H88","v":0},{"$f":"給与計算設定!H89","v":0},{"$f":"ROUND(給与計算設定!H90*給与明細!BM56-0.01,0)","v":0},0,{"$f":"給与計算設定!H91","v":0},null,{"$f":"SUM(BF59:BI59)","v":0},null,null,null,{"$f":"給与計算設定!I87","v":0},{"$f":"給与計算設定!I88","v":0},{"$f":"給与計算設定!I89","v":0},{"$f":"ROUND(給与計算設定!I90*給与明細!BX56-0.01,0)","v":0},0,{"$f":"給与計算設定!I91","v":0},null,{"$f":"SUM(BQ59:BT59)","v":0},null,null,null,{"$f":"給与計算設定!J87","v":0},{"$f":"給与計算設定!J88","v":0},{"$f":"給与計算設定!J89","v":0},{"$f":"ROUND(給与計算設定!J90*給与明細!CI56-0.01,0)","v":0},0,{"$f":"給与計算設定!J91","v":0},null,{"$f":"SUM(CB59:CE59)","v":0},null,null,null,{"$f":"給与計算設定!K87","v":0},{"$f":"給与計算設定!K88","v":0},{"$f":"給与計算設定!K89","v":0},{"$f":"ROUND(給与計算設定!K90*給与明細!CT56-0.01,0)","v":0},0,{"$f":"給与計算設定!K91","v":0},null,{"$f":"SUM(CM59:CP59)","v":0},null,null,null,{"$f":"給与計算設定!L87","v":0},{"$f":"給与計算設定!L88","v":0},{"$f":"給与計算設定!L89","v":0},{"$f":"ROUND(給与計算設定!L90*給与明細!DE56-0.01,0)","v":0},0,{"$f":"給与計算設定!L91","v":0},null,{"$f":"SUM(CX59:DA59)","v":0},null,null,null,{"$f":"給与計算設定!M87","v":0},{"$f":"給与計算設定!M88","v":0},{"$f":"給与計算設定!M89","v":0},{"$f":"ROUND(給与計算設定!M90*給与明細!DP56-0.01,0)","v":0},0,{"$f":"給与計算設定!M91","v":0},null,{"$f":"SUM(DI59:DL59)","v":0},null,null,null,{"$f":"給与計算設定!N87","v":0},{"$f":"給与計算設定!N88","v":0},{"$f":"給与計算設定!N89","v":0},{"$f":"ROUND(給与計算設定!N90*給与明細!EA56-0.01,0)","v":0},0,{"$f":"給与計算設定!N91","v":0},null,{"$f":"SUM(DT59:DW59)","v":0}]
[null,null,{"$f":"給与計算設定!B92","v":0},{"$f":"給与計算設定!B93","v":0},{"$f":"給与計算設定!B94","v":0},{"$f":"給与計算設定!B95","v":0},{"$f":"給与計算設定!B96","v":0},{"$f":"給与計算設定!B97","v":0},{"$f":"給与計算設定!B98","v":0},"控除合計",null,null,null,{"$f":"C60","v":0},0,0,0,0,0,0,"控除合計",null,null,null,{"$f":"N60","v":0},0,0,0,0,0,0,"控除合計",null,null,null,{"$f":"Y60","v":0},0,0,0,0,0,0,"控除合計",null,null,null,{"$f":"AJ60","v":0},0,0,0,0,0,0,"控除合計",null,null,null,{"$f":"AU60","v":0},0,0,0,0,0,0,"控除合計",null,null,null,{"$f":"BF60","v":0},0,0,0,0,0,0,"控除合計",null,null,null,{"$f":"BQ60","v":0},0,0,0,0,0,0,"控除合計",null,null,null,{"$f":"CB60","v":0},0,0,0,0,0,0,"控除合計",null,null,null,{"$f":"CM60","v":0},0,0,0,0,0,0,"控除合計",null,null,null,{"$f":"CX60","v":0},0,0,0,0,0,0,"控除合計",null,null,null,{"$f":"DI60","v":0},0,0,0,0,0,0,"控除合計"]
[null,null,{"$f":"給与計算設定!C92","v":0},{"$f":"給与計算設定!C93","v":0},{"$f":"給与計算設定!C94","v":0},{"$f":"給与計算設定!C95","v":0},{"$f":"給与計算設定!C96","v":0},{"$f":"給与計算設定!C97","v":0},{"$f":"給与計算設定!C98","v":0},{"$f":"SUM(C59:I59,C61:I61)","v":0},null,null,null,{"$f":"給与計算設定!D92","v":0},{"$f":"給与計算設定!D93","v":0},{"$f":"給与計算設定!D94","v":0},{"$f":"給与計算設定!D95","v":0},{"$f":"給与計算設定!D96","v":0},{"$f":"給与計算設定!D97","v":0},{"$f":"給与計算設定!D98","v":0},{"$f":"SUM(N59:T59,N61:T61)","v":0},null,null,null,{"$f":"給与計算設定!E92","v":0},{"$f":"給与計算設定!E93","v":0},{"$f":"給与計算設定!E94","v":0},{"$f":"給与計算設定!E95","v":0},{"$f":"給与計算設定!E96","v":0},{"$f":"給与計算設定!E97","v":0},{"$f":"給与計算設定!E98","v":0},{"$f":"SUM(Y59:AE59,Y61:AE61)","v":0},null,null,null,{"$f":"給与計算設定!F92","v":0},{"$f":"給与計算設定!F93","v":0},{"$f":"給与計算設定!F94","v":0},{"$f":"給与計算設定!F95","v":0},{"$f":"給与計算設定!F96","v":0},{"$f":"給与計算設定!F97","v":0},{"$f":"給与計算設定!F98","v":0},{"$f":"SUM(AJ59:AP59,AJ61:AP61)","v":0},null,null,null,{"$f":"給与計算設定!G92","v":0},{"$f":"給与計算設定!G93","v":0},{"$f":"給与計算設定!G94","v":0},{"$f":"給与計算設定!G95","v":0},{"$f":"給与計算設定!G96","v":0},{"$f":"給与計算設定!G97","v":0},{"$f":"給与計算設定!G98","v":0},{"$f":"SUM(AU59:BA59,AU61:BA61)","v":0},null,null,null,{"$f":"給与計算設定!H92","v":0},{"$f":"給与計算設定!H93","v":0},{"$f":"給与計算設定!H94","v":0},{"$f":"給与計算設定!H95","v":0},{"$f":"給与計算設定!H96","v":0},{"$f":"給与計算設定!H97","v":0},{"$f":"給与計算設定!H98","v":0},{"$f":"SUM(BF59:BL59,BF61:BL61)","v":0},null,null,null,{"$f":"給与計算設定!I92","v":0},{"$f":"給与計算設定!I93","v":0},{"$f":"給与計算設定!I94","v":0},{"$f":"給与計算設定!I95","v":0},{"$f":"給与計算設定!I96","v":0},{"$f":"給与計算設定!I97","v":0},{"$f":"給与計算設定!I98","v":0},{"$f":"SUM(BQ59:BW59,BQ61:BW61)","v":0},null,null,null,{"$f":"給与計算設定!J92","v":0},{"$f":"給与計算設定!J93","v":0},{"$f":"給与計算設定!J94","v":0},{"$f":"給与計算設定!J95","v":0},{"$f":"給与計算設定!J96","v":0},{"$f":"給与計算設定!J97","v":0},{"$f":"給与計算設定!J98","v":0},{"$f":"SUM(CB59:CH59,CB61:CH61)","v":0},null,null,null,{"$f":"給与計算設定!K92","v":0},{"$f":"給与計算設定!K93","v":0},{"$f":"給与計算設定!K94","v":0},{"$f":"給与計算設定!K95","v":0},{"$f":"給与計算設定!K96","v":0},{"$f":"給与計算設定!K97","v":0},{"$f":"給与計算設定!K98","v":0},{"$f":"SUM(CM59:CS59,CM61:CS61)","v":0},null,null,null,{"$f":"給与計算設定!L92","v":0},{"$f":"給与計算設定!L93","v":0},{"$f":"給与計算設定!L94","v":0},{"$f":"給与計算設定!L95","v":0},{"$f":"給与計算設定!L96","v":0},{"$f":"給与計算設定!L97","v":0},{"$f":"給与計算設定!L98","v":0},{"$f":"SUM(CX59:DD59,CX61:DD61)","v":0},null,null,null,{"$f":"給与計算設定!M92","v":0},{"$f":"給与計算設定!M93","v":0},{"$f":"給与計算設定!M94","v":0},{"$f":"給与計算設定!M95","v":0},{"$f":"給与計算設定!M96","v":0},{"$f":"給与計算設定!M97","v":0},{"$f":"給与計算設定!M98","v":0},{"$f":"SUM(DI59:DO59,DI61:DO61)","v":0},null,null,null,{"$f":"給与計算設定!N92","v":0},{"$f":"給与計算設定!N93","v":0},{"$f":"給与計算設定!N94","v":0},{"$f":"給与計算設定!N95","v":0},{"$f":"給与計算設定!N96","v":0},{"$f":"給与計算設定!N97","v":0},{"$f":"給与計算設定!N98","v":0},{"$f":"SUM(DT59:DZ59,DT61:DZ61)","v":0}]
[]
[null,"備考",null,null,null,null,null,null,null,"差引支給額",null,null,"備考",null,null,null,null,null,null,null,"差引支給額",null,null,"備考",null,null,null,null,null,null,null,"差引支給額",null,null,"備考",null,null,null,null,null,null,null,"差引支給額",null,null,"備考",null,null,null,null,null,null,null,"差引支給額",null,null,"備考",null,null,null,null,null,null,null,"差引支給額",null,null,"備考",null,null,null,null,null,null,null,"差引支給額",null,null,"備考",null,null,null,null,null,null,null,"差引支給額",null,null,"備考",null,null,null,null,null,null,null,"差引支給額",null,null,"備考",null,null,null,null,null,null,null,"差引支給額",null,null,"備考",null,null,null,null,null,null,null,"差引支給額",null,null,"備考",null,null,null,null,null,null,null,"差引支給額"]
[null,null,null,null,null,null,null,null,null,{"$f":"J56-J61","v":0},null,null,null,null,null,null,null,null,null,null,{"$f":"U56-U61","v":0},null,null,null,null,null,null,null,null,null,null,{"$f":"AF56-AF61","v":0},null,null,null,null,null,null,null,null,null,null,{"$f":"AQ56-AQ61","v":0},null,null,null,null,null,null,null,null,null,null,{"$f":"BB56-BB61","v":0},null,null,null,null,null,null,null,null,null,null,{"$f":"BM56-BM61","v":0},null,null,null,null,null,null,null,null,null,null,{"$f":"BX56-BX61","v":0},null,null,null,null,null,null,null,null,null,null,{"$f":"CI56-CI61","v":0},null,null,null,null,null,null,null,null,null,null,{"$f":"CT56-CT61","v":0},null,null,null,null,null,null,null,null,null,null,{"$f":"DE56-DE61","v":0},null,null,null,null,null,null,null,null,null,null,{"$f":"DP56-DP61","v":0},null,null,null,null,null,null,null,null,null,null,{"$f":"EA56-EA61","v":0}]
[]
[]
[null,{"$f":"B46","v":"年度１月給与"},null,null,null,null,null,null,null,{"$f":"J46","v":"年度　"},null,null,null,null,null,null,null,null,null,null,{"$f":"J67","v":"年度　"},null,null,{"$f":"X46","v":"年度３月給与"},null,null,null,null,null,null,null,{"$f":"U67","v":"年度　"},null,null,{"$f":"AI46","v":"年度４月給与"},null,null,null,null,null,null,null,{"$f":"AF67","v":"年度　"},null,null,{"$f":"AT46","v":"年度５月給与"},null,null,null,null,null,null,null,{"$f":"AQ67","v":"年度　"},null,null,{"$f":"BE46","v":"年度６月給与"},null,null,null,null,null,null,null,{"$f":"BB67","v":"年度　"},null,null,{"$f":"BP46","v":"年度７月給与"},null,null,null,null,null,null,null,{"$f":"BM67","v":"年度　"},null,null,{"$f":"給与計算設定!$E$2&給与計算設定!$F$2&\"８月給与\"","v":"年度８月給与"},null,null,null,null,null,null,null,{"$f":"BX67","v":"年度　"},null,null,{"$f":"給与計算設定!$E$2&給与計算設定!$F$2&\"９月給与\"","v":"年度９月給与"},null,null,null,null,null,null,null,{"$f":"CI67","v":"年度　"},null,null,{"$f":"給与計算設定!$E$2&給与計算設定!$F$2&\"１０月給与\"","v":"年度１０月給与"},null,null,null,null,null,null,null,{"$f":"CT67","v":"年度　"},null,null,{"$f":"給与計算設定!$E$2&給与計算設定!$F$2&\"１１月給与\"","v":"年度１１月給与"},null,null,null,null,null,null,null,{"$f":"DE67","v":"年度　"},null,null,{"$f":"給与計算設定!$E$2&給与計算設定!$F$2&\"１２月給与\"","v":"年度１２月給与"},null,null,null,null,null,null,null,{"$f":"DP67","v":"年度　"}]
[]
[4,"氏名",{"$f":"給与計算設定!B103","v":0},null,null,null,null,null,null,null,null,4,"氏名",{"$f":"C69","v":0},null,null,null,null,null,null,null,null,4,"氏名",{"$f":"N69","v":0},null,null,null,null,null,null,null,null,4,"氏名",{"$f":"Y69","v":0},null,null,null,null,null,null,null,null,4,"氏名",{"$f":"AJ69","v":0},null,null,{"$f":"AX46","v":0},null,null,null,{"$f":"AQ69","v":0},null,4,"氏名",{"$f":"AU69","v":0},null,null,{"$f":"BI46","v":0},null,null,null,{"$f":"BB69","v":0},null,4,"氏名",{"$f":"BF69","v":0},null,null,{"$f":"BT46","v":0},null,null,null,{"$f":"BM69","v":0},null,4,"氏名",{"$f":"BQ69","v":0},null,null,null,null,null,null,null,null,4,"氏名",{"$f":"CB69","v":0},null,null,null,null,null,null,null,null,4,"氏名",{"$f":"CM69","v":0},null,null,null,null,null,null,null,null,4,"氏名",{"$f":"CX69","v":0},null,null,null,null,null,null,null,null,4,"氏名",{"$f":"DI69","v":0},null,null,null,null,null,null,null,null,4]
[]
[null,"勤怠","労働時間","普通残業時間","深夜労働時間","休日労働時間","出勤日数","欠勤日数","有休日数","有休残日数",null,null,"勤怠","労働時間","普通残業時間","深夜労働時間","休日労働時間","出勤日数","欠勤日数","有休日数","有休残日数",null,null,"勤怠","労働時間","普通残業時間","深夜労働時間","休日労働時間","出勤日数","欠勤日数","有休日数","有休残日数",null,null,"勤怠","労働時間","普通残業時間","深夜労働時間","休日労働時間","出勤日数","欠勤日数","有休日数","有休残日数",null,null,"勤怠","労働時間","普通残業時間","深夜労働時間","休日労働時間","出勤日数","欠勤日数","有休日数","有休残日数",null,null,"勤怠","労働時間","普通残業時間","深夜労働時間","休日労働時間","出勤日数","欠勤日数","有休日数","有休残日数",null,null,"勤怠","労働時間","普通残業時間","深夜労働時間","休日労働時間","出勤日数","欠勤日数","有休日数","有休残日数",null,null,"勤怠","労働時間","普通残業時間","深夜労働時間","休日労働時間","出勤日数","欠勤日数","有休日数","有休残日数",null,null,"勤怠","労働時間","普通残業時間","深夜労働時間","休日労働時間","出勤日数","欠勤日数","有休日数","有休残日数",null,null,"勤怠","労働時間","普通残業時間","深夜労働時間","休日労働時間","出勤日数","欠勤日数","有休日数","有休残日数",null,null,"勤怠","労働時間","普通残業時間","深夜労働時間","休日労働時間","出勤日数","欠勤日数","有休日数","有休残日数",null,null,"勤怠","労働時間","普通残業時間","深夜労働時間","休日労働時間","出勤日数","欠勤日数","有休日数","有休残日数"]
[]
[]
[null,"支給","基本給","時間外手当","深夜手当","休日手当",{"$f":"給与計算設定!B109","v":"通勤手当"},{"$f":"給与計算設定!B110","v":0},{"$f":"給与計算設定!B111","v":0},"課税対象額",null,null,"支給","基本給","時間外手当","深夜手当","休日手当",{"$f":"G74","v":"通勤手当"},{"$f":"H74","v":0},{"$f":"I74","v":0},"課税対象額",null,null,"支給","基本給","時間外手当","深夜手当","休日手当",{"$f":"R74","v":"通勤手当"},{"$f":"S74","v":0},{"$f":"T74","v":0},"課税対象額",null,null,"支給","基本給","時間外手当","深夜手当","休日手当",{"$f":"AC74","v":"通勤手当"},{"$f":"AD74","v":0},{"$f":"AE74","v":0},"課税対象額",null,null,"支給","基本給","時間外手当","深夜手当","休日手当",{"$f":"AN74","v":"通勤手当"},{"$f":"AO74","v":0},{"$f":"AP74","v":0},"課税対象額",null,null,"支給","基本給","時間外手当","深夜手当","休日手当",{"$f":"AY74","v":"通勤手当"},{"$f":"AZ74","v":0},{"$f":"BA74","v":0},"課税対象額",null,null,"支給","基本給","時間外手当","深夜手当","休日手当",{"$f":"BJ74","v":"通勤手当"},{"$f":"BK74","v":0},{"$f":"BL74","v":0},"課税対象額",null,null,"支給","基本給","時間外手当","深夜手当","休日手当",{"$f":"BU74","v":"通勤手当"},{"$f":"BV74","v":0},{"$f":"BW74","v":0},"課税対象額",null,null,"支給","基本給","時間外手当","深夜手当","休日手当",{"$f":"CF74","v":"通勤手当"},{"$f":"CG74","v":0},{"$f":"CH74","v":0},"課税対象額",null,null,"支給","基本給","時間外手当","深夜手当","休日手当",{"$f":"CQ74","v":"通勤手当"},{"$f":"CR74","v":0},{"$f":"CS74","v":0},"課税対象額",null,null,"支給","基本給","時間外手当","深夜手当","休日手当",{"$f":"DB74","v":"通勤手当"},{"$f":"DC74","v":0},{"$f":"DD74","v":0},"課税対象額",null,null,"支給","基本給","時間外手当","深夜手当","休日手当",{"$f":"DM74","v":"通勤手当"},{"$f":"DN74","v":0},{"$f":"DO74","v":0},"課税対象額"]
[null,null,{"$f":"IF(給与計算設定!C104<>\"\",給与計算設定!C104,ROUND(給与計算設定!C105*給与明細!C72,0))","v":0},{"$f":"ROUND(給与計算設定!C106*給与明細!D72,0)","v":0},{"$f":"ROUND(給与計算設定!C107*給与明細!E72,0)","v":0},{"$f":"ROUND(給与計算設定!C108*給与明細!F72,0)","v":0},{"$f":"給与計算設定!C109","v":0},{"$f":"給与計算設定!C110","v":0},{"$f":"給与計算設定!C111","v":0},{"$f":"J77-J80-G75","v":0},null,null,null,{"$f":"IF(給与計算設定!D104<>\"\",給与計算設定!D104,ROUND(給与計算設定!D105*給与明細!N72,0))","v":0},{"$f":"ROUND(給与計算設定!D106*給与明細!O72,0)","v":0},{"$f":"ROUND(給与計算設定!D107*給与明細!P72,0)","v":0},{"$f":"ROUND(給与計算設定!D108*給与明細!Q72,0)","v":0},{"$f":"給与計算設定!D109","v":0},{"$f":"給与計算設定!D110","v":0},{"$f":"給与計算設定!D111","v":0},{"$f":"U77-U80-R75","v":0},null,null,null,{"$f":"IF(給与計算設定!E104<>\"\",給与計算設定!E104,ROUND(給与計算設定!E105*給与明細!Y72,0))","v":0},{"$f":"ROUND(給与計算設定!E106*給与明細!Z72,0)","v":0},{"$f":"ROUND(給与計算設定!E107*給与明細!AA72,0)","v":0},{"$f":"ROUND(給与計算設定!E108*給与明細!AB72,0)","v":0},{"$f":"給与計算設定!E109","v":0},{"$f":"給与計算設定!E110","v":0},{"$f":"給与計算設定!E111","v":0},{"$f":"AF77-AF80-AC75","v":0},null,null,null,{"$f":"IF(給与計算設定!F104<>\"\",給与計算設定!F104,ROUND(給与計算設定!F105*給与明細!AJ72,0))","v":0},{"$f":"ROUND(給与計算設定!F106*給与明細!AK72,0)","v":0},{"$f":"ROUND(給与計算設定!F107*給与明細!AL72,0)","v":0},{"$f":"ROUND(給与計算設定!F108*給与明細!AM72,0)","v":0},{"$f":"給与計算設定!F109","v":0},{"$f":"給与計算設定!F110","v":0},{"$f":"給与計算設定!F111","v":0},{"$f":"AQ77-AQ80-AN75","v":0},null,null,null,{"$f":"IF(給与計算設定!G104<>\"\",給与計算設定!G104,ROUND(給与計算設定!G105*給与明細!AU72,0))","v":0},{"$f":"ROUND(給与計算設定!G106*給与明細!AV72,0)","v":0},{"$f":"ROUND(給与計算設定!G107*給与明細!AW72,0)","v":0},{"$f":"ROUND(給与計算設定!G108*給与明細!AX72,0)","v":0},{"$f":"給与計算設定!G109","v":0},{"$f":"給与計算設定!G110","v":0},{"$f":"給与計算設定!G111","v":0},{"$f":"BB77-BB80-AY75","v":0},null,null,null,{"$f":"IF(給与計算設定!H104<>\"\",給与計算設定!H104,ROUND(給与計算設定!H105*給与明細!BF72,0))","v":0},{"$f":"ROUND(給与計算設定!H106*給与明細!BG72,0)","v":0},{"$f":"ROUND(給与計算設定!H107*給与明細!BH72,0)","v":0},{"$f":"ROUND(給与計算設定!H108*給与明細!BH72,0)","v":0},{"$f":"給与計算設定!H109","v":0},{"$f":"給与計算設定!H110","v":0},{"$f":"給与計算設定!H111","v":0},{"$f":"BM77-BM80-BJ75","v":0},null,null,null,{"$f":"IF(給与計算設定!I104<>\"\",給与計算設定!I104,ROUND(給与計算設定!I105*給与明細!BQ72,0))","v":0},{"$f":"ROUND(給与計算設定!I106*給与明細!BR72,0)","v":0},{"$f":"ROUND(給与計算設定!I107*給与明細!BS72,0)","v":0},{"$f":"ROUND(給与計算設定!I108*給与明細!BT72,0)","v":0},{"$f":"給与計算設定!I109","v":0},{"$f":"給与計算設定!I110","v":0},{"$f":"給与計算設定!I111","v":0},{"$f":"BX77-BX80-BU75","v":0},null,null,null,{"$f":"IF(給与計算設定!J104<>\"\",給与計算設定!J104,ROUND(給与計算設定!J105*給与明細!CB72,0))","v":0},{"$f":"ROUND(給与計算設定!J106*給与明細!CC72,0)","v":0},{"$f":"ROUND(給与計算設定!J107*給与明細!CD72,0)","v":0},{"$f":"ROUND(給与計算設定!J108*給与明細!CE72,0)","v":0},{"$f":"給与計算設定!J109","v":0},{"$f":"給与計算設定!J110","v":0},{"$f":"給与計算設定!J111","v":0},{"$f":"CI77-CI80-CF75","v":0},null,null,null,{"$f":"IF(給与計算設定!K104<>\"\",給与計算設定!K104,ROUND(給与計算設定!K105*給与明細!CM72,0))","v":0},{"$f":"ROUND(給与計算設定!K106*給与明細!CN72,0)","v":0},{"$f":"ROUND(給与計算設定!K107*給与明細!CO72,0)","v":0},{"$f":"ROUND(給与計算設定!K108*給与明細!CP72,0)","v":0},{"$f":"給与計算設定!K109","v":0},{"$f":"給与計算設定!K110","v":0},{"$f":"給与計算設定!K111","v":0},{"$f":"CT77-CT80-CQ75","v":0},null,null,null,{"$f":"IF(給与計算設定!L104<>\"\",給与計算設定!L104,ROUND(給与計算設定!L105*給与明細!CX72,0))","v":0},{"$f":"ROUND(給与計算設定!L106*給与明細!CY72,0)","v":0},{"$f":"ROUND(給与計算設定!L107*給与明細!CZ72,0)","v":0},{"$f":"ROUND(給与計算設定!L108*給与明細!DA72,0)","v":0},{"$f":"給与計算設定!L109","v":0},{"$f":"給与計算設定!L110","v":0},{"$f":"給与計算設定!L111","v":0},{"$f":"DE77-DE80-DB75","v":0},null,null,null,{"$f":"IF(給与計算設定!M104<>\"\",給与計算設定!M104,ROUND(給与計算設定!M105*給与明細!DI72,0))","v":0},{"$f":"ROUND(給与計算設定!M106*給与明細!DJ72,0)","v":0},{"$f":"ROUND(給与計算設定!M107*給与明細!DK72,0)","v":0},{"$f":"ROUND(給与計算設定!M108*給与明細!DL72,0)","v":0},{"$f":"給与計算設定!M109","v":0},{"$f":"給与計算設定!M110","v":0},{"$f":"給与計算設定!M111","v":0},{"$f":"DP77-DP80-DM75","v":0},null,null,null,{"$f":"IF(給与計算設定!N104<>\"\",給与計算設定!N104,ROUND(給与計算設定!N105*給与明細!DT72,0))","v":0},{"$f":"ROUND(給与計算設定!N106*給与明細!DU72,0)","v":0},{"$f":"ROUND(給与計算設定!N107*給与明細!DV72,0)","v":0},{"$f":"ROUND(給与計算設定!N108*給与明細!DW72,0)","v":0},{"$f":"給与計算設定!N109","v":0},{"$f":"給与計算設定!N110","v":0},{"$f":"給与計算設定!N111","v":0},{"$f":"EA77-EA80-DX75","v":0}]
[null,null,{"$f":"給与計算設定!B112","v":0},{"$f":"給与計算設定!B113","v":0},{"$f":"給与計算設定!B114","v":0},{"$f":"給与計算設定!B115","v":0},{"$f":"給与計算設定!B116","v":0},{"$f":"給与計算設定!B117","v":0},{"$f":"給与計算設定!B118","v":0},"支給合計",null,null,null,{"$f":"C76","v":0},0,0,0,0,0,0,"支給合計",null,null,null,{"$f":"N76","v":0},0,0,0,0,0,0,"支給合計",null,null,null,{"$f":"Y76","v":0},0,0,0,0,0,0,"支給合計",null,null,null,{"$f":"AJ76","v":0},0,0,0,0,0,0,"支給合計",null,null,null,{"$f":"AU76","v":0},0,0,0,0,0,0,"支給合計",null,null,null,{"$f":"BF76","v":0},0,0,0,0,0,0,"支給合計",null,null,null,{"$f":"BQ76","v":0},0,0,0,0,0,0,"支給合計",null,null,null,{"$f":"CB76","v":0},0,0,0,0,0,0,"支給合計",null,null,null,{"$f":"CM76","v":0},0,0,0,0,0,0,"支給合計",null,null,null,{"$f":"CX76","v":0},0,0,0,0,0,0,"支給合計",null,null,null,{"$f":"DI76","v":0},0,0,0,0,0,0,"支給合計"]
[null,null,{"$f":"給与計算設定!C112","v":0},{"$f":"給与計算設定!C113","v":0},{"$f":"給与計算設定!C114","v":0},{"$f":"給与計算設定!C115","v":0},{"$f":"給与計算設定!C116","v":0},{"$f":"給与計算設定!C117","v":0},{"$f":"給与計算設定!C118","v":0},{"$f":"SUM(C75:I75,C77:I77)","v":0},null,null,null,{"$f":"給与計算設定!D112","v":0},{"$f":"給与計算設定!D113","v":0},{"$f":"給与計算設定!D114","v":0},{"$f":"給与計算設定!D115","v":0},{"$f":"給与計算設定!D116","v":0},{"$f":"給与計算設定!D117","v":0},{"$f":"給与計算設定!D118","v":0},{"$f":"SUM(N75:T75,N77:T77)","v":0},null,null,null,{"$f":"給与計算設定!E112","v":0},{"$f":"給与計算設定!E113","v":0},{"$f":"給与計算設定!E114","v":0},{"$f":"給与計算設定!E115","v":0},{"$f":"給与計算設定!E116","v":0},{"$f":"給与計算設定!E117","v":0},{"$f":"給与計算設定!E118","v":0},{"$f":"SUM(Y75:AE75,Y77:AE77)","v":0},null,null,null,{"$f":"給与計算設定!F112","v":0},{"$f":"給与計算設定!F113","v":0},{"$f":"給与計算設定!F114","v":0},{"$f":"給与計算設定!F115","v":0},{"$f":"給与計算設定!F116","v":0},{"$f":"給与計算設定!F117","v":0},{"$f":"給与計算設定!F118","v":0},{"$f":"SUM(AJ75:AP75,AJ77:AP77)","v":0},null,null,null,{"$f":"給与計算設定!G112","v":0},{"$f":"給与計算設定!G113","v":0},{"$f":"給与計算設定!G114","v":0},{"$f":"給与計算設定!G115","v":0},{"$f":"給与計算設定!G116","v":0},{"$f":"給与計算設定!G117","v":0},{"$f":"給与計算設定!G118","v":0},{"$f":"SUM(AU75:BA75,AU77:BA77)","v":0},null,null,null,{"$f":"給与計算設定!H112","v":0},{"$f":"給与計算設定!H113","v":0},{"$f":"給与計算設定!H114","v":0},{"$f":"給与計算設定!H115","v":0},{"$f":"給与計算設定!H116","v":0},{"$f":"給与計算設定!H117","v":0},{"$f":"給与計算設定!H118","v":0},{"$f":"SUM(BF75:BL75,BF77:BL77)","v":0},null,null,null,{"$f":"給与計算設定!I112","v":0},{"$f":"給与計算設定!I113","v":0},{"$f":"給与計算設定!I114","v":0},{"$f":"給与計算設定!I115","v":0},{"$f":"給与計算設定!I116","v":0},{"$f":"給与計算設定!I117","v":0},{"$f":"給与計算設定!I118","v":0},{"$f":"SUM(BQ75:BW75,BQ77:BW77)","v":0},null,null,null,{"$f":"給与計算設定!J112","v":0},{"$f":"給与計算設定!J113","v":0},{"$f":"給与計算設定!J114","v":0},{"$f":"給与計算設定!J115","v":0},{"$f":"給与計算設定!J116","v":0},{"$f":"給与計算設定!J117","v":0},{"$f":"給与計算設定!J118","v":0},{"$f":"SUM(CB75:CH75,CB77:CH77)","v":0},null,null,null,{"$f":"給与計算設定!K112","v":0},{"$f":"給与計算設定!K113","v":0},{"$f":"給与計算設定!K114","v":0},{"$f":"給与計算設定!K115","v":0},{"$f":"給与計算設定!K116","v":0},{"$f":"給与計算設定!K117","v":0},{"$f":"給与計算設定!K118","v":0},{"$f":"SUM(CM75:CS75,CM77:CS77)","v":0},null,null,null,{"$f":"給与計算設定!L112","v":0},{"$f":"給与計算設定!L113","v":0},{"$f":"給与計算設定!L114","v":0},{"$f":"給与計算設定!L115","v":0},{"$f":"給与計算設定!L116","v":0},{"$f":"給与計算設定!L117","v":0},{"$f":"給与計算設定!L118","v":0},{"$f":"SUM(CX75:DD75,CX77:DD77)","v":0},null,null,null,{"$f":"給与計算設定!M112","v":0},{"$f":"給与計算設定!M113","v":0},{"$f":"給与計算設定!M114","v":0},{"$f":"給与計算設定!M115","v":0},{"$f":"給与計算設定!M116","v":0},{"$f":"給与計算設定!M117","v":0},{"$f":"給与計算設定!M118","v":0},{"$f":"SUM(DI75:DO75,DI77:DO77)","v":0},null,null,null,{"$f":"給与計算設定!N112","v":0},{"$f":"給与計算設定!N113","v":0},{"$f":"給与計算設定!N114","v":0},{"$f":"給与計算設定!N115","v":0},{"$f":"給与計算設定!N116","v":0},{"$f":"給与計算設定!N117","v":0},{"$f":"給与計算設定!N118","v":0},{"$f":"SUM(DT75:DZ75,DT77:DZ77)","v":0}]
[]
[null,"控除","健康保険料","介護保険料","厚生年金等","雇用保険料","所得税","住民税","年末調整","社会保険料合計",null,null,"控除","健康保険料","介護保険料","厚生年金等","雇用保険料","所得税","住民税","年末調整","社会保険料合計",null,null,"控除","健康保険料","介護保険料","厚生年金等","雇用保険料","所得税","住民税","年末調整","社会保険料合計",null,null,"控除","健康保険料","介護保険料","厚生年金等","雇用保険料","所得税","住民税","年末調整","社会保険料合計",null,null,"控除","健康保険料","介護保険料","厚生年金等","雇用保険料","所得税","住民税","年末調整","社会保険料合計",null,null,"控除","健康保険料","介護保険料","厚生年金等","雇用保険料","所得税","住民税","年末調整","社会保険料合計",null,null,"控除","健康保険料","介護保険料","厚生年金等","雇用保険料","所得税","住民税","年末調整","社会保険料合計",null,null,"控除","健康保険料","介護保険料","厚生年金等","雇用保険料","所得税","住民税","年末調整","社会保険料合計",null,null,"控除","健康保険料","介護保険料","厚生年金等","雇用保険料","所得税","住民税","年末調整","社会保険料合計",null,null,"控除","健康保険料","介護保険料","厚生年金等","雇用保険料","所得税","住民税","年末調整","社会保険料合計",null,null,"控除","健康保険料","介護保険料","厚生年金等","雇用保険料","所得税","住民税","年末調整","社会保険料合計",null,null,"控除","健康保険料","介護保険料","厚生年金等","雇用保険料","所得税","住民税","年末調整","社会保険料合計"]
[null,null,{"$f":"給与計算設定!C120","v":0},{"$f":"給与計算設定!C121","v":0},{"$f":"給与計算設定!C122","v":0},{"$f":"ROUND(給与計算設定!C123*給与明細!J77-0.01,0)","v":0},0,{"$f":"給与計算設定!C124","v":0},null,{"$f":"SUM(C80:F80)","v":0},null,null,null,{"$f":"給与計算設定!D120","v":0},{"$f":"給与計算設定!D121","v":0},{"$f":"給与計算設定!D122","v":0},{"$f":"ROUND(給与計算設定!D123*給与明細!U77-0.01,0)","v":0},0,{"$f":"給与計算設定!D124","v":0},null,{"$f":"SUM(N80:Q80)","v":0},null,null,null,{"$f":"給与計算設定!E120","v":0},{"$f":"給与計算設定!E121","v":0},{"$f":"給与計算設定!E122","v":0},{"$f":"ROUND(給与計算設定!E123*給与明細!AF77-0.01,0)","v":0},0,{"$f":"給与計算設定!E124","v":0},null,{"$f":"SUM(Y80:AB80)","v":0},null,null,null,{"$f":"給与計算設定!F120","v":0},{"$f":"給与計算設定!F121","v":0},{"$f":"給与計算設定!F122","v":0},{"$f":"ROUND(給与計算設定!F123*給与明細!AQ77-0.01,0)","v":0},0,{"$f":"給与計算設定!F124","v":0},null,{"$f":"SUM(AJ80:AM80)","v":0},null,null,null,{"$f":"給与計算設定!G120","v":0},{"$f":"給与計算設定!G121","v":0},{"$f":"給与計算設定!G122","v":0},{"$f":"ROUND(給与計算設定!G123*給与明細!BB77-0.01,0)","v":0},0,{"$f":"給与計算設定!G124","v":0},null,{"$f":"SUM(AU80:AX80)","v":0},null,null,null,{"$f":"給与計算設定!H120","v":0},{"$f":"給与計算設定!H121","v":0},{"$f":"給与計算設定!H122","v":0},{"$f":"ROUND(給与計算設定!H123*給与明細!BM77-0.01,0)","v":0},0,{"$f":"給与計算設定!H124","v":0},null,{"$f":"SUM(BF80:BI80)","v":0},null,null,null,{"$f":"給与計算設定!I120","v":0},{"$f":"給与計算設定!I121","v":0},{"$f":"給与計算設定!I122","v":0},{"$f":"ROUND(給与計算設定!I123*給与明細!BX77-0.01,0)","v":0},0,{"$f":"給与計算設定!I124","v":0},null,{"$f":"SUM(BQ80:BT80)","v":0},null,null,null,{"$f":"給与計算設定!J120","v":0},{"$f":"給与計算設定!J121","v":0},{"$f":"給与計算設定!J122","v":0},{"$f":"ROUND(給与計算設定!J123*給与明細!CI77-0.01,0)","v":0},0,{"$f":"給与計算設定!J124","v":0},null,{"$f":"SUM(CB80:CE80)","v":0},null,null,null,{"$f":"給与計算設定!K120","v":0},{"$f":"給与計算設定!K121","v":0},{"$f":"給与計算設定!K122","v":0},{"$f":"ROUND(給与計算設定!K123*給与明細!CT77-0.01,0)","v":0},0,{"$f":"給与計算設定!K124","v":0},null,{"$f":"SUM(CM80:CP80)","v":0},null,null,null,{"$f":"給与計算設定!L120","v":0},{"$f":"給与計算設定!L121","v":0},{"$f":"給与計算設定!L122","v":0},{"$f":"ROUND(給与計算設定!L123*給与明細!DE77-0.01,0)","v":0},0,{"$f":"給与計算設定!L124","v":0},null,{"$f":"SUM(CX80:DA80)","v":0},null,null,null,{"$f":"給与計算設定!M120","v":0},{"$f":"給与計算設定!M121","v":0},{"$f":"給与計算設定!M122","v":0},{"$f":"ROUND(給与計算設定!M123*給与明細!DP77-0.01,0)","v":0},0,{"$f":"給与計算設定!M124","v":0},null,{"$f":"SUM(DI80:DL80)","v":0},null,null,null,{"$f":"給与計算設定!N120","v":0},{"$f":"給与計算設定!N121","v":0},{"$f":"給与計算設定!N122","v":0},{"$f":"ROUND(給与計算設定!N123*給与明細!EA77-0.01,0)","v":0},0,{"$f":"給与計算設定!N124","v":0},null,{"$f":"SUM(DT80:DW80)","v":0}]
[null,null,{"$f":"給与計算設定!B125","v":0},{"$f":"給与計算設定!B126","v":0},{"$f":"給与計算設定!B127","v":0},{"$f":"給与計算設定!B128","v":0},{"$f":"給与計算設定!B129","v":0},{"$f":"給与計算設定!B130","v":0},{"$f":"給与計算設定!B131","v":0},"控除合計",null,null,null,{"$f":"C81","v":0},0,0,0,0,0,0,"控除合計",null,null,null,{"$f":"N81","v":0},0,0,0,0,0,0,"控除合計",null,null,null,{"$f":"Y81","v":0},0,0,0,0,0,0,"控除合計",null,null,null,{"$f":"AJ81","v":0},0,0,0,0,0,0,"控除合計",null,null,null,{"$f":"AU81","v":0},0,0,0,0,0,0,"控除合計",null,null,null,{"$f":"BF81","v":0},0,0,0,0,0,0,"控除合計",null,null,null,{"$f":"BQ81","v":0},0,0,0,0,0,0,"控除合計",null,null,null,{"$f":"CB81","v":0},0,0,0,0,0,0,"控除合計",null,null,null,{"$f":"CM81","v":0},0,0,0,0,0,0,"控除合計",null,null,null,{"$f":"CX81","v":0},0,0,0,0,0,0,"控除合計",null,null,null,{"$f":"DI81","v":0},0,0,0,0,0,0,"控除合計"]
[null,null,{"$f":"給与計算設定!C125","v":0},{"$f":"給与計算設定!C126","v":0},{"$f":"給与計算設定!C127","v":0},{"$f":"給与計算設定!C128","v":0},{"$f":"給与計算設定!C129","v":0},{"$f":"給与計算設定!C130","v":0},{"$f":"給与計算設定!C131","v":0},{"$f":"SUM(C80:I80,C82:I82)","v":0},null,null,null,{"$f":"給与計算設定!D125","v":0},{"$f":"給与計算設定!D126","v":0},{"$f":"給与計算設定!D127","v":0},{"$f":"給与計算設定!D128","v":0},{"$f":"給与計算設定!D129","v":0},{"$f":"給与計算設定!D130","v":0},{"$f":"給与計算設定!D131","v":0},{"$f":"SUM(N80:T80,N82:T82)","v":0},null,null,null,{"$f":"給与計算設定!E125","v":0},{"$f":"給与計算設定!E126","v":0},{"$f":"給与計算設定!E127","v":0},{"$f":"給与計算設定!E128","v":0},{"$f":"給与計算設定!E129","v":0},{"$f":"給与計算設定!E130","v":0},{"$f":"給与計算設定!E131","v":0},{"$f":"SUM(Y80:AE80,Y82:AE82)","v":0},null,null,null,{"$f":"給与計算設定!F125","v":0},{"$f":"給与計算設定!F126","v":0},{"$f":"給与計算設定!F127","v":0},{"$f":"給与計算設定!F128","v":0},{"$f":"給与計算設定!F129","v":0},{"$f":"給与計算設定!F130","v":0},{"$f":"給与計算設定!F131","v":0},{"$f":"SUM(AJ80:AP80,AJ82:AP82)","v":0},null,null,null,{"$f":"給与計算設定!G125","v":0},{"$f":"給与計算設定!G126","v":0},{"$f":"給与計算設定!G127","v":0},{"$f":"給与計算設定!G128","v":0},{"$f":"給与計算設定!G129","v":0},{"$f":"給与計算設定!G130","v":0},{"$f":"給与計算設定!G131","v":0},{"$f":"SUM(AU80:BA80,AU82:BA82)","v":0},null,null,null,{"$f":"給与計算設定!H125","v":0},{"$f":"給与計算設定!H126","v":0},{"$f":"給与計算設定!H127","v":0},{"$f":"給与計算設定!H128","v":0},{"$f":"給与計算設定!H129","v":0},{"$f":"給与計算設定!H130","v":0},{"$f":"給与計算設定!H131","v":0},{"$f":"SUM(BF80:BL80,BF82:BL82)","v":0},null,null,null,{"$f":"給与計算設定!I125","v":0},{"$f":"給与計算設定!I126","v":0},{"$f":"給与計算設定!I127","v":0},{"$f":"給与計算設定!I128","v":0},{"$f":"給与計算設定!I129","v":0},{"$f":"給与計算設定!I130","v":0},{"$f":"給与計算設定!I131","v":0},{"$f":"SUM(BQ80:BW80,BQ82:BW82)","v":0},null,null,null,{"$f":"給与計算設定!J125","v":0},{"$f":"給与計算設定!J126","v":0},{"$f":"給与計算設定!J127","v":0},{"$f":"給与計算設定!J128","v":0},{"$f":"給与計算設定!J129","v":0},{"$f":"給与計算設定!J130","v":0},{"$f":"給与計算設定!J131","v":0},{"$f":"SUM(CB80:CH80,CB82:CH82)","v":0},null,null,null,{"$f":"給与計算設定!K125","v":0},{"$f":"給与計算設定!K126","v":0},{"$f":"給与計算設定!K127","v":0},{"$f":"給与計算設定!K128","v":0},{"$f":"給与計算設定!K129","v":0},{"$f":"給与計算設定!K130","v":0},{"$f":"給与計算設定!K131","v":0},{"$f":"SUM(CM80:CS80,CM82:CS82)","v":0},null,null,null,{"$f":"給与計算設定!L125","v":0},{"$f":"給与計算設定!L126","v":0},{"$f":"給与計算設定!L127","v":0},{"$f":"給与計算設定!L128","v":0},{"$f":"給与計算設定!L129","v":0},{"$f":"給与計算設定!L130","v":0},{"$f":"給与計算設定!L131","v":0},{"$f":"SUM(CX80:DD80,CX82:DD82)","v":0},null,null,null,{"$f":"給与計算設定!M125","v":0},{"$f":"給与計算設定!M126","v":0},{"$f":"給与計算設定!M127","v":0},{"$f":"給与計算設定!M128","v":0},{"$f":"給与計算設定!M129","v":0},{"$f":"給与計算設定!M130","v":0},{"$f":"給与計算設定!M131","v":0},{"$f":"SUM(DI80:DO80,DI82:DO82)","v":0},null,null,null,{"$f":"給与計算設定!N125","v":0},{"$f":"給与計算設定!N126","v":0},{"$f":"給与計算設定!N127","v":0},{"$f":"給与計算設定!N128","v":0},{"$f":"給与計算設定!N129","v":0},{"$f":"給与計算設定!N130","v":0},{"$f":"給与計算設定!N131","v":0},{"$f":"SUM(DT80:DZ80,DT82:DZ82)","v":0}]
[]
[null,"備考",null,null,null,null,null,null,null,"差引支給額",null,null,"備考",null,null,null,null,null,null,null,"差引支給額",null,null,"備考",null,null,null,null,null,null,null,"差引支給額",null,null,"備考",null,null,null,null,null,null,null,"差引支給額",null,null,"備考",null,null,null,null,null,null,null,"差引支給額",null,null,"備考",null,null,null,null,null,null,null,"差引支給額",null,null,"備考",null,null,null,null,null,null,null,"差引支給額",null,null,"備考",null,null,null,null,null,null,null,"差引支給額",null,null,"備考",null,null,null,null,null,null,null,"差引支給額",null,null,"備考",null,null,null,null,null,null,null,"差引支給額",null,null,"備考",null,null,null,null,null,null,null,"差引支給額",null,null,"備考",null,null,null,null,null,null,null,"差引支給額"]
[null,null,null,null,null,null,null,null,null,{"$f":"J77-J82","v":0},null,null,null,null,null,null,null,null,null,null,{"$f":"U77-U82","v":0},null,null,null,null,null,null,null,null,null,null,{"$f":"AF77-AF82","v":0},null,null,null,null,null,null,null,null,null,null,{"$f":"AQ77-AQ82","v":0},null,null,null,null,null,null,null,null,null,null,{"$f":"BB77-BB82","v":0},null,null,null,null,null,null,null,null,null,null,{"$f":"BM77-BM82","v":0},null,null,null,null,null,null,null,null,null,null,{"$f":"BX77-BX82","v":0},null,null,null,null,null,null,null,null,null,null,{"$f":"CI77-CI82","v":0},null,null,null,null,null,null,null,null,null,null,{"$f":"CT77-CT82","v":0},null,null,null,null,null,null,null,null,null,null,{"$f":"DE77-DE82","v":0},null,null,null,null,null,null,null,null,null,null,{"$f":"DP77-DP82","v":0},null,null,null,null,null,null,null,null,null,null,{"$f":"EA77-EA82","v":0}]
[]
[]
[null,{"$f":"B67","v":"年度１月給与"},null,null,null,null,null,null,null,{"$f":"J67","v":"年度　"},null,null,{"$f":"M67","v":0},null,null,null,null,null,null,null,{"$f":"J88","v":"年度　"},null,null,{"$f":"X67","v":"年度３月給与"},null,null,null,null,null,null,null,{"$f":"U88","v":"年度　"},null,null,{"$f":"AI67","v":"年度４月給与"},null,null,null,null,null,null,null,{"$f":"AF88","v":"年度　"},null,null,{"$f":"AT67","v":"年度５月給与"},null,null,null,null,null,null,null,{"$f":"AQ88","v":"年度　"},null,null,{"$f":"BE67","v":"年度６月給与"},null,null,null,null,null,null,null,{"$f":"BB88","v":"年度　"},null,null,{"$f":"BP67","v":"年度７月給与"},null,null,null,null,null,null,null,{"$f":"BM88","v":"年度　"},null,null,{"$f":"給与計算設定!$E$2&給与計算設定!$F$2&\"８月給与\"","v":"年度８月給与"},null,null,null,null,null,null,null,{"$f":"BX88","v":"年度　"},null,null,{"$f":"給与計算設定!$E$2&給与計算設定!$F$2&\"９月給与\"","v":"年度９月給与"},null,null,null,null,null,null,null,{"$f":"CI88","v":"年度　"},null,null,{"$f":"給与計算設定!$E$2&給与計算設定!$F$2&\"１０月給与\"","v":"年度１０月給与"},null,null,null,null,null,null,null,{"$f":"CT88","v":"年度　"},null,null,{"$f":"給与計算設定!$E$2&給与計算設定!$F$2&\"１１月給与\"","v":"年度１１月給与"},null,null,null,null,null,null,null,{"$f":"DE88","v":"年度　"},null,null,{"$f":"給与計算設定!$E$2&給与計算設定!$F$2&\"１２月給与\"","v":"年度１２月給与"},null,null,null,null,null,null,null,{"$f":"DP88","v":"年度　"}]
[]
[5,"氏名",{"$f":"給与計算設定!B136","v":0},null,null,null,null,null,null,null,null,5,"氏名",{"$f":"C90","v":0},null,null,null,null,null,null,null,null,5,"氏名",{"$f":"N90","v":0},null,null,null,null,null,null,null,null,5,"氏名",{"$f":"Y90","v":0},null,null,null,null,null,null,null,null,5,"氏名",{"$f":"AJ90","v":0},null,null,{"$f":"AX67","v":0},null,null,null,{"$f":"AQ90","v":0},null,5,"氏名",{"$f":"AU90","v":0},null,null,{"$f":"BI67","v":0},null,null,null,{"$f":"BB90","v":0},null,5,"氏名",{"$f":"BF90","v":0},null,null,{"$f":"BT67","v":0},null,null,null,{"$f":"BM90","v":0},null,5,"氏名",{"$f":"BQ90","v":0},null,null,null,null,null,null,null,null,5,"氏名",{"$f":"CB90","v":0},null,null,null,null,null,null,null,null,5,"氏名",{"$f":"CM90","v":0},null,null,null,null,null,null,null,null,5,"氏名",{"$f":"CX90","v":0},null,null,null,null,null,null,null,null,5,"氏名",{"$f":"DI90","v":0},null,null,null,null,null,null,null,null,5]
[]
[null,"勤怠","労働時間","普通残業時間","深夜労働時間","休日労働時間","出勤日数","欠勤日数","有休日数","有休残日数",null,null,"勤怠","労働時間","普通残業時間","深夜労働時間","休日労働時間","出勤日数","欠勤日数","有休日数","有休残日数",null,null,"勤怠","労働時間","普通残業時間","深夜労働時間","休日労働時間","出勤日数","欠勤日数","有休日数","有休残日数",null,null,"勤怠","労働時間","普通残業時間","深夜労働時間","休日労働時間","出勤日数","欠勤日数","有休日数","有休残日数",null,null,"勤怠","労働時間","普通残業時間","深夜労働時間","休日労働時間","出勤日数","欠勤日数","有休日数","有休残日数",null,null,"勤怠","労働時間","普通残業時間","深夜労働時間","休日労働時間","出勤日数","欠勤日数","有休日数","有休残日数",null,null,"勤怠","労働時間","普通残業時間","深夜労働時間","休日労働時間","出勤日数","欠勤日数","有休日数","有休残日数",null,null,"勤怠","労働時間","普通残業時間","深夜労働時間","休日労働時間","出勤日数","欠勤日数","有休日数","有休残日数",null,null,"勤怠","労働時間","普通残業時間","深夜労働時間","休日労働時間","出勤日数","欠勤日数","有休日数","有休残日数",null,null,"勤怠","労働時間","普通残業時間","深夜労働時間","休日労働時間","出勤日数","欠勤日数","有休日数","有休残日数",null,null,"勤怠","労働時間","普通残業時間","深夜労働時間","休日労働時間","出勤日数","欠勤日数","有休日数","有休残日数",null,null,"勤怠","労働時間","普通残業時間","深夜労働時間","休日労働時間","出勤日数","欠勤日数","有休日数","有休残日数"]
[]
[]
[null,"支給","基本給","時間外手当","深夜手当","休日手当",{"$f":"給与計算設定!B142","v":"通勤手当"},{"$f":"給与計算設定!B143","v":0},{"$f":"給与計算設定!B144","v":0},"課税対象額",null,null,"支給","基本給","時間外手当","深夜手当","休日手当",{"$f":"G95","v":"通勤手当"},{"$f":"H95","v":0},{"$f":"I95","v":0},"課税対象額",null,null,"支給","基本給","時間外手当","深夜手当","休日手当",{"$f":"R95","v":"通勤手当"},{"$f":"S95","v":0},{"$f":"T95","v":0},"課税対象額",null,null,"支給","基本給","時間外手当","深夜手当","休日手当",{"$f":"AC95","v":"通勤手当"},{"$f":"AD95","v":0},{"$f":"AE95","v":0},"課税対象額",null,null,"支給","基本給","時間外手当","深夜手当","休日手当",{"$f":"AN95","v":"通勤手当"},{"$f":"AO95","v":0},{"$f":"AP95","v":0},"課税対象額",null,null,"支給","基本給","時間外手当","深夜手当","休日手当",{"$f":"AY95","v":"通勤手当"},{"$f":"AZ95","v":0},{"$f":"BA95","v":0},"課税対象額",null,null,"支給","基本給","時間外手当","深夜手当","休日手当",{"$f":"BJ95","v":"通勤手当"},{"$f":"BK95","v":0},{"$f":"BL95","v":0},"課税対象額",null,null,"支給","基本給","時間外手当","深夜手当","休日手当",{"$f":"BU95","v":"通勤手当"},{"$f":"BV95","v":0},{"$f":"BW95","v":0},"課税対象額",null,null,"支給","基本給","時間外手当","深夜手当","休日手当",{"$f":"CF95","v":"通勤手当"},{"$f":"CG95","v":0},{"$f":"CH95","v":0},"課税対象額",null,null,"支給","基本給","時間外手当","深夜手当","休日手当",{"$f":"CQ95","v":"通勤手当"},{"$f":"CR95","v":0},{"$f":"CS95","v":0},"課税対象額",null,null,"支給","基本給","時間外手当","深夜手当","休日手当",{"$f":"DB95","v":"通勤手当"},{"$f":"DC95","v":0},{"$f":"DD95","v":0},"課税対象額",null,null,"支給","基本給","時間外手当","深夜手当","休日手当",{"$f":"DM95","v":"通勤手当"},{"$f":"DN95","v":0},{"$f":"DO95","v":0},"課税対象額"]
[null,null,{"$f":"IF(給与計算設定!C137<>\"\",給与計算設定!C137,ROUND(給与計算設定!C138*給与明細!C93,0))","v":0},{"$f":"ROUND(給与計算設定!C139*給与明細!D93,0)","v":0},{"$f":"ROUND(給与計算設定!C140*給与明細!E93,0)","v":0},{"$f":"ROUND(給与計算設定!C141*給与明細!F93,0)","v":0},{"$f":"給与計算設定!C142","v":0},{"$f":"給与計算設定!C143","v":0},{"$f":"給与計算設定!C144","v":0},{"$f":"J98-J101-G96","v":0},null,null,null,{"$f":"IF(給与計算設定!D137<>\"\",給与計算設定!D137,ROUND(給与計算設定!D138*給与明細!N93,0))","v":0},{"$f":"ROUND(給与計算設定!D139*給与明細!O93,0)","v":0},{"$f":"ROUND(給与計算設定!D140*給与明細!P93,0)","v":0},{"$f":"ROUND(給与計算設定!D141*給与明細!Q93,0)","v":0},{"$f":"給与計算設定!D142","v":0},{"$f":"給与計算設定!D143","v":0},{"$f":"給与計算設定!D144","v":0},{"$f":"U98-U101-R96","v":0},null,null,null,{"$f":"IF(給与計算設定!E137<>\"\",給与計算設定!E137,ROUND(給与計算設定!E138*給与明細!Y93,0))","v":0},{"$f":"ROUND(給与計算設定!E139*給与明細!Z93,0)","v":0},{"$f":"ROUND(給与計算設定!E140*給与明細!AA93,0)","v":0},{"$f":"ROUND(給与計算設定!E141*給与明細!AB93,0)","v":0},{"$f":"給与計算設定!E142","v":0},{"$f":"給与計算設定!E143","v":0},{"$f":"給与計算設定!E144","v":0},{"$f":"AF98-AF101-AC96","v":0},null,null,null,{"$f":"IF(給与計算設定!F137<>\"\",給与計算設定!F137,ROUND(給与計算設定!F138*給与明細!AJ93,0))","v":0},{"$f":"ROUND(給与計算設定!F139*給与明細!AK93,0)","v":0},{"$f":"ROUND(給与計算設定!F140*給与明細!AL93,0)","v":0},{"$f":"ROUND(給与計算設定!F141*給与明細!AM93,0)","v":0},{"$f":"給与計算設定!F142","v":0},{"$f":"給与計算設定!F143","v":0},{"$f":"給与計算設定!F144","v":0},{"$f":"AQ98-AQ101-AN96","v":0},null,null,null,{"$f":"IF(給与計算設定!G137<>\"\",給与計算設定!G137,ROUND(給与計算設定!G138*給与明細!AU93,0))","v":0},{"$f":"ROUND(給与計算設定!G139*給与明細!AV93,0)","v":0},{"$f":"ROUND(給与計算設定!G140*給与明細!AW93,0)","v":0},{"$f":"ROUND(給与計算設定!G141*給与明細!AX93,0)","v":0},{"$f":"給与計算設定!G142","v":0},{"$f":"給与計算設定!G143","v":0},{"$f":"給与計算設定!G144","v":0},{"$f":"BB98-BB101-AY96","v":0},null,null,null,{"$f":"IF(給与計算設定!H137<>\"\",給与計算設定!H137,ROUND(給与計算設定!H138*給与明細!BF93,0))","v":0},{"$f":"ROUND(給与計算設定!H139*給与明細!BG93,0)","v":0},{"$f":"ROUND(給与計算設定!H140*給与明細!BH93,0)","v":0},{"$f":"ROUND(給与計算設定!H141*給与明細!BH93,0)","v":0},{"$f":"給与計算設定!H142","v":0},{"$f":"給与計算設定!H143","v":0},{"$f":"給与計算設定!H144","v":0},{"$f":"BM98-BM101-BJ96","v":0},null,null,null,{"$f":"IF(給与計算設定!I137<>\"\",給与計算設定!I137,ROUND(給与計算設定!I138*給与明細!BQ93,0))","v":0},{"$f":"ROUND(給与計算設定!I139*給与明細!BR93,0)","v":0},{"$f":"ROUND(給与計算設定!I140*給与明細!BS93,0)","v":0},{"$f":"ROUND(給与計算設定!I141*給与明細!BT93,0)","v":0},{"$f":"給与計算設定!I142","v":0},{"$f":"給与計算設定!I143","v":0},{"$f":"給与計算設定!I144","v":0},{"$f":"BX98-BX101-BU96","v":0},null,null,null,{"$f":"IF(給与計算設定!J137<>\"\",給与計算設定!J137,ROUND(給与計算設定!J138*給与明細!CB93,0))","v":0},{"$f":"ROUND(給与計算設定!J139*給与明細!CC93,0)","v":0},{"$f":"ROUND(給与計算設定!J140*給与明細!CD93,0)","v":0},{"$f":"ROUND(給与計算設定!J141*給与明細!CE93,0)","v":0},{"$f":"給与計算設定!J142","v":0},{"$f":"給与計算設定!J143","v":0},{"$f":"給与計算設定!J144","v":0},{"$f":"CI98-CI101-CF96","v":0},null,null,null,{"$f":"IF(給与計算設定!K137<>\"\",給与計算設定!K137,ROUND(給与計算設定!K138*給与明細!CM93,0))","v":0},{"$f":"ROUND(給与計算設定!K139*給与明細!CN93,0)","v":0},{"$f":"ROUND(給与計算設定!K140*給与明細!CO93,0)","v":0},{"$f":"ROUND(給与計算設定!K141*給与明細!CP93,0)","v":0},{"$f":"給与計算設定!K142","v":0},{"$f":"給与計算設定!K143","v":0},{"$f":"給与計算設定!K144","v":0},{"$f":"CT98-CT101-CQ96","v":0},null,null,null,{"$f":"IF(給与計算設定!L137<>\"\",給与計算設定!L137,ROUND(給与計算設定!L138*給与明細!CX93,0))","v":0},{"$f":"ROUND(給与計算設定!L139*給与明細!CY93,0)","v":0},{"$f":"ROUND(給与計算設定!L140*給与明細!CZ93,0)","v":0},{"$f":"ROUND(給与計算設定!L141*給与明細!DA93,0)","v":0},{"$f":"給与計算設定!L142","v":0},{"$f":"給与計算設定!L143","v":0},{"$f":"給与計算設定!L144","v":0},{"$f":"DE98-DE101-DB96","v":0},null,null,null,{"$f":"IF(給与計算設定!M137<>\"\",給与計算設定!M137,ROUND(給与計算設定!M138*給与明細!DI93,0))","v":0},{"$f":"ROUND(給与計算設定!M139*給与明細!DJ93,0)","v":0},{"$f":"ROUND(給与計算設定!M140*給与明細!DK93,0)","v":0},{"$f":"ROUND(給与計算設定!M141*給与明細!DL93,0)","v":0},{"$f":"給与計算設定!M142","v":0},{"$f":"給与計算設定!M143","v":0},{"$f":"給与計算設定!M144","v":0},{"$f":"DP98-DP101-DM96","v":0},null,null,null,{"$f":"IF(給与計算設定!N137<>\"\",給与計算設定!N137,ROUND(給与計算設定!N138*給与明細!DT93,0))","v":0},{"$f":"ROUND(給与計算設定!N139*給与明細!DU93,0)","v":0},{"$f":"ROUND(給与計算設定!N140*給与明細!DV93,0)","v":0},{"$f":"ROUND(給与計算設定!N141*給与明細!DW93,0)","v":0},{"$f":"給与計算設定!N142","v":0},{"$f":"給与計算設定!N143","v":0},{"$f":"給与計算設定!N144","v":0},{"$f":"EA98-EA101-DX96","v":0}]
[null,null,{"$f":"給与計算設定!B145","v":0},{"$f":"給与計算設定!B146","v":0},{"$f":"給与計算設定!B147","v":0},{"$f":"給与計算設定!B148","v":0},{"$f":"給与計算設定!B149","v":0},{"$f":"給与計算設定!B150","v":0},{"$f":"給与計算設定!B151","v":0},"支給合計",null,null,null,{"$f":"C97","v":0},0,0,0,0,0,0,"支給合計",null,null,null,{"$f":"N97","v":0},0,0,0,0,0,0,"支給合計",null,null,null,{"$f":"Y97","v":0},0,0,0,0,0,0,"支給合計",null,null,null,{"$f":"AJ97","v":0},0,0,0,0,0,0,"支給合計",null,null,null,{"$f":"AU97","v":0},0,0,0,0,0,0,"支給合計",null,null,null,{"$f":"BF97","v":0},0,0,0,0,0,0,"支給合計",null,null,null,{"$f":"BQ97","v":0},0,0,0,0,0,0,"支給合計",null,null,null,{"$f":"CB97","v":0},0,0,0,0,0,0,"支給合計",null,null,null,{"$f":"CM97","v":0},0,0,0,0,0,0,"支給合計",null,null,null,{"$f":"CX97","v":0},0,0,0,0,0,0,"支給合計",null,null,null,{"$f":"DI97","v":0},0,0,0,0,0,0,"支給合計"]
[null,null,{"$f":"給与計算設定!C145","v":0},{"$f":"給与計算設定!C146","v":0},{"$f":"給与計算設定!C147","v":0},{"$f":"給与計算設定!C148","v":0},{"$f":"給与計算設定!C149","v":0},{"$f":"給与計算設定!C150","v":0},{"$f":"給与計算設定!C151","v":0},{"$f":"SUM(C96:I96,C98:I98)","v":0},null,null,null,{"$f":"給与計算設定!D145","v":0},{"$f":"給与計算設定!D146","v":0},{"$f":"給与計算設定!D147","v":0},{"$f":"給与計算設定!D148","v":0},{"$f":"給与計算設定!D149","v":0},{"$f":"給与計算設定!D150","v":0},{"$f":"給与計算設定!D151","v":0},{"$f":"SUM(N96:T96,N98:T98)","v":0},null,null,null,{"$f":"給与計算設定!E145","v":0},{"$f":"給与計算設定!E146","v":0},{"$f":"給与計算設定!E147","v":0},{"$f":"給与計算設定!E148","v":0},{"$f":"給与計算設定!E149","v":0},{"$f":"給与計算設定!E150","v":0},{"$f":"給与計算設定!E151","v":0},{"$f":"SUM(Y96:AE96,Y98:AE98)","v":0},null,null,null,{"$f":"給与計算設定!F145","v":0},{"$f":"給与計算設定!F146","v":0},{"$f":"給与計算設定!F147","v":0},{"$f":"給与計算設定!F148","v":0},{"$f":"給与計算設定!F149","v":0},{"$f":"給与計算設定!F150","v":0},{"$f":"給与計算設定!F151","v":0},{"$f":"SUM(AJ96:AP96,AJ98:AP98)","v":0},null,null,null,{"$f":"給与計算設定!G145","v":0},{"$f":"給与計算設定!G146","v":0},{"$f":"給与計算設定!G147","v":0},{"$f":"給与計算設定!G148","v":0},{"$f":"給与計算設定!G149","v":0},{"$f":"給与計算設定!G150","v":0},{"$f":"給与計算設定!G151","v":0},{"$f":"SUM(AU96:BA96,AU98:BA98)","v":0},null,null,null,{"$f":"給与計算設定!H145","v":0},{"$f":"給与計算設定!H146","v":0},{"$f":"給与計算設定!H147","v":0},{"$f":"給与計算設定!H148","v":0},{"$f":"給与計算設定!H149","v":0},{"$f":"給与計算設定!H150","v":0},{"$f":"給与計算設定!H151","v":0},{"$f":"SUM(BF96:BL96,BF98:BL98)","v":0},null,null,null,{"$f":"給与計算設定!I145","v":0},{"$f":"給与計算設定!I146","v":0},{"$f":"給与計算設定!I147","v":0},{"$f":"給与計算設定!I148","v":0},{"$f":"給与計算設定!I149","v":0},{"$f":"給与計算設定!I150","v":0},{"$f":"給与計算設定!I151","v":0},{"$f":"SUM(BQ96:BW96,BQ98:BW98)","v":0},null,null,null,{"$f":"給与計算設定!J145","v":0},{"$f":"給与計算設定!J146","v":0},{"$f":"給与計算設定!J147","v":0},{"$f":"給与計算設定!J148","v":0},{"$f":"給与計算設定!J149","v":0},{"$f":"給与計算設定!J150","v":0},{"$f":"給与計算設定!J151","v":0},{"$f":"SUM(CB96:CH96,CB98:CH98)","v":0},null,null,null,{"$f":"給与計算設定!K145","v":0},{"$f":"給与計算設定!K146","v":0},{"$f":"給与計算設定!K147","v":0},{"$f":"給与計算設定!K148","v":0},{"$f":"給与計算設定!K149","v":0},{"$f":"給与計算設定!K150","v":0},{"$f":"給与計算設定!K151","v":0},{"$f":"SUM(CM96:CS96,CM98:CS98)","v":0},null,null,null,{"$f":"給与計算設定!L145","v":0},{"$f":"給与計算設定!L146","v":0},{"$f":"給与計算設定!L147","v":0},{"$f":"給与計算設定!L148","v":0},{"$f":"給与計算設定!L149","v":0},{"$f":"給与計算設定!L150","v":0},{"$f":"給与計算設定!L151","v":0},{"$f":"SUM(CX96:DD96,CX98:DD98)","v":0},null,null,null,{"$f":"給与計算設定!M145","v":0},{"$f":"給与計算設定!M146","v":0},{"$f":"給与計算設定!M147","v":0},{"$f":"給与計算設定!M148","v":0},{"$f":"給与計算設定!M149","v":0},{"$f":"給与計算設定!M150","v":0},{"$f":"給与計算設定!M151","v":0},{"$f":"SUM(DI96:DO96,DI98:DO98)","v":0},null,null,null,{"$f":"給与計算設定!N145","v":0},{"$f":"給与計算設定!N146","v":0},{"$f":"給与計算設定!N147","v":0},{"$f":"給与計算設定!N148","v":0},{"$f":"給与計算設定!N149","v":0},{"$f":"給与計算設定!N150","v":0},{"$f":"給与計算設定!N151","v":0},{"$f":"SUM(DT96:DZ96,DT98:DZ98)","v":0}]
[]
[null,"控除","健康保険料","介護保険料","厚生年金等","雇用保険料","所得税","住民税","年末調整","社会保険料合計",null,null,"控除","健康保険料","介護保険料","厚生年金等","雇用保険料","所得税","住民税","年末調整","社会保険料合計",null,null,"控除","健康保険料","介護保険料","厚生年金等","雇用保険料","所得税","住民税","年末調整","社会保険料合計",null,null,"控除","健康保険料","介護保険料","厚生年金等","雇用保険料","所得税","住民税","年末調整","社会保険料合計",null,null,"控除","健康保険料","介護保険料","厚生年金等","雇用保険料","所得税","住民税","年末調整","社会保険料合計",null,null,"控除","健康保険料","介護保険料","厚生年金等","雇用保険料","所得税","住民税","年末調整","社会保険料合計",null,null,"控除","健康保険料","介護保険料","厚生年金等","雇用保険料","所得税","住民税","年末調整","社会保険料合計",null,null,"控除","健康保険料","介護保険料","厚生年金等","雇用保険料","所得税","住民税","年末調整","社会保険料合計",null,null,"控除","健康保険料","介護保険料","厚生年金等","雇用保険料","所得税","住民税","年末調整","社会保険料合計",null,null,"控除","健康保険料","介護保険料","厚生年金等","雇用保険料","所得税","住民税","年末調整","社会保険料合計",null,null,"控除","健康保険料","介護保険料","厚生年金等","雇用保険料","所得税","住民税","年末調整","社会保険料合計",null,null,"控除","健康保険料","介護保険料","厚生年金等","雇用保険料","所得税","住民税","年末調整","社会保険料合計"]
[null,null,{"$f":"給与計算設定!C153","v":0},{"$f":"給与計算設定!C154","v":0},{"$f":"給与計算設定!C155","v":0},{"$f":"ROUND(給与計算設定!C156*給与明細!J98-0.01,0)","v":0},0,{"$f":"給与計算設定!C157","v":0},null,{"$f":"SUM(C101:F101)","v":0},null,null,null,{"$f":"給与計算設定!D153","v":0},{"$f":"給与計算設定!D154","v":0},{"$f":"給与計算設定!D155","v":0},{"$f":"ROUND(給与計算設定!D156*給与明細!U98-0.01,0)","v":0},0,{"$f":"給与計算設定!D157","v":0},null,{"$f":"SUM(N101:Q101)","v":0},null,null,null,{"$f":"給与計算設定!E153","v":0},{"$f":"給与計算設定!E154","v":0},{"$f":"給与計算設定!E155","v":0},{"$f":"ROUND(給与計算設定!E156*給与明細!AF98-0.01,0)","v":0},0,{"$f":"給与計算設定!E157","v":0},null,{"$f":"SUM(Y101:AB101)","v":0},null,null,null,{"$f":"給与計算設定!F153","v":0},{"$f":"給与計算設定!F154","v":0},{"$f":"給与計算設定!F155","v":0},{"$f":"ROUND(給与計算設定!F156*給与明細!AQ98-0.01,0)","v":0},0,{"$f":"給与計算設定!F157","v":0},null,{"$f":"SUM(AJ101:AM101)","v":0},null,null,null,{"$f":"給与計算設定!G153","v":0},{"$f":"給与計算設定!G154","v":0},{"$f":"給与計算設定!G155","v":0},{"$f":"ROUND(給与計算設定!G156*給与明細!BB98-0.01,0)","v":0},0,{"$f":"給与計算設定!G157","v":0},null,{"$f":"SUM(AU101:AX101)","v":0},null,null,null,{"$f":"給与計算設定!H153","v":0},{"$f":"給与計算設定!H154","v":0},{"$f":"給与計算設定!H155","v":0},{"$f":"ROUND(給与計算設定!H156*給与明細!BM98-0.01,0)","v":0},0,{"$f":"給与計算設定!H157","v":0},null,{"$f":"SUM(BF101:BI101)","v":0},null,null,null,{"$f":"給与計算設定!I153","v":0},{"$f":"給与計算設定!I154","v":0},{"$f":"給与計算設定!I155","v":0},{"$f":"ROUND(給与計算設定!I156*給与明細!BX98-0.01,0)","v":0},0,{"$f":"給与計算設定!I157","v":0},null,{"$f":"SUM(BQ101:BT101)","v":0},null,null,null,{"$f":"給与計算設定!J153","v":0},{"$f":"給与計算設定!J154","v":0},{"$f":"給与計算設定!J155","v":0},{"$f":"ROUND(給与計算設定!J156*給与明細!CI98-0.01,0)","v":0},0,{"$f":"給与計算設定!J157","v":0},null,{"$f":"SUM(CB101:CE101)","v":0},null,null,null,{"$f":"給与計算設定!K153","v":0},{"$f":"給与計算設定!K154","v":0},{"$f":"給与計算設定!K155","v":0},{"$f":"ROUND(給与計算設定!K156*給与明細!CT98-0.01,0)","v":0},0,{"$f":"給与計算設定!K157","v":0},null,{"$f":"SUM(CM101:CP101)","v":0},null,null,null,{"$f":"給与計算設定!L153","v":0},{"$f":"給与計算設定!L154","v":0},{"$f":"給与計算設定!L155","v":0},{"$f":"ROUND(給与計算設定!L156*給与明細!DE98-0.01,0)","v":0},0,{"$f":"給与計算設定!L157","v":0},null,{"$f":"SUM(CX101:DA101)","v":0},null,null,null,{"$f":"給与計算設定!M153","v":0},{"$f":"給与計算設定!M154","v":0},{"$f":"給与計算設定!M155","v":0},{"$f":"ROUND(給与計算設定!M156*給与明細!DP98-0.01,0)","v":0},0,{"$f":"給与計算設定!M157","v":0},null,{"$f":"SUM(DI101:DL101)","v":0},null,null,null,{"$f":"給与計算設定!N153","v":0},{"$f":"給与計算設定!N154","v":0},{"$f":"給与計算設定!N155","v":0},{"$f":"ROUND(給与計算設定!N156*給与明細!EA98-0.01,0)","v":0},0,{"$f":"給与計算設定!N157","v":0},null,{"$f":"SUM(DT101:DW101)","v":0}]
[null,null,{"$f":"給与計算設定!B158","v":0},{"$f":"給与計算設定!B159","v":0},{"$f":"給与計算設定!B160","v":0},{"$f":"給与計算設定!B161","v":0},{"$f":"給与計算設定!B162","v":0},{"$f":"給与計算設定!B163","v":0},{"$f":"給与計算設定!B164","v":0},"控除合計",null,null,null,{"$f":"C102","v":0},0,0,0,0,0,0,"控除合計",null,null,null,{"$f":"N102","v":0},0,0,0,0,0,0,"控除合計",null,null,null,{"$f":"Y102","v":0},0,0,0,0,0,0,"控除合計",null,null,null,{"$f":"AJ102","v":0},0,0,0,0,0,0,"控除合計",null,null,null,{"$f":"AU102","v":0},0,0,0,0,0,0,"控除合計",null,null,null,{"$f":"BF102","v":0},0,0,0,0,0,0,"控除合計",null,null,null,{"$f":"BQ102","v":0},0,0,0,0,0,0,"控除合計",null,null,null,{"$f":"CB102","v":0},0,0,0,0,0,0,"控除合計",null,null,null,{"$f":"CM102","v":0},0,0,0,0,0,0,"控除合計",null,null,null,{"$f":"CX102","v":0},0,0,0,0,0,0,"控除合計",null,null,null,{"$f":"DI102","v":0},0,0,0,0,0,0,"控除合計"]
[null,null,{"$f":"給与計算設定!C158","v":0},{"$f":"給与計算設定!C159","v":0},{"$f":"給与計算設定!C160","v":0},{"$f":"給与計算設定!C161","v":0},{"$f":"給与計算設定!C162","v":0},{"$f":"給与計算設定!C163","v":0},{"$f":"給与計算設定!C164","v":0},{"$f":"SUM(C101:I101,C103:I103)","v":0},null,null,null,{"$f":"給与計算設定!D158","v":0},{"$f":"給与計算設定!D159","v":0},{"$f":"給与計算設定!D160","v":0},{"$f":"給与計算設定!D161","v":0},{"$f":"給与計算設定!D162","v":0},{"$f":"給与計算設定!D163","v":0},{"$f":"給与計算設定!D164","v":0},{"$f":"SUM(N101:T101,N103:T103)","v":0},null,null,null,{"$f":"給与計算設定!E158","v":0},{"$f":"給与計算設定!E159","v":0},{"$f":"給与計算設定!E160","v":0},{"$f":"給与計算設定!E161","v":0},{"$f":"給与計算設定!E162","v":0},{"$f":"給与計算設定!E163","v":0},{"$f":"給与計算設定!E164","v":0},{"$f":"SUM(Y101:AE101,Y103:AE103)","v":0},null,null,null,{"$f":"給与計算設定!F158","v":0},{"$f":"給与計算設定!F159","v":0},{"$f":"給与計算設定!F160","v":0},{"$f":"給与計算設定!F161","v":0},{"$f":"給与計算設定!F162","v":0},{"$f":"給与計算設定!F163","v":0},{"$f":"給与計算設定!F164","v":0},{"$f":"SUM(AJ101:AP101,AJ103:AP103)","v":0},null,null,null,{"$f":"給与計算設定!G158","v":0},{"$f":"給与計算設定!G159","v":0},{"$f":"給与計算設定!G160","v":0},{"$f":"給与計算設定!G161","v":0},{"$f":"給与計算設定!G162","v":0},{"$f":"給与計算設定!G163","v":0},{"$f":"給与計算設定!G164","v":0},{"$f":"SUM(AU101:BA101,AU103:BA103)","v":0},null,null,null,{"$f":"給与計算設定!H158","v":0},{"$f":"給与計算設定!H159","v":0},{"$f":"給与計算設定!H160","v":0},{"$f":"給与計算設定!H161","v":0},{"$f":"給与計算設定!H162","v":0},{"$f":"給与計算設定!H163","v":0},{"$f":"給与計算設定!H164","v":0},{"$f":"SUM(BF101:BL101,BF103:BL103)","v":0},null,null,null,{"$f":"給与計算設定!I158","v":0},{"$f":"給与計算設定!I159","v":0},{"$f":"給与計算設定!I160","v":0},{"$f":"給与計算設定!I161","v":0},{"$f":"給与計算設定!I162","v":0},{"$f":"給与計算設定!I163","v":0},{"$f":"給与計算設定!I164","v":0},{"$f":"SUM(BQ101:BW101,BQ103:BW103)","v":0},null,null,null,{"$f":"給与計算設定!J158","v":0},{"$f":"給与計算設定!J159","v":0},{"$f":"給与計算設定!J160","v":0},{"$f":"給与計算設定!J161","v":0},{"$f":"給与計算設定!J162","v":0},{"$f":"給与計算設定!J163","v":0},{"$f":"給与計算設定!J164","v":0},{"$f":"SUM(CB101:CH101,CB103:CH103)","v":0},null,null,null,{"$f":"給与計算設定!K158","v":0},{"$f":"給与計算設定!K159","v":0},{"$f":"給与計算設定!K160","v":0},{"$f":"給与計算設定!K161","v":0},{"$f":"給与計算設定!K162","v":0},{"$f":"給与計算設定!K163","v":0},{"$f":"給与計算設定!K164","v":0},{"$f":"SUM(CM101:CS101,CM103:CS103)","v":0},null,null,null,{"$f":"給与計算設定!L158","v":0},{"$f":"給与計算設定!L159","v":0},{"$f":"給与計算設定!L160","v":0},{"$f":"給与計算設定!L161","v":0},{"$f":"給与計算設定!L162","v":0},{"$f":"給与計算設定!L163","v":0},{"$f":"給与計算設定!L164","v":0},{"$f":"SUM(CX101:DD101,CX103:DD103)","v":0},null,null,null,{"$f":"給与計算設定!M158","v":0},{"$f":"給与計算設定!M159","v":0},{"$f":"給与計算設定!M160","v":0},{"$f":"給与計算設定!M161","v":0},{"$f":"給与計算設定!M162","v":0},{"$f":"給与計算設定!M163","v":0},{"$f":"給与計算設定!M164","v":0},{"$f":"SUM(DI101:DO101,DI103:DO103)","v":0},null,null,null,{"$f":"給与計算設定!N158","v":0},{"$f":"給与計算設定!N159","v":0},{"$f":"給与計算設定!N160","v":0},{"$f":"給与計算設定!N161","v":0},{"$f":"給与計算設定!N162","v":0},{"$f":"給与計算設定!N163","v":0},{"$f":"給与計算設定!N164","v":0},{"$f":"SUM(DT101:DZ101,DT103:DZ103)","v":0}]
[]
[null,"備考",null,null,null,null,null,null,null,"差引支給額",null,null,"備考",null,null,null,null,null,null,null,"差引支給額",null,null,"備考",null,null,null,null,null,null,null,"差引支給額",null,null,"備考",null,null,null,null,null,null,null,"差引支給額",null,null,"備考",null,null,null,null,null,null,null,"差引支給額",null,null,"備考",null,null,null,null,null,null,null,"差引支給額",null,null,"備考",null,null,null,null,null,null,null,"差引支給額",null,null,"備考",null,null,null,null,null,null,null,"差引支給額",null,null,"備考",null,null,null,null,null,null,null,"差引支給額",null,null,"備考",null,null,null,null,null,null,null,"差引支給額",null,null,"備考",null,null,null,null,null,null,null,"差引支給額",null,null,"備考",null,null,null,null,null,null,null,"差引支給額"]
[null,null,null,null,null,null,null,null,null,{"$f":"J98-J103","v":0},null,null,null,null,null,null,null,null,null,null,{"$f":"U98-U103","v":0},null,null,null,null,null,null,null,null,null,null,{"$f":"AF98-AF103","v":0},null,null,null,null,null,null,null,null,null,null,{"$f":"AQ98-AQ103","v":0},null,null,null,null,null,null,null,null,null,null,{"$f":"BB98-BB103","v":0},null,null,null,null,null,null,null,null,null,null,{"$f":"BM98-BM103","v":0},null,null,null,null,null,null,null,null,null,null,{"$f":"BX98-BX103","v":0},null,null,null,null,null,null,null,null,null,null,{"$f":"CI98-CI103","v":0},null,null,null,null,null,null,null,null,null,null,{"$f":"CT98-CT103","v":0},null,null,null,null,null,null,null,null,null,null,{"$f":"DE98-DE103","v":0},null,null,null,null,null,null,null,null,null,null,{"$f":"DP98-DP103","v":0},null,null,null,null,null,null,null,null,null,null,{"$f":"EA98-EA103","v":0}]
[]
[]
[null,{"$f":"B88","v":"年度１月給与"},null,null,null,null,null,null,null,{"$f":"J88","v":"年度　"},null,null,{"$f":"M88","v":0},null,null,null,null,null,null,null,{"$f":"J109","v":"年度　"},null,null,{"$f":"X88","v":"年度３月給与"},null,null,null,null,null,null,null,{"$f":"U109","v":"年度　"},null,null,{"$f":"AI88","v":"年度４月給与"},null,null,null,null,null,null,null,{"$f":"AF109","v":"年度　"},null,null,{"$f":"AT88","v":"年度５月給与"},null,null,null,null,null,null,null,{"$f":"AQ109","v":"年度　"},null,null,{"$f":"BE88","v":"年度６月給与"},null,null,null,null,null,null,null,{"$f":"BB109","v":"年度　"},null,null,{"$f":"BP88","v":"年度７月給与"},null,null,null,null,null,null,null,{"$f":"BM109","v":"年度　"},null,null,{"$f":"給与計算設定!$E$2&給与計算設定!$F$2&\"８月給与\"","v":"年度８月給与"},null,null,null,null,null,null,null,{"$f":"BX109","v":"年度　"},null,null,{"$f":"給与計算設定!$E$2&給与計算設定!$F$2&\"９月給与\"","v":"年度９月給与"},null,null,null,null,null,null,null,{"$f":"CI109","v":"年度　"},null,null,{"$f":"給与計算設定!$E$2&給与計算設定!$F$2&\"１０月給与\"","v":"年度１０月給与"},null,null,null,null,null,null,null,{"$f":"CT109","v":"年度　"},null,null,{"$f":"給与計算設定!$E$2&給与計算設定!$F$2&\"１１月給与\"","v":"年度１１月給与"},null,null,null,null,null,null,null,{"$f":"DE109","v":"年度　"},null,null,{"$f":"給与計算設定!$E$2&給与計算設定!$F$2&\"１２月給与\"","v":"年度１２月給与"},null,null,null,null,null,null,null,{"$f":"DP109","v":"年度　"}]
[]
[6,"氏名",{"$f":"給与計算設定!B169","v":0},null,null,null,null,null,null,null,null,6,"氏名",{"$f":"C111","v":0},null,null,null,null,null,null,null,null,6,"氏名",{"$f":"N111","v":0},null,null,null,null,null,null,null,null,6,"氏名",{"$f":"Y111","v":0},null,null,null,null,null,null,null,null,6,"氏名",{"$f":"AJ111","v":0},null,null,{"$f":"AX88","v":0},null,null,null,{"$f":"AQ111","v":0},null,6,"氏名",{"$f":"AU111","v":0},null,null,{"$f":"BI88","v":0},null,null,null,{"$f":"BB111","v":0},null,6,"氏名",{"$f":"BF111","v":0},null,null,{"$f":"BT88","v":0},null,null,null,{"$f":"BM111","v":0},null,6,"氏名",{"$f":"BQ111","v":0},null,null,null,null,null,null,null,null,6,"氏名",{"$f":"CB111","v":0},null,null,null,null,null,null,null,null,6,"氏名",{"$f":"CM111","v":0},null,null,null,null,null,null,null,null,6,"氏名",{"$f":"CX111","v":0},null,null,null,null,null,null,null,null,6,"氏名",{"$f":"DI111","v":0},null,null,null,null,null,null,null,null,6]
[]
[null,"勤怠","労働時間","普通残業時間","深夜労働時間","休日労働時間","出勤日数","欠勤日数","有休日数","有休残日数",null,null,"勤怠","労働時間","普通残業時間","深夜労働時間","休日労働時間","出勤日数","欠勤日数","有休日数","有休残日数",null,null,"勤怠","労働時間","普通残業時間","深夜労働時間","休日労働時間","出勤日数","欠勤日数","有休日数","有休残日数",null,null,"勤怠","労働時間","普通残業時間","深夜労働時間","休日労働時間","出勤日数","欠勤日数","有休日数","有休残日数",null,null,"勤怠","労働時間","普通残業時間","深夜労働時間","休日労働時間","出勤日数","欠勤日数","有休日数","有休残日数",null,null,"勤怠","労働時間","普通残業時間","深夜労働時間","休日労働時間","出勤日数","欠勤日数","有休日数","有休残日数",null,null,"勤怠","労働時間","普通残業時間","深夜労働時間","休日労働時間","出勤日数","欠勤日数","有休日数","有休残日数",null,null,"勤怠","労働時間","普通残業時間","深夜労働時間","休日労働時間","出勤日数","欠勤日数","有休日数","有休残日数",null,null,"勤怠","労働時間","普通残業時間","深夜労働時間","休日労働時間","出勤日数","欠勤日数","有休日数","有休残日数",null,null,"勤怠","労働時間","普通残業時間","深夜労働時間","休日労働時間","出勤日数","欠勤日数","有休日数","有休残日数",null,null,"勤怠","労働時間","普通残業時間","深夜労働時間","休日労働時間","出勤日数","欠勤日数","有休日数","有休残日数",null,null,"勤怠","労働時間","普通残業時間","深夜労働時間","休日労働時間","出勤日数","欠勤日数","有休日数","有休残日数"]
[]
[]
[null,"支給","基本給","時間外手当","深夜手当","休日手当",{"$f":"給与計算設定!B175","v":"通勤手当"},{"$f":"給与計算設定!B176","v":0},{"$f":"給与計算設定!B177","v":0},"課税対象額",null,null,"支給","基本給","時間外手当","深夜手当","休日手当",{"$f":"G116","v":"通勤手当"},{"$f":"H116","v":0},{"$f":"I116","v":0},"課税対象額",null,null,"支給","基本給","時間外手当","深夜手当","休日手当",{"$f":"R116","v":"通勤手当"},{"$f":"S116","v":0},{"$f":"T116","v":0},"課税対象額",null,null,"支給","基本給","時間外手当","深夜手当","休日手当",{"$f":"AC116","v":"通勤手当"},{"$f":"AD116","v":0},{"$f":"AE116","v":0},"課税対象額",null,null,"支給","基本給","時間外手当","深夜手当","休日手当",{"$f":"AN116","v":"通勤手当"},{"$f":"AO116","v":0},{"$f":"AP116","v":0},"課税対象額",null,null,"支給","基本給","時間外手当","深夜手当","休日手当",{"$f":"AY116","v":"通勤手当"},{"$f":"AZ116","v":0},{"$f":"BA116","v":0},"課税対象額",null,null,"支給","基本給","時間外手当","深夜手当","休日手当",{"$f":"BJ116","v":"通勤手当"},{"$f":"BK116","v":0},{"$f":"BL116","v":0},"課税対象額",null,null,"支給","基本給","時間外手当","深夜手当","休日手当",{"$f":"BU116","v":"通勤手当"},{"$f":"BV116","v":0},{"$f":"BW116","v":0},"課税対象額",null,null,"支給","基本給","時間外手当","深夜手当","休日手当",{"$f":"CF116","v":"通勤手当"},{"$f":"CG116","v":0},{"$f":"CH116","v":0},"課税対象額",null,null,"支給","基本給","時間外手当","深夜手当","休日手当",{"$f":"CQ116","v":"通勤手当"},{"$f":"CR116","v":0},{"$f":"CS116","v":0},"課税対象額",null,null,"支給","基本給","時間外手当","深夜手当","休日手当",{"$f":"DB116","v":"通勤手当"},{"$f":"DC116","v":0},{"$f":"DD116","v":0},"課税対象額",null,null,"支給","基本給","時間外手当","深夜手当","休日手当",{"$f":"DM116","v":"通勤手当"},{"$f":"DN116","v":0},{"$f":"DO116","v":0},"課税対象額"]
[null,null,{"$f":"IF(給与計算設定!C170<>\"\",給与計算設定!C170,ROUND(給与計算設定!C171*給与明細!C114,0))","v":0},{"$f":"ROUND(給与計算設定!C172*給与明細!D114,0)","v":0},{"$f":"ROUND(給与計算設定!C173*給与明細!E114,0)","v":0},{"$f":"ROUND(給与計算設定!C174*給与明細!F114,0)","v":0},{"$f":"給与計算設定!C175","v":0},{"$f":"給与計算設定!C176","v":0},{"$f":"給与計算設定!C177","v":0},{"$f":"J119-J122-G117","v":0},null,null,null,{"$f":"IF(給与計算設定!D170<>\"\",給与計算設定!D170,ROUND(給与計算設定!D171*給与明細!N114,0))","v":0},{"$f":"ROUND(給与計算設定!D172*給与明細!O114,0)","v":0},{"$f":"ROUND(給与計算設定!D173*給与明細!P114,0)","v":0},{"$f":"ROUND(給与計算設定!D174*給与明細!Q114,0)","v":0},{"$f":"給与計算設定!D175","v":0},{"$f":"給与計算設定!D176","v":0},{"$f":"給与計算設定!D177","v":0},{"$f":"U119-U122-R117","v":0},null,null,null,{"$f":"IF(給与計算設定!E170<>\"\",給与計算設定!E170,ROUND(給与計算設定!E171*給与明細!Y114,0))","v":0},{"$f":"ROUND(給与計算設定!E172*給与明細!Z114,0)","v":0},{"$f":"ROUND(給与計算設定!E173*給与明細!AA114,0)","v":0},{"$f":"ROUND(給与計算設定!E174*給与明細!AB114,0)","v":0},{"$f":"給与計算設定!E175","v":0},{"$f":"給与計算設定!E176","v":0},{"$f":"給与計算設定!E177","v":0},{"$f":"AF119-AF122-AC117","v":0},null,null,null,{"$f":"IF(給与計算設定!F170<>\"\",給与計算設定!F170,ROUND(給与計算設定!F171*給与明細!AJ114,0))","v":0},{"$f":"ROUND(給与計算設定!F172*給与明細!AK114,0)","v":0},{"$f":"ROUND(給与計算設定!F173*給与明細!AL114,0)","v":0},{"$f":"ROUND(給与計算設定!F174*給与明細!AM114,0)","v":0},{"$f":"給与計算設定!F175","v":0},{"$f":"給与計算設定!F176","v":0},{"$f":"給与計算設定!F177","v":0},{"$f":"AQ119-AQ122-AN117","v":0},null,null,null,{"$f":"IF(給与計算設定!G170<>\"\",給与計算設定!G170,ROUND(給与計算設定!G171*給与明細!AU114,0))","v":0},{"$f":"ROUND(給与計算設定!G172*給与明細!AV114,0)","v":0},{"$f":"ROUND(給与計算設定!G173*給与明細!AW114,0)","v":0},{"$f":"ROUND(給与計算設定!G174*給与明細!AX114,0)","v":0},{"$f":"給与計算設定!G175","v":0},{"$f":"給与計算設定!G176","v":0},{"$f":"給与計算設定!G177","v":0},{"$f":"BB119-BB122-AY117","v":0},null,null,null,{"$f":"IF(給与計算設定!H170<>\"\",給与計算設定!H170,ROUND(給与計算設定!H171*給与明細!BF114,0))","v":0},{"$f":"ROUND(給与計算設定!H172*給与明細!BG114,0)","v":0},{"$f":"ROUND(給与計算設定!H173*給与明細!BH114,0)","v":0},{"$f":"ROUND(給与計算設定!H174*給与明細!BH114,0)","v":0},{"$f":"給与計算設定!H175","v":0},{"$f":"給与計算設定!H176","v":0},{"$f":"給与計算設定!H177","v":0},{"$f":"BM119-BM122-BJ117","v":0},null,null,null,{"$f":"IF(給与計算設定!I170<>\"\",給与計算設定!I170,ROUND(給与計算設定!I171*給与明細!BQ114,0))","v":0},{"$f":"ROUND(給与計算設定!I172*給与明細!BR114,0)","v":0},{"$f":"ROUND(給与計算設定!I173*給与明細!BS114,0)","v":0},{"$f":"ROUND(給与計算設定!I174*給与明細!BT114,0)","v":0},{"$f":"給与計算設定!I175","v":0},{"$f":"給与計算設定!I176","v":0},{"$f":"給与計算設定!I177","v":0},{"$f":"BX119-BX122-BU117","v":0},null,null,null,{"$f":"IF(給与計算設定!J170<>\"\",給与計算設定!J170,ROUND(給与計算設定!J171*給与明細!CB114,0))","v":0},{"$f":"ROUND(給与計算設定!J172*給与明細!CC114,0)","v":0},{"$f":"ROUND(給与計算設定!J173*給与明細!CD114,0)","v":0},{"$f":"ROUND(給与計算設定!J174*給与明細!CE114,0)","v":0},{"$f":"給与計算設定!J175","v":0},{"$f":"給与計算設定!J176","v":0},{"$f":"給与計算設定!J177","v":0},{"$f":"CI119-CI122-CF117","v":0},null,null,null,{"$f":"IF(給与計算設定!K170<>\"\",給与計算設定!K170,ROUND(給与計算設定!K171*給与明細!CM114,0))","v":0},{"$f":"ROUND(給与計算設定!K172*給与明細!CN114,0)","v":0},{"$f":"ROUND(給与計算設定!K173*給与明細!CO114,0)","v":0},{"$f":"ROUND(給与計算設定!K174*給与明細!CP114,0)","v":0},{"$f":"給与計算設定!K175","v":0},{"$f":"給与計算設定!K176","v":0},{"$f":"給与計算設定!K177","v":0},{"$f":"CT119-CT122-CQ117","v":0},null,null,null,{"$f":"IF(給与計算設定!L170<>\"\",給与計算設定!L170,ROUND(給与計算設定!L171*給与明細!CX114,0))","v":0},{"$f":"ROUND(給与計算設定!L172*給与明細!CY114,0)","v":0},{"$f":"ROUND(給与計算設定!L173*給与明細!CZ114,0)","v":0},{"$f":"ROUND(給与計算設定!L174*給与明細!DA114,0)","v":0},{"$f":"給与計算設定!L175","v":0},{"$f":"給与計算設定!L176","v":0},{"$f":"給与計算設定!L177","v":0},{"$f":"DE119-DE122-DB117","v":0},null,null,null,{"$f":"IF(給与計算設定!M170<>\"\",給与計算設定!M170,ROUND(給与計算設定!M171*給与明細!DI114,0))","v":0},{"$f":"ROUND(給与計算設定!M172*給与明細!DJ114,0)","v":0},{"$f":"ROUND(給与計算設定!M173*給与明細!DK114,0)","v":0},{"$f":"ROUND(給与計算設定!M174*給与明細!DL114,0)","v":0},{"$f":"給与計算設定!M175","v":0},{"$f":"給与計算設定!M176","v":0},{"$f":"給与計算設定!M177","v":0},{"$f":"DP119-DP122-DM117","v":0},null,null,null,{"$f":"IF(給与計算設定!N170<>\"\",給与計算設定!N170,ROUND(給与計算設定!N171*給与明細!DT114,0))","v":0},{"$f":"ROUND(給与計算設定!N172*給与明細!DU114,0)","v":0},{"$f":"ROUND(給与計算設定!N173*給与明細!DV114,0)","v":0},{"$f":"ROUND(給与計算設定!N174*給与明細!DW114,0)","v":0},{"$f":"給与計算設定!N175","v":0},{"$f":"給与計算設定!N176","v":0},{"$f":"給与計算設定!N177","v":0},{"$f":"EA119-EA122-DX117","v":0}]
[null,null,{"$f":"給与計算設定!B178","v":0},{"$f":"給与計算設定!B179","v":0},{"$f":"給与計算設定!B180","v":0},{"$f":"給与計算設定!B181","v":0},{"$f":"給与計算設定!B182","v":0},{"$f":"給与計算設定!B183","v":0},{"$f":"給与計算設定!B184","v":0},"支給合計",null,null,null,{"$f":"C118","v":0},0,0,0,0,0,0,"支給合計",null,null,null,{"$f":"N118","v":0},0,0,0,0,0,0,"支給合計",null,null,null,{"$f":"Y118","v":0},0,0,0,0,0,0,"支給合計",null,null,null,{"$f":"AJ118","v":0},0,0,0,0,0,0,"支給合計",null,null,null,{"$f":"AU118","v":0},0,0,0,0,0,0,"支給合計",null,null,null,{"$f":"BF118","v":0},0,0,0,0,0,0,"支給合計",null,null,null,{"$f":"BQ118","v":0},0,0,0,0,0,0,"支給合計",null,null,null,{"$f":"CB118","v":0},0,0,0,0,0,0,"支給合計",null,null,null,{"$f":"CM118","v":0},0,0,0,0,0,0,"支給合計",null,null,null,{"$f":"CX118","v":0},0,0,0,0,0,0,"支給合計",null,null,null,{"$f":"DI118","v":0},0,0,0,0,0,0,"支給合計"]
[null,null,{"$f":"給与計算設定!C178","v":0},{"$f":"給与計算設定!C179","v":0},{"$f":"給与計算設定!C180","v":0},{"$f":"給与計算設定!C181","v":0},{"$f":"給与計算設定!C182","v":0},{"$f":"給与計算設定!C183","v":0},{"$f":"給与計算設定!C184","v":0},{"$f":"SUM(C117:I117,C119:I119)","v":0},null,null,null,{"$f":"給与計算設定!D178","v":0},{"$f":"給与計算設定!D179","v":0},{"$f":"給与計算設定!D180","v":0},{"$f":"給与計算設定!D181","v":0},{"$f":"給与計算設定!D182","v":0},{"$f":"給与計算設定!D183","v":0},{"$f":"給与計算設定!D184","v":0},{"$f":"SUM(N117:T117,N119:T119)","v":0},null,null,null,{"$f":"給与計算設定!E178","v":0},{"$f":"給与計算設定!E179","v":0},{"$f":"給与計算設定!E180","v":0},{"$f":"給与計算設定!E181","v":0},{"$f":"給与計算設定!E182","v":0},{"$f":"給与計算設定!E183","v":0},{"$f":"給与計算設定!E184","v":0},{"$f":"SUM(Y117:AE117,Y119:AE119)","v":0},null,null,null,{"$f":"給与計算設定!F178","v":0},{"$f":"給与計算設定!F179","v":0},{"$f":"給与計算設定!F180","v":0},{"$f":"給与計算設定!F181","v":0},{"$f":"給与計算設定!F182","v":0},{"$f":"給与計算設定!F183","v":0},{"$f":"給与計算設定!F184","v":0},{"$f":"SUM(AJ117:AP117,AJ119:AP119)","v":0},null,null,null,{"$f":"給与計算設定!G178","v":0},{"$f":"給与計算設定!G179","v":0},{"$f":"給与計算設定!G180","v":0},{"$f":"給与計算設定!G181","v":0},{"$f":"給与計算設定!G182","v":0},{"$f":"給与計算設定!G183","v":0},{"$f":"給与計算設定!G184","v":0},{"$f":"SUM(AU117:BA117,AU119:BA119)","v":0},null,null,null,{"$f":"給与計算設定!H178","v":0},{"$f":"給与計算設定!H179","v":0},{"$f":"給与計算設定!H180","v":0},{"$f":"給与計算設定!H181","v":0},{"$f":"給与計算設定!H182","v":0},{"$f":"給与計算設定!H183","v":0},{"$f":"給与計算設定!H184","v":0},{"$f":"SUM(BF117:BL117,BF119:BL119)","v":0},null,null,null,{"$f":"給与計算設定!I178","v":0},{"$f":"給与計算設定!I179","v":0},{"$f":"給与計算設定!I180","v":0},{"$f":"給与計算設定!I181","v":0},{"$f":"給与計算設定!I182","v":0},{"$f":"給与計算設定!I183","v":0},{"$f":"給与計算設定!I184","v":0},{"$f":"SUM(BQ117:BW117,BQ119:BW119)","v":0},null,null,null,{"$f":"給与計算設定!J178","v":0},{"$f":"給与計算設定!J179","v":0},{"$f":"給与計算設定!J180","v":0},{"$f":"給与計算設定!J181","v":0},{"$f":"給与計算設定!J182","v":0},{"$f":"給与計算設定!J183","v":0},{"$f":"給与計算設定!J184","v":0},{"$f":"SUM(CB117:CH117,CB119:CH119)","v":0},null,null,null,{"$f":"給与計算設定!K178","v":0},{"$f":"給与計算設定!K179","v":0},{"$f":"給与計算設定!K180","v":0},{"$f":"給与計算設定!K181","v":0},{"$f":"給与計算設定!K182","v":0},{"$f":"給与計算設定!K183","v":0},{"$f":"給与計算設定!K184","v":0},{"$f":"SUM(CM117:CS117,CM119:CS119)","v":0},null,null,null,{"$f":"給与計算設定!L178","v":0},{"$f":"給与計算設定!L179","v":0},{"$f":"給与計算設定!L180","v":0},{"$f":"給与計算設定!L181","v":0},{"$f":"給与計算設定!L182","v":0},{"$f":"給与計算設定!L183","v":0},{"$f":"給与計算設定!L184","v":0},{"$f":"SUM(CX117:DD117,CX119:DD119)","v":0},null,null,null,{"$f":"給与計算設定!M178","v":0},{"$f":"給与計算設定!M179","v":0},{"$f":"給与計算設定!M180","v":0},{"$f":"給与計算設定!M181","v":0},{"$f":"給与計算設定!M182","v":0},{"$f":"給与計算設定!M183","v":0},{"$f":"給与計算設定!M184","v":0},{"$f":"SUM(DI117:DO117,DI119:DO119)","v":0},null,null,null,{"$f":"給与計算設定!N178","v":0},{"$f":"給与計算設定!N179","v":0},{"$f":"給与計算設定!N180","v":0},{"$f":"給与計算設定!N181","v":0},{"$f":"給与計算設定!N182","v":0},{"$f":"給与計算設定!N183","v":0},{"$f":"給与計算設定!N184","v":0},{"$f":"SUM(DT117:DZ117,DT119:DZ119)","v":0}]
[]
[null,"控除","健康保険料","介護保険料","厚生年金等","雇用保険料","所得税","住民税","年末調整","社会保険料合計",null,null,"控除","健康保険料","介護保険料","厚生年金等","雇用保険料","所得税","住民税","年末調整","社会保険料合計",null,null,"控除","健康保険料","介護保険料","厚生年金等","雇用保険料","所得税","住民税","年末調整","社会保険料合計",null,null,"控除","健康保険料","介護保険料","厚生年金等","雇用保険料","所得税","住民税","年末調整","社会保険料合計",null,null,"控除","健康保険料","介護保険料","厚生年金等","雇用保険料","所得税","住民税","年末調整","社会保険料合計",null,null,"控除","健康保険料","介護保険料","厚生年金等","雇用保険料","所得税","住民税","年末調整","社会保険料合計",null,null,"控除","健康保険料","介護保険料","厚生年金等","雇用保険料","所得税","住民税","年末調整","社会保険料合計",null,null,"控除","健康保険料","介護保険料","厚生年金等","雇用保険料","所得税","住民税","年末調整","社会保険料合計",null,null,"控除","健康保険料","介護保険料","厚生年金等","雇用保険料","所得税","住民税","年末調整","社会保険料合計",null,null,"控除","健康保険料","介護保険料","厚生年金等","雇用保険料","所得税","住民税","年末調整","社会保険料合計",null,null,"控除","健康保険料","介護保険料","厚生年金等","雇用保険料","所得税","住民税","年末調整","社会保険料合計",null,null,"控除","健康保険料","介護保険料","厚生年金等","雇用保険料","所得税","住民税","年末調整","社会保険料合計"]
[null,null,{"$f":"給与計算設定!C186","v":0},{"$f":"給与計算設定!C187","v":0},{"$f":"給与計算設定!C188","v":0},{"$f":"ROUND(給与計算設定!C189*給与明細!J119-0.01,0)","v":0},0,{"$f":"給与計算設定!C190","v":0},null,{"$f":"SUM(C122:F122)","v":0},null,null,null,{"$f":"給与計算設定!D186","v":0},{"$f":"給与計算設定!D187","v":0},{"$f":"給与計算設定!D188","v":0},{"$f":"ROUND(給与計算設定!D189*給与明細!U119-0.01,0)","v":0},0,{"$f":"給与計算設定!D190","v":0},null,{"$f":"SUM(N122:Q122)","v":0},null,null,null,{"$f":"給与計算設定!E186","v":0},{"$f":"給与計算設定!E187","v":0},{"$f":"給与計算設定!E188","v":0},{"$f":"ROUND(給与計算設定!E189*給与明細!AF119-0.01,0)","v":0},0,{"$f":"給与計算設定!E190","v":0},null,{"$f":"SUM(Y122:AB122)","v":0},null,null,null,{"$f":"給与計算設定!F186","v":0},{"$f":"給与計算設定!F187","v":0},{"$f":"給与計算設定!F188","v":0},{"$f":"ROUND(給与計算設定!F189*給与明細!AQ119-0.01,0)","v":0},0,{"$f":"給与計算設定!F190","v":0},null,{"$f":"SUM(AJ122:AM122)","v":0},null,null,null,{"$f":"給与計算設定!G186","v":0},{"$f":"給与計算設定!G187","v":0},{"$f":"給与計算設定!G188","v":0},{"$f":"ROUND(給与計算設定!G189*給与明細!BB119-0.01,0)","v":0},0,{"$f":"給与計算設定!G190","v":0},null,{"$f":"SUM(AU122:AX122)","v":0},null,null,null,{"$f":"給与計算設定!H186","v":0},{"$f":"給与計算設定!H187","v":0},{"$f":"給与計算設定!H188","v":0},{"$f":"ROUND(給与計算設定!H189*給与明細!BM119-0.01,0)","v":0},0,{"$f":"給与計算設定!H190","v":0},null,{"$f":"SUM(BF122:BI122)","v":0},null,null,null,{"$f":"給与計算設定!I186","v":0},{"$f":"給与計算設定!I187","v":0},{"$f":"給与計算設定!I188","v":0},{"$f":"ROUND(給与計算設定!I189*給与明細!BX119-0.01,0)","v":0},0,{"$f":"給与計算設定!I190","v":0},null,{"$f":"SUM(BQ122:BT122)","v":0},null,null,null,{"$f":"給与計算設定!J186","v":0},{"$f":"給与計算設定!J187","v":0},{"$f":"給与計算設定!J188","v":0},{"$f":"ROUND(給与計算設定!J189*給与明細!CI119-0.01,0)","v":0},0,{"$f":"給与計算設定!J190","v":0},null,{"$f":"SUM(CB122:CE122)","v":0},null,null,null,{"$f":"給与計算設定!K186","v":0},{"$f":"給与計算設定!K187","v":0},{"$f":"給与計算設定!K188","v":0},{"$f":"ROUND(給与計算設定!K189*給与明細!CT119-0.01,0)","v":0},0,{"$f":"給与計算設定!K190","v":0},null,{"$f":"SUM(CM122:CP122)","v":0},null,null,null,{"$f":"給与計算設定!L186","v":0},{"$f":"給与計算設定!L187","v":0},{"$f":"給与計算設定!L188","v":0},{"$f":"ROUND(給与計算設定!L189*給与明細!DE119-0.01,0)","v":0},0,{"$f":"給与計算設定!L190","v":0},null,{"$f":"SUM(CX122:DA122)","v":0},null,null,null,{"$f":"給与計算設定!M186","v":0},{"$f":"給与計算設定!M187","v":0},{"$f":"給与計算設定!M188","v":0},{"$f":"ROUND(給与計算設定!M189*給与明細!DP119-0.01,0)","v":0},0,{"$f":"給与計算設定!M190","v":0},null,{"$f":"SUM(DI122:DL122)","v":0},null,null,null,{"$f":"給与計算設定!N186","v":0},{"$f":"給与計算設定!N187","v":0},{"$f":"給与計算設定!N188","v":0},{"$f":"ROUND(給与計算設定!N189*給与明細!EA119-0.01,0)","v":0},0,{"$f":"給与計算設定!N190","v":0},null,{"$f":"SUM(DT122:DW122)","v":0}]
[null,null,{"$f":"給与計算設定!B191","v":0},{"$f":"給与計算設定!B192","v":0},{"$f":"給与計算設定!B193","v":0},{"$f":"給与計算設定!B194","v":0},{"$f":"給与計算設定!B195","v":0},{"$f":"給与計算設定!B196","v":0},{"$f":"給与計算設定!B197","v":0},"控除合計",null,null,null,{"$f":"C123","v":0},0,0,0,0,0,0,"控除合計",null,null,null,{"$f":"N123","v":0},0,0,0,0,0,0,"控除合計",null,null,null,{"$f":"Y123","v":0},0,0,0,0,0,0,"控除合計",null,null,null,{"$f":"AJ123","v":0},0,0,0,0,0,0,"控除合計",null,null,null,{"$f":"AU123","v":0},0,0,0,0,0,0,"控除合計",null,null,null,{"$f":"BF123","v":0},0,0,0,0,0,0,"控除合計",null,null,null,{"$f":"BQ123","v":0},0,0,0,0,0,0,"控除合計",null,null,null,{"$f":"CB123","v":0},0,0,0,0,0,0,"控除合計",null,null,null,{"$f":"CM123","v":0},0,0,0,0,0,0,"控除合計",null,null,null,{"$f":"CX123","v":0},0,0,0,0,0,0,"控除合計",null,null,null,{"$f":"DI123","v":0},0,0,0,0,0,0,"控除合計"]
[null,null,{"$f":"給与計算設定!C191","v":0},{"$f":"給与計算設定!C192","v":0},{"$f":"給与計算設定!C193","v":0},{"$f":"給与計算設定!C194","v":0},{"$f":"給与計算設定!C195","v":0},{"$f":"給与計算設定!C196","v":0},{"$f":"給与計算設定!C197","v":0},{"$f":"SUM(C122:I122,C124:I124)","v":0},null,null,null,{"$f":"給与計算設定!D191","v":0},{"$f":"給与計算設定!D192","v":0},{"$f":"給与計算設定!D193","v":0},{"$f":"給与計算設定!D194","v":0},{"$f":"給与計算設定!D195","v":0},{"$f":"給与計算設定!D196","v":0},{"$f":"給与計算設定!D197","v":0},{"$f":"SUM(N122:T122,N124:T124)","v":0},null,null,null,{"$f":"給与計算設定!E191","v":0},{"$f":"給与計算設定!E192","v":0},{"$f":"給与計算設定!E193","v":0},{"$f":"給与計算設定!E194","v":0},{"$f":"給与計算設定!E195","v":0},{"$f":"給与計算設定!E196","v":0},{"$f":"給与計算設定!E197","v":0},{"$f":"SUM(Y122:AE122,Y124:AE124)","v":0},null,null,null,{"$f":"給与計算設定!F191","v":0},{"$f":"給与計算設定!F192","v":0},{"$f":"給与計算設定!F193","v":0},{"$f":"給与計算設定!F194","v":0},{"$f":"給与計算設定!F195","v":0},{"$f":"給与計算設定!F196","v":0},{"$f":"給与計算設定!F197","v":0},{"$f":"SUM(AJ122:AP122,AJ124:AP124)","v":0},null,null,null,{"$f":"給与計算設定!G191","v":0},{"$f":"給与計算設定!G192","v":0},{"$f":"給与計算設定!G193","v":0},{"$f":"給与計算設定!G194","v":0},{"$f":"給与計算設定!G195","v":0},{"$f":"給与計算設定!G196","v":0},{"$f":"給与計算設定!G197","v":0},{"$f":"SUM(AU122:BA122,AU124:BA124)","v":0},null,null,null,{"$f":"給与計算設定!H191","v":0},{"$f":"給与計算設定!H192","v":0},{"$f":"給与計算設定!H193","v":0},{"$f":"給与計算設定!H194","v":0},{"$f":"給与計算設定!H195","v":0},{"$f":"給与計算設定!H196","v":0},{"$f":"給与計算設定!H197","v":0},{"$f":"SUM(BF122:BL122,BF124:BL124)","v":0},null,null,null,{"$f":"給与計算設定!I191","v":0},{"$f":"給与計算設定!I192","v":0},{"$f":"給与計算設定!I193","v":0},{"$f":"給与計算設定!I194","v":0},{"$f":"給与計算設定!I195","v":0},{"$f":"給与計算設定!I196","v":0},{"$f":"給与計算設定!I197","v":0},{"$f":"SUM(BQ122:BW122,BQ124:BW124)","v":0},null,null,null,{"$f":"給与計算設定!J191","v":0},{"$f":"給与計算設定!J192","v":0},{"$f":"給与計算設定!J193","v":0},{"$f":"給与計算設定!J194","v":0},{"$f":"給与計算設定!J195","v":0},{"$f":"給与計算設定!J196","v":0},{"$f":"給与計算設定!J197","v":0},{"$f":"SUM(CB122:CH122,CB124:CH124)","v":0},null,null,null,{"$f":"給与計算設定!K191","v":0},{"$f":"給与計算設定!K192","v":0},{"$f":"給与計算設定!K193","v":0},{"$f":"給与計算設定!K194","v":0},{"$f":"給与計算設定!K195","v":0},{"$f":"給与計算設定!K196","v":0},{"$f":"給与計算設定!K197","v":0},{"$f":"SUM(CM122:CS122,CM124:CS124)","v":0},null,null,null,{"$f":"給与計算設定!L191","v":0},{"$f":"給与計算設定!L192","v":0},{"$f":"給与計算設定!L193","v":0},{"$f":"給与計算設定!L194","v":0},{"$f":"給与計算設定!L195","v":0},{"$f":"給与計算設定!L196","v":0},{"$f":"給与計算設定!L197","v":0},{"$f":"SUM(CX122:DD122,CX124:DD124)","v":0},null,null,null,{"$f":"給与計算設定!M191","v":0},{"$f":"給与計算設定!M192","v":0},{"$f":"給与計算設定!M193","v":0},{"$f":"給与計算設定!M194","v":0},{"$f":"給与計算設定!M195","v":0},{"$f":"給与計算設定!M196","v":0},{"$f":"給与計算設定!M197","v":0},{"$f":"SUM(DI122:DO122,DI124:DO124)","v":0},null,null,null,{"$f":"給与計算設定!N191","v":0},{"$f":"給与計算設定!N192","v":0},{"$f":"給与計算設定!N193","v":0},{"$f":"給与計算設定!N194","v":0},{"$f":"給与計算設定!N195","v":0},{"$f":"給与計算設定!N196","v":0},{"$f":"給与計算設定!N197","v":0},{"$f":"SUM(DT122:DZ122,DT124:DZ124)","v":0}]
[]
[null,"備考",null,null,null,null,null,null,null,"差引支給額",null,null,"備考",null,null,null,null,null,null,null,"差引支給額",null,null,"備考",null,null,null,null,null,null,null,"差引支給額",null,null,"備考",null,null,null,null,null,null,null,"差引支給額",null,null,"備考",null,null,null,null,null,null,null,"差引支給額",null,null,"備考",null,null,null,null,null,null,null,"差引支給額",null,null,"備考",null,null,null,null,null,null,null,"差引支給額",null,null,"備考",null,null,null,null,null,null,null,"差引支給額",null,null,"備考",null,null,null,null,null,null,null,"差引支給額",null,null,"備考",null,null,null,null,null,null,null,"差引支給額",null,null,"備考",null,null,null,null,null,null,null,"差引支給額",null,null,"備考",null,null,null,null,null,null,null,"差引支給額"]
[null,null,null,null,null,null,null,null,null,{"$f":"J119-J124","v":0},null,null,null,null,null,null,null,null,null,null,{"$f":"U119-U124","v":0},null,null,null,null,null,null,null,null,null,null,{"$f":"AF119-AF124","v":0},null,null,null,null,null,null,null,null,null,null,{"$f":"AQ119-AQ124","v":0},null,null,null,null,null,null,null,null,null,null,{"$f":"BB119-BB124","v":0},null,null,null,null,null,null,null,null,null,null,{"$f":"BM119-BM124","v":0},null,null,null,null,null,null,null,null,null,null,{"$f":"BX119-BX124","v":0},null,null,null,null,null,null,null,null,null,null,{"$f":"CI119-CI124","v":0},null,null,null,null,null,null,null,null,null,null,{"$f":"CT119-CT124","v":0},null,null,null,null,null,null,null,null,null,null,{"$f":"DE119-DE124","v":0},null,null,null,null,null,null,null,null,null,null,{"$f":"DP119-DP124","v":0},null,null,null,null,null,null,null,null,null,null,{"$f":"EA119-EA124","v":0}]
[]
[]
[null,{"$f":"B109","v":"年度１月給与"},null,null,null,null,null,null,null,{"$f":"J109","v":"年度　"},null,null,{"$f":"M109","v":0},null,null,null,null,null,null,null,{"$f":"J130","v":"年度　"},null,null,{"$f":"X109","v":"年度３月給与"},null,null,null,null,null,null,null,{"$f":"U130","v":"年度　"},null,null,{"$f":"AI109","v":"年度４月給与"},null,null,null,null,null,null,null,{"$f":"AF130","v":"年度　"},null,null,{"$f":"AT109","v":"年度５月給与"},null,null,null,null,null,null,null,{"$f":"AQ130","v":"年度　"},null,null,{"$f":"BE109","v":"年度６月給与"},null,null,null,null,null,null,null,{"$f":"BB130","v":"年度　"},null,null,{"$f":"BP109","v":"年度７月給与"},null,null,null,null,null,null,null,{"$f":"BM130","v":"年度　"},null,null,{"$f":"給与計算設定!$E$2&給与計算設定!$F$2&\"８月給与\"","v":"年度８月給与"},null,null,null,null,null,null,null,{"$f":"BX130","v":"年度　"},null,null,{"$f":"給与計算設定!$E$2&給与計算設定!$F$2&\"９月給与\"","v":"年度９月給与"},null,null,null,null,null,null,null,{"$f":"CI130","v":"年度　"},null,null,{"$f":"給与計算設定!$E$2&給与計算設定!$F$2&\"１０月給与\"","v":"年度１０月給与"},null,null,null,null,null,null,null,{"$f":"CT130","v":"年度　"},null,null,{"$f":"給与計算設定!$E$2&給与計算設定!$F$2&\"１１月給与\"","v":"年度１１月給与"},null,null,null,null,null,null,null,{"$f":"DE130","v":"年度　"},null,null,{"$f":"給与計算設定!$E$2&給与計算設定!$F$2&\"１２月給与\"","v":"年度１２月給与"},null,null,null,null,null,null,null,{"$f":"DP130","v":"年度　"}]
[]
[7,"氏名",{"$f":"給与計算設定!B202","v":0},null,null,null,null,null,null,null,null,7,"氏名",{"$f":"C132","v":0},null,null,null,null,null,null,null,null,7,"氏名",{"$f":"N132","v":0},null,null,null,null,null,null,null,null,7,"氏名",{"$f":"Y132","v":0},null,null,null,null,null,null,null,null,7,"氏名",{"$f":"AJ132","v":0},null,null,{"$f":"AX109","v":0},null,null,null,{"$f":"AQ132","v":0},null,7,"氏名",{"$f":"AU132","v":0},null,null,{"$f":"BI109","v":0},null,null,null,{"$f":"BB132","v":0},null,7,"氏名",{"$f":"BF132","v":0},null,null,{"$f":"BT109","v":0},null,null,null,{"$f":"BM132","v":0},null,7,"氏名",{"$f":"BQ132","v":0},null,null,null,null,null,null,null,null,7,"氏名",{"$f":"CB132","v":0},null,null,null,null,null,null,null,null,7,"氏名",{"$f":"CM132","v":0},null,null,null,null,null,null,null,null,7,"氏名",{"$f":"CX132","v":0},null,null,null,null,null,null,null,null,7,"氏名",{"$f":"DI132","v":0},null,null,null,null,null,null,null,null,7]
[]
[null,"勤怠","労働時間","普通残業時間","深夜労働時間","休日労働時間","出勤日数","欠勤日数","有休日数","有休残日数",null,null,"勤怠","労働時間","普通残業時間","深夜労働時間","休日労働時間","出勤日数","欠勤日数","有休日数","有休残日数",null,null,"勤怠","労働時間","普通残業時間","深夜労働時間","休日労働時間","出勤日数","欠勤日数","有休日数","有休残日数",null,null,"勤怠","労働時間","普通残業時間","深夜労働時間","休日労働時間","出勤日数","欠勤日数","有休日数","有休残日数",null,null,"勤怠","労働時間","普通残業時間","深夜労働時間","休日労働時間","出勤日数","欠勤日数","有休日数","有休残日数",null,null,"勤怠","労働時間","普通残業時間","深夜労働時間","休日労働時間","出勤日数","欠勤日数","有休日数","有休残日数",null,null,"勤怠","労働時間","普通残業時間","深夜労働時間","休日労働時間","出勤日数","欠勤日数","有休日数","有休残日数",null,null,"勤怠","労働時間","普通残業時間","深夜労働時間","休日労働時間","出勤日数","欠勤日数","有休日数","有休残日数",null,null,"勤怠","労働時間","普通残業時間","深夜労働時間","休日労働時間","出勤日数","欠勤日数","有休日数","有休残日数",null,null,"勤怠","労働時間","普通残業時間","深夜労働時間","休日労働時間","出勤日数","欠勤日数","有休日数","有休残日数",null,null,"勤怠","労働時間","普通残業時間","深夜労働時間","休日労働時間","出勤日数","欠勤日数","有休日数","有休残日数",null,null,"勤怠","労働時間","普通残業時間","深夜労働時間","休日労働時間","出勤日数","欠勤日数","有休日数","有休残日数"]
[]
[]
[null,"支給","基本給","時間外手当","深夜手当","休日手当",{"$f":"給与計算設定!B208","v":"通勤手当"},{"$f":"給与計算設定!B209","v":0},{"$f":"給与計算設定!B210","v":0},"課税対象額",null,null,"支給","基本給","時間外手当","深夜手当","休日手当",{"$f":"G137","v":"通勤手当"},{"$f":"H137","v":0},{"$f":"I137","v":0},"課税対象額",null,null,"支給","基本給","時間外手当","深夜手当","休日手当",{"$f":"R137","v":"通勤手当"},{"$f":"S137","v":0},{"$f":"T137","v":0},"課税対象額",null,null,"支給","基本給","時間外手当","深夜手当","休日手当",{"$f":"AC137","v":"通勤手当"},{"$f":"AD137","v":0},{"$f":"AE137","v":0},"課税対象額",null,null,"支給","基本給","時間外手当","深夜手当","休日手当",{"$f":"AN137","v":"通勤手当"},{"$f":"AO137","v":0},{"$f":"AP137","v":0},"課税対象額",null,null,"支給","基本給","時間外手当","深夜手当","休日手当",{"$f":"AY137","v":"通勤手当"},{"$f":"AZ137","v":0},{"$f":"BA137","v":0},"課税対象額",null,null,"支給","基本給","時間外手当","深夜手当","休日手当",{"$f":"BJ137","v":"通勤手当"},{"$f":"BK137","v":0},{"$f":"BL137","v":0},"課税対象額",null,null,"支給","基本給","時間外手当","深夜手当","休日手当",{"$f":"BU137","v":"通勤手当"},{"$f":"BV137","v":0},{"$f":"BW137","v":0},"課税対象額",null,null,"支給","基本給","時間外手当","深夜手当","休日手当",{"$f":"CF137","v":"通勤手当"},{"$f":"CG137","v":0},{"$f":"CH137","v":0},"課税対象額",null,null,"支給","基本給","時間外手当","深夜手当","休日手当",{"$f":"CQ137","v":"通勤手当"},{"$f":"CR137","v":0},{"$f":"CS137","v":0},"課税対象額",null,null,"支給","基本給","時間外手当","深夜手当","休日手当",{"$f":"DB137","v":"通勤手当"},{"$f":"DC137","v":0},{"$f":"DD137","v":0},"課税対象額",null,null,"支給","基本給","時間外手当","深夜手当","休日手当",{"$f":"DM137","v":"通勤手当"},{"$f":"DN137","v":0},{"$f":"DO137","v":0},"課税対象額"]
[null,null,{"$f":"IF(給与計算設定!C203<>\"\",給与計算設定!C203,ROUND(給与計算設定!C204*給与明細!C135,0))","v":0},{"$f":"ROUND(給与計算設定!C205*給与明細!D135,0)","v":0},{"$f":"ROUND(給与計算設定!C206*給与明細!E135,0)","v":0},{"$f":"ROUND(給与計算設定!C207*給与明細!F135,0)","v":0},{"$f":"給与計算設定!C208","v":0},{"$f":"給与計算設定!C209","v":0},{"$f":"給与計算設定!C210","v":0},{"$f":"J140-J143-G138","v":0},null,null,null,{"$f":"IF(給与計算設定!D203<>\"\",給与計算設定!D203,ROUND(給与計算設定!D204*給与明細!N135,0))","v":0},{"$f":"ROUND(給与計算設定!D205*給与明細!O135,0)","v":0},{"$f":"ROUND(給与計算設定!D206*給与明細!P135,0)","v":0},{"$f":"ROUND(給与計算設定!D207*給与明細!Q135,0)","v":0},{"$f":"給与計算設定!D208","v":0},{"$f":"給与計算設定!D209","v":0},{"$f":"給与計算設定!D210","v":0},{"$f":"U140-U143-R138","v":0},null,null,null,{"$f":"IF(給与計算設定!E203<>\"\",給与計算設定!E203,ROUND(給与計算設定!E204*給与明細!Y135,0))","v":0},{"$f":"ROUND(給与計算設定!E205*給与明細!Z135,0)","v":0},{"$f":"ROUND(給与計算設定!E206*給与明細!AA135,0)","v":0},{"$f":"ROUND(給与計算設定!E207*給与明細!AB135,0)","v":0},{"$f":"給与計算設定!E208","v":0},{"$f":"給与計算設定!E209","v":0},{"$f":"給与計算設定!E210","v":0},{"$f":"AF140-AF143-AC138","v":0},null,null,null,{"$f":"IF(給与計算設定!F203<>\"\",給与計算設定!F203,ROUND(給与計算設定!F204*給与明細!AJ135,0))","v":0},{"$f":"ROUND(給与計算設定!F205*給与明細!AK135,0)","v":0},{"$f":"ROUND(給与計算設定!F206*給与明細!AL135,0)","v":0},{"$f":"ROUND(給与計算設定!F207*給与明細!AM135,0)","v":0},{"$f":"給与計算設定!F208","v":0},{"$f":"給与計算設定!F209","v":0},{"$f":"給与計算設定!F210","v":0},{"$f":"AQ140-AQ143-AN138","v":0},null,null,null,{"$f":"IF(給与計算設定!G203<>\"\",給与計算設定!G203,ROUND(給与計算設定!G204*給与明細!AU135,0))","v":0},{"$f":"ROUND(給与計算設定!G205*給与明細!AV135,0)","v":0},{"$f":"ROUND(給与計算設定!G206*給与明細!AW135,0)","v":0},{"$f":"ROUND(給与計算設定!G207*給与明細!AX135,0)","v":0},{"$f":"給与計算設定!G208","v":0},{"$f":"給与計算設定!G209","v":0},{"$f":"給与計算設定!G210","v":0},{"$f":"BB140-BB143-AY138","v":0},null,null,null,{"$f":"IF(給与計算設定!H203<>\"\",給与計算設定!H203,ROUND(給与計算設定!H204*給与明細!BF135,0))","v":0},{"$f":"ROUND(給与計算設定!H205*給与明細!BG135,0)","v":0},{"$f":"ROUND(給与計算設定!H206*給与明細!BH135,0)","v":0},{"$f":"ROUND(給与計算設定!H207*給与明細!BH135,0)","v":0},{"$f":"給与計算設定!H208","v":0},{"$f":"給与計算設定!H209","v":0},{"$f":"給与計算設定!H210","v":0},{"$f":"BM140-BM143-BJ138","v":0},null,null,null,{"$f":"IF(給与計算設定!I203<>\"\",給与計算設定!I203,ROUND(給与計算設定!I204*給与明細!BQ135,0))","v":0},{"$f":"ROUND(給与計算設定!I205*給与明細!BR135,0)","v":0},{"$f":"ROUND(給与計算設定!I206*給与明細!BS135,0)","v":0},{"$f":"ROUND(給与計算設定!I207*給与明細!BT135,0)","v":0},{"$f":"給与計算設定!I208","v":0},{"$f":"給与計算設定!I209","v":0},{"$f":"給与計算設定!I210","v":0},{"$f":"BX140-BX143-BU138","v":0},null,null,null,{"$f":"IF(給与計算設定!J203<>\"\",給与計算設定!J203,ROUND(給与計算設定!J204*給与明細!CB135,0))","v":0},{"$f":"ROUND(給与計算設定!J205*給与明細!CC135,0)","v":0},{"$f":"ROUND(給与計算設定!J206*給与明細!CD135,0)","v":0},{"$f":"ROUND(給与計算設定!J207*給与明細!CE135,0)","v":0},{"$f":"給与計算設定!J208","v":0},{"$f":"給与計算設定!J209","v":0},{"$f":"給与計算設定!J210","v":0},{"$f":"CI140-CI143-CF138","v":0},null,null,null,{"$f":"IF(給与計算設定!K203<>\"\",給与計算設定!K203,ROUND(給与計算設定!K204*給与明細!CM135,0))","v":0},{"$f":"ROUND(給与計算設定!K205*給与明細!CN135,0)","v":0},{"$f":"ROUND(給与計算設定!K206*給与明細!CO135,0)","v":0},{"$f":"ROUND(給与計算設定!K207*給与明細!CP135,0)","v":0},{"$f":"給与計算設定!K208","v":0},{"$f":"給与計算設定!K209","v":0},{"$f":"給与計算設定!K210","v":0},{"$f":"CT140-CT143-CQ138","v":0},null,null,null,{"$f":"IF(給与計算設定!L203<>\"\",給与計算設定!L203,ROUND(給与計算設定!L204*給与明細!CX135,0))","v":0},{"$f":"ROUND(給与計算設定!L205*給与明細!CY135,0)","v":0},{"$f":"ROUND(給与計算設定!L206*給与明細!CZ135,0)","v":0},{"$f":"ROUND(給与計算設定!L207*給与明細!DA135,0)","v":0},{"$f":"給与計算設定!L208","v":0},{"$f":"給与計算設定!L209","v":0},{"$f":"給与計算設定!L210","v":0},{"$f":"DE140-DE143-DB138","v":0},null,null,null,{"$f":"IF(給与計算設定!M203<>\"\",給与計算設定!M203,ROUND(給与計算設定!M204*給与明細!DI135,0))","v":0},{"$f":"ROUND(給与計算設定!M205*給与明細!DJ135,0)","v":0},{"$f":"ROUND(給与計算設定!M206*給与明細!DK135,0)","v":0},{"$f":"ROUND(給与計算設定!M207*給与明細!DL135,0)","v":0},{"$f":"給与計算設定!M208","v":0},{"$f":"給与計算設定!M209","v":0},{"$f":"給与計算設定!M210","v":0},{"$f":"DP140-DP143-DM138","v":0},null,null,null,{"$f":"IF(給与計算設定!N203<>\"\",給与計算設定!N203,ROUND(給与計算設定!N204*給与明細!DT135,0))","v":0},{"$f":"ROUND(給与計算設定!N205*給与明細!DU135,0)","v":0},{"$f":"ROUND(給与計算設定!N206*給与明細!DV135,0)","v":0},{"$f":"ROUND(給与計算設定!N207*給与明細!DW135,0)","v":0},{"$f":"給与計算設定!N208","v":0},{"$f":"給与計算設定!N209","v":0},{"$f":"給与計算設定!N210","v":0},{"$f":"EA140-EA143-DX138","v":0}]
[null,null,{"$f":"給与計算設定!B211","v":0},{"$f":"給与計算設定!B212","v":0},{"$f":"給与計算設定!B213","v":0},{"$f":"給与計算設定!B214","v":0},{"$f":"給与計算設定!B215","v":0},{"$f":"給与計算設定!B216","v":0},{"$f":"給与計算設定!B217","v":0},"支給合計",null,null,null,{"$f":"C139","v":0},0,0,0,0,0,0,"支給合計",null,null,null,{"$f":"N139","v":0},0,0,0,0,0,0,"支給合計",null,null,null,{"$f":"Y139","v":0},0,0,0,0,0,0,"支給合計",null,null,null,{"$f":"AJ139","v":0},0,0,0,0,0,0,"支給合計",null,null,null,{"$f":"AU139","v":0},0,0,0,0,0,0,"支給合計",null,null,null,{"$f":"BF139","v":0},0,0,0,0,0,0,"支給合計",null,null,null,{"$f":"BQ139","v":0},0,0,0,0,0,0,"支給合計",null,null,null,{"$f":"CB139","v":0},0,0,0,0,0,0,"支給合計",null,null,null,{"$f":"CM139","v":0},0,0,0,0,0,0,"支給合計",null,null,null,{"$f":"CX139","v":0},0,0,0,0,0,0,"支給合計",null,null,null,{"$f":"DI139","v":0},0,0,0,0,0,0,"支給合計"]
[null,null,{"$f":"給与計算設定!C211","v":0},{"$f":"給与計算設定!C212","v":0},{"$f":"給与計算設定!C213","v":0},{"$f":"給与計算設定!C214","v":0},{"$f":"給与計算設定!C215","v":0},{"$f":"給与計算設定!C216","v":0},{"$f":"給与計算設定!C217","v":0},{"$f":"SUM(C138:I138,C140:I140)","v":0},null,null,null,{"$f":"給与計算設定!D211","v":0},{"$f":"給与計算設定!D212","v":0},{"$f":"給与計算設定!D213","v":0},{"$f":"給与計算設定!D214","v":0},{"$f":"給与計算設定!D215","v":0},{"$f":"給与計算設定!D216","v":0},{"$f":"給与計算設定!D217","v":0},{"$f":"SUM(N138:T138,N140:T140)","v":0},null,null,null,{"$f":"給与計算設定!E211","v":0},{"$f":"給与計算設定!E212","v":0},{"$f":"給与計算設定!E213","v":0},{"$f":"給与計算設定!E214","v":0},{"$f":"給与計算設定!E215","v":0},{"$f":"給与計算設定!E216","v":0},{"$f":"給与計算設定!E217","v":0},{"$f":"SUM(Y138:AE138,Y140:AE140)","v":0},null,null,null,{"$f":"給与計算設定!F211","v":0},{"$f":"給与計算設定!F212","v":0},{"$f":"給与計算設定!F213","v":0},{"$f":"給与計算設定!F214","v":0},{"$f":"給与計算設定!F215","v":0},{"$f":"給与計算設定!F216","v":0},{"$f":"給与計算設定!F217","v":0},{"$f":"SUM(AJ138:AP138,AJ140:AP140)","v":0},null,null,null,{"$f":"給与計算設定!G211","v":0},{"$f":"給与計算設定!G212","v":0},{"$f":"給与計算設定!G213","v":0},{"$f":"給与計算設定!G214","v":0},{"$f":"給与計算設定!G215","v":0},{"$f":"給与計算設定!G216","v":0},{"$f":"給与計算設定!G217","v":0},{"$f":"SUM(AU138:BA138,AU140:BA140)","v":0},null,null,null,{"$f":"給与計算設定!H211","v":0},{"$f":"給与計算設定!H212","v":0},{"$f":"給与計算設定!H213","v":0},{"$f":"給与計算設定!H214","v":0},{"$f":"給与計算設定!H215","v":0},{"$f":"給与計算設定!H216","v":0},{"$f":"給与計算設定!H217","v":0},{"$f":"SUM(BF138:BL138,BF140:BL140)","v":0},null,null,null,{"$f":"給与計算設定!I211","v":0},{"$f":"給与計算設定!I212","v":0},{"$f":"給与計算設定!I213","v":0},{"$f":"給与計算設定!I214","v":0},{"$f":"給与計算設定!I215","v":0},{"$f":"給与計算設定!I216","v":0},{"$f":"給与計算設定!I217","v":0},{"$f":"SUM(BQ138:BW138,BQ140:BW140)","v":0},null,null,null,{"$f":"給与計算設定!J211","v":0},{"$f":"給与計算設定!J212","v":0},{"$f":"給与計算設定!J213","v":0},{"$f":"給与計算設定!J214","v":0},{"$f":"給与計算設定!J215","v":0},{"$f":"給与計算設定!J216","v":0},{"$f":"給与計算設定!J217","v":0},{"$f":"SUM(CB138:CH138,CB140:CH140)","v":0},null,null,null,{"$f":"給与計算設定!K211","v":0},{"$f":"給与計算設定!K212","v":0},{"$f":"給与計算設定!K213","v":0},{"$f":"給与計算設定!K214","v":0},{"$f":"給与計算設定!K215","v":0},{"$f":"給与計算設定!K216","v":0},{"$f":"給与計算設定!K217","v":0},{"$f":"SUM(CM138:CS138,CM140:CS140)","v":0},null,null,null,{"$f":"給与計算設定!L211","v":0},{"$f":"給与計算設定!L212","v":0},{"$f":"給与計算設定!L213","v":0},{"$f":"給与計算設定!L214","v":0},{"$f":"給与計算設定!L215","v":0},{"$f":"給与計算設定!L216","v":0},{"$f":"給与計算設定!L217","v":0},{"$f":"SUM(CX138:DD138,CX140:DD140)","v":0},null,null,null,{"$f":"給与計算設定!M211","v":0},{"$f":"給与計算設定!M212","v":0},{"$f":"給与計算設定!M213","v":0},{"$f":"給与計算設定!M214","v":0},{"$f":"給与計算設定!M215","v":0},{"$f":"給与計算設定!M216","v":0},{"$f":"給与計算設定!M217","v":0},{"$f":"SUM(DI138:DO138,DI140:DO140)","v":0},null,null,null,{"$f":"給与計算設定!N211","v":0},{"$f":"給与計算設定!N212","v":0},{"$f":"給与計算設定!N213","v":0},{"$f":"給与計算設定!N214","v":0},{"$f":"給与計算設定!N215","v":0},{"$f":"給与計算設定!N216","v":0},{"$f":"給与計算設定!N217","v":0},{"$f":"SUM(DT138:DZ138,DT140:DZ140)","v":0}]
[]
[null,"控除","健康保険料","介護保険料","厚生年金等","雇用保険料","所得税","住民税","年末調整","社会保険料合計",null,null,"控除","健康保険料","介護保険料","厚生年金等","雇用保険料","所得税","住民税","年末調整","社会保険料合計",null,null,"控除","健康保険料","介護保険料","厚生年金等","雇用保険料","所得税","住民税","年末調整","社会保険料合計",null,null,"控除","健康保険料","介護保険料","厚生年金等","雇用保険料","所得税","住民税","年末調整","社会保険料合計",null,null,"控除","健康保険料","介護保険料","厚生年金等","雇用保険料","所得税","住民税","年末調整","社会保険料合計",null,null,"控除","健康保険料","介護保険料","厚生年金等","雇用保険料","所得税","住民税","年末調整","社会保険料合計",null,null,"控除","健康保険料","介護保険料","厚生年金等","雇用保険料","所得税","住民税","年末調整","社会保険料合計",null,null,"控除","健康保険料","介護保険料","厚生年金等","雇用保険料","所得税","住民税","年末調整","社会保険料合計",null,null,"控除","健康保険料","介護保険料","厚生年金等","雇用保険料","所得税","住民税","年末調整","社会保険料合計",null,null,"控除","健康保険料","介護保険料","厚生年金等","雇用保険料","所得税","住民税","年末調整","社会保険料合計",null,null,"控除","健康保険料","介護保険料","厚生年金等","雇用保険料","所得税","住民税","年末調整","社会保険料合計",null,null,"控除","健康保険料","介護保険料","厚生年金等","雇用保険料","所得税","住民税","年末調整","社会保険料合計"]
[null,null,{"$f":"給与計算設定!C219","v":0},{"$f":"給与計算設定!C220","v":0},{"$f":"給与計算設定!C221","v":0},{"$f":"ROUND(給与計算設定!C222*給与明細!J140-0.01,0)","v":0},0,{"$f":"給与計算設定!C223","v":0},null,{"$f":"SUM(C143:F143)","v":0},null,null,null,{"$f":"給与計算設定!D219","v":0},{"$f":"給与計算設定!D220","v":0},{"$f":"給与計算設定!D221","v":0},{"$f":"ROUND(給与計算設定!D222*給与明細!U140-0.01,0)","v":0},0,{"$f":"給与計算設定!D223","v":0},null,{"$f":"SUM(N143:Q143)","v":0},null,null,null,{"$f":"給与計算設定!E219","v":0},{"$f":"給与計算設定!E220","v":0},{"$f":"給与計算設定!E221","v":0},{"$f":"ROUND(給与計算設定!E222*給与明細!AF140-0.01,0)","v":0},0,{"$f":"給与計算設定!E223","v":0},null,{"$f":"SUM(Y143:AB143)","v":0},null,null,null,{"$f":"給与計算設定!F219","v":0},{"$f":"給与計算設定!F220","v":0},{"$f":"給与計算設定!F221","v":0},{"$f":"ROUND(給与計算設定!F222*給与明細!AQ140-0.01,0)","v":0},0,{"$f":"給与計算設定!F223","v":0},null,{"$f":"SUM(AJ143:AM143)","v":0},null,null,null,{"$f":"給与計算設定!G219","v":0},{"$f":"給与計算設定!G220","v":0},{"$f":"給与計算設定!G221","v":0},{"$f":"ROUND(給与計算設定!G222*給与明細!BB140-0.01,0)","v":0},0,{"$f":"給与計算設定!G223","v":0},null,{"$f":"SUM(AU143:AX143)","v":0},null,null,null,{"$f":"給与計算設定!H219","v":0},{"$f":"給与計算設定!H220","v":0},{"$f":"給与計算設定!H221","v":0},{"$f":"ROUND(給与計算設定!H222*給与明細!BM140-0.01,0)","v":0},0,{"$f":"給与計算設定!H223","v":0},null,{"$f":"SUM(BF143:BI143)","v":0},null,null,null,{"$f":"給与計算設定!I219","v":0},{"$f":"給与計算設定!I220","v":0},{"$f":"給与計算設定!I221","v":0},{"$f":"ROUND(給与計算設定!I222*給与明細!BX140-0.01,0)","v":0},0,{"$f":"給与計算設定!I223","v":0},null,{"$f":"SUM(BQ143:BT143)","v":0},null,null,null,{"$f":"給与計算設定!J219","v":0},{"$f":"給与計算設定!J220","v":0},{"$f":"給与計算設定!J221","v":0},{"$f":"ROUND(給与計算設定!J222*給与明細!CI140-0.01,0)","v":0},0,{"$f":"給与計算設定!J223","v":0},null,{"$f":"SUM(CB143:CE143)","v":0},null,null,null,{"$f":"給与計算設定!K219","v":0},{"$f":"給与計算設定!K220","v":0},{"$f":"給与計算設定!K221","v":0},{"$f":"ROUND(給与計算設定!K222*給与明細!CT140-0.01,0)","v":0},0,{"$f":"給与計算設定!K223","v":0},null,{"$f":"SUM(CM143:CP143)","v":0},null,null,null,{"$f":"給与計算設定!L219","v":0},{"$f":"給与計算設定!L220","v":0},{"$f":"給与計算設定!L221","v":0},{"$f":"ROUND(給与計算設定!L222*給与明細!DE140-0.01,0)","v":0},0,{"$f":"給与計算設定!L223","v":0},null,{"$f":"SUM(CX143:DA143)","v":0},null,null,null,{"$f":"給与計算設定!M219","v":0},{"$f":"給与計算設定!M220","v":0},{"$f":"給与計算設定!M221","v":0},{"$f":"ROUND(給与計算設定!M222*給与明細!DP140-0.01,0)","v":0},0,{"$f":"給与計算設定!M223","v":0},null,{"$f":"SUM(DI143:DL143)","v":0},null,null,null,{"$f":"給与計算設定!N219","v":0},{"$f":"給与計算設定!N220","v":0},{"$f":"給与計算設定!N221","v":0},{"$f":"ROUND(給与計算設定!N222*給与明細!EA140-0.01,0)","v":0},0,{"$f":"給与計算設定!N223","v":0},null,{"$f":"SUM(DT143:DW143)","v":0}]
[null,null,{"$f":"給与計算設定!B224","v":0},{"$f":"給与計算設定!B225","v":0},{"$f":"給与計算設定!B226","v":0},{"$f":"給与計算設定!B227","v":0},{"$f":"給与計算設定!B228","v":0},{"$f":"給与計算設定!B229","v":0},{"$f":"給与計算設定!B230","v":0},"控除合計",null,null,null,{"$f":"C144","v":0},0,0,0,0,0,0,"控除合計",null,null,null,{"$f":"N144","v":0},0,0,0,0,0,0,"控除合計",null,null,null,{"$f":"Y144","v":0},0,0,0,0,0,0,"控除合計",null,null,null,{"$f":"AJ144","v":0},0,0,0,0,0,0,"控除合計",null,null,null,{"$f":"AU144","v":0},0,0,0,0,0,0,"控除合計",null,null,null,{"$f":"BF144","v":0},0,0,0,0,0,0,"控除合計",null,null,null,{"$f":"BQ144","v":0},0,0,0,0,0,0,"控除合計",null,null,null,{"$f":"CB144","v":0},0,0,0,0,0,0,"控除合計",null,null,null,{"$f":"CM144","v":0},0,0,0,0,0,0,"控除合計",null,null,null,{"$f":"CX144","v":0},0,0,0,0,0,0,"控除合計",null,null,null,{"$f":"DI144","v":0},0,0,0,0,0,0,"控除合計"]
[null,null,{"$f":"給与計算設定!C224","v":0},{"$f":"給与計算設定!C225","v":0},{"$f":"給与計算設定!C226","v":0},{"$f":"給与計算設定!C227","v":0},{"$f":"給与計算設定!C228","v":0},{"$f":"給与計算設定!C229","v":0},{"$f":"給与計算設定!C230","v":0},{"$f":"SUM(C143:I143,C145:I145)","v":0},null,null,null,{"$f":"給与計算設定!D224","v":0},{"$f":"給与計算設定!D225","v":0},{"$f":"給与計算設定!D226","v":0},{"$f":"給与計算設定!D227","v":0},{"$f":"給与計算設定!D228","v":0},{"$f":"給与計算設定!D229","v":0},{"$f":"給与計算設定!D230","v":0},{"$f":"SUM(N143:T143,N145:T145)","v":0},null,null,null,{"$f":"給与計算設定!E224","v":0},{"$f":"給与計算設定!E225","v":0},{"$f":"給与計算設定!E226","v":0},{"$f":"給与計算設定!E227","v":0},{"$f":"給与計算設定!E228","v":0},{"$f":"給与計算設定!E229","v":0},{"$f":"給与計算設定!E230","v":0},{"$f":"SUM(Y143:AE143,Y145:AE145)","v":0},null,null,null,{"$f":"給与計算設定!F224","v":0},{"$f":"給与計算設定!F225","v":0},{"$f":"給与計算設定!F226","v":0},{"$f":"給与計算設定!F227","v":0},{"$f":"給与計算設定!F228","v":0},{"$f":"給与計算設定!F229","v":0},{"$f":"給与計算設定!F230","v":0},{"$f":"SUM(AJ143:AP143,AJ145:AP145)","v":0},null,null,null,{"$f":"給与計算設定!G224","v":0},{"$f":"給与計算設定!G225","v":0},{"$f":"給与計算設定!G226","v":0},{"$f":"給与計算設定!G227","v":0},{"$f":"給与計算設定!G228","v":0},{"$f":"給与計算設定!G229","v":0},{"$f":"給与計算設定!G230","v":0},{"$f":"SUM(AU143:BA143,AU145:BA145)","v":0},null,null,null,{"$f":"給与計算設定!H224","v":0},{"$f":"給与計算設定!H225","v":0},{"$f":"給与計算設定!H226","v":0},{"$f":"給与計算設定!H227","v":0},{"$f":"給与計算設定!H228","v":0},{"$f":"給与計算設定!H229","v":0},{"$f":"給与計算設定!H230","v":0},{"$f":"SUM(BF143:BL143,BF145:BL145)","v":0},null,null,null,{"$f":"給与計算設定!I224","v":0},{"$f":"給与計算設定!I225","v":0},{"$f":"給与計算設定!I226","v":0},{"$f":"給与計算設定!I227","v":0},{"$f":"給与計算設定!I228","v":0},{"$f":"給与計算設定!I229","v":0},{"$f":"給与計算設定!I230","v":0},{"$f":"SUM(BQ143:BW143,BQ145:BW145)","v":0},null,null,null,{"$f":"給与計算設定!J224","v":0},{"$f":"給与計算設定!J225","v":0},{"$f":"給与計算設定!J226","v":0},{"$f":"給与計算設定!J227","v":0},{"$f":"給与計算設定!J228","v":0},{"$f":"給与計算設定!J229","v":0},{"$f":"給与計算設定!J230","v":0},{"$f":"SUM(CB143:CH143,CB145:CH145)","v":0},null,null,null,{"$f":"給与計算設定!K224","v":0},{"$f":"給与計算設定!K225","v":0},{"$f":"給与計算設定!K226","v":0},{"$f":"給与計算設定!K227","v":0},{"$f":"給与計算設定!K228","v":0},{"$f":"給与計算設定!K229","v":0},{"$f":"給与計算設定!K230","v":0},{"$f":"SUM(CM143:CS143,CM145:CS145)","v":0},null,null,null,{"$f":"給与計算設定!L224","v":0},{"$f":"給与計算設定!L225","v":0},{"$f":"給与計算設定!L226","v":0},{"$f":"給与計算設定!L227","v":0},{"$f":"給与計算設定!L228","v":0},{"$f":"給与計算設定!L229","v":0},{"$f":"給与計算設定!L230","v":0},{"$f":"SUM(CX143:DD143,CX145:DD145)","v":0},null,null,null,{"$f":"給与計算設定!M224","v":0},{"$f":"給与計算設定!M225","v":0},{"$f":"給与計算設定!M226","v":0},{"$f":"給与計算設定!M227","v":0},{"$f":"給与計算設定!M228","v":0},{"$f":"給与計算設定!M229","v":0},{"$f":"給与計算設定!M230","v":0},{"$f":"SUM(DI143:DO143,DI145:DO145)","v":0},null,null,null,{"$f":"給与計算設定!N224","v":0},{"$f":"給与計算設定!N225","v":0},{"$f":"給与計算設定!N226","v":0},{"$f":"給与計算設定!N227","v":0},{"$f":"給与計算設定!N228","v":0},{"$f":"給与計算設定!N229","v":0},{"$f":"給与計算設定!N230","v":0},{"$f":"SUM(DT143:DZ143,DT145:DZ145)","v":0}]
[]
[null,"備考",null,null,null,null,null,null,null,"差引支給額",null,null,"備考",null,null,null,null,null,null,null,"差引支給額",null,null,"備考",null,null,null,null,null,null,null,"差引支給額",null,null,"備考",null,null,null,null,null,null,null,"差引支給額",null,null,"備考",null,null,null,null,null,null,null,"差引支給額",null,null,"備考",null,null,null,null,null,null,null,"差引支給額",null,null,"備考",null,null,null,null,null,null,null,"差引支給額",null,null,"備考",null,null,null,null,null,null,null,"差引支給額",null,null,"備考",null,null,null,null,null,null,null,"差引支給額",null,null,"備考",null,null,null,null,null,null,null,"差引支給額",null,null,"備考",null,null,null,null,null,null,null,"差引支給額",null,null,"備考",null,null,null,null,null,null,null,"差引支給額"]
[null,null,null,null,null,null,null,null,null,{"$f":"J140-J145","v":0},null,null,null,null,null,null,null,null,null,null,{"$f":"U140-U145","v":0},null,null,null,null,null,null,null,null,null,null,{"$f":"AF140-AF145","v":0},null,null,null,null,null,null,null,null,null,null,{"$f":"AQ140-AQ145","v":0},null,null,null,null,null,null,null,null,null,null,{"$f":"BB140-BB145","v":0},null,null,null,null,null,null,null,null,null,null,{"$f":"BM140-BM145","v":0},null,null,null,null,null,null,null,null,null,null,{"$f":"BX140-BX145","v":0},null,null,null,null,null,null,null,null,null,null,{"$f":"CI140-CI145","v":0},null,null,null,null,null,null,null,null,null,null,{"$f":"CT140-CT145","v":0},null,null,null,null,null,null,null,null,null,null,{"$f":"DE140-DE145","v":0},null,null,null,null,null,null,null,null,null,null,{"$f":"DP140-DP145","v":0},null,null,null,null,null,null,null,null,null,null,{"$f":"EA140-EA145","v":0}]
[]
[]
[null,{"$f":"B130","v":"年度１月給与"},null,null,null,null,null,null,null,{"$f":"J130","v":"年度　"},null,null,{"$f":"M130","v":0},null,null,null,null,null,null,null,{"$f":"J151","v":"年度　"},null,null,{"$f":"X130","v":"年度３月給与"},null,null,null,null,null,null,null,{"$f":"U151","v":"年度　"},null,null,{"$f":"AI130","v":"年度４月給与"},null,null,null,null,null,null,null,{"$f":"AF151","v":"年度　"},null,null,{"$f":"AT130","v":"年度５月給与"},null,null,null,null,null,null,null,{"$f":"AQ151","v":"年度　"},null,null,{"$f":"BE130","v":"年度６月給与"},null,null,null,null,null,null,null,{"$f":"BB151","v":"年度　"},null,null,{"$f":"BP130","v":"年度７月給与"},null,null,null,null,null,null,null,{"$f":"BM151","v":"年度　"},null,null,{"$f":"給与計算設定!$E$2&給与計算設定!$F$2&\"８月給与\"","v":"年度８月給与"},null,null,null,null,null,null,null,{"$f":"BX151","v":"年度　"},null,null,{"$f":"給与計算設定!$E$2&給与計算設定!$F$2&\"９月給与\"","v":"年度９月給与"},null,null,null,null,null,null,null,{"$f":"CI151","v":"年度　"},null,null,{"$f":"給与計算設定!$E$2&給与計算設定!$F$2&\"１０月給与\"","v":"年度１０月給与"},null,null,null,null,null,null,null,{"$f":"CT151","v":"年度　"},null,null,{"$f":"給与計算設定!$E$2&給与計算設定!$F$2&\"１１月給与\"","v":"年度１１月給与"},null,null,null,null,null,null,null,{"$f":"DE151","v":"年度　"},null,null,{"$f":"給与計算設定!$E$2&給与計算設定!$F$2&\"１２月給与\"","v":"年度１２月給与"},null,null,null,null,null,null,null,{"$f":"DP151","v":"年度　"}]
[]
[8,"氏名",{"$f":"給与計算設定!B235","v":0},null,null,null,null,null,null,null,null,8,"氏名",{"$f":"C153","v":0},null,null,null,null,null,null,null,null,8,"氏名",{"$f":"N153","v":0},null,null,null,null,null,null,null,null,8,"氏名",{"$f":"Y153","v":0},null,null,null,null,null,null,null,null,8,"氏名",{"$f":"AJ153","v":0},null,null,{"$f":"AX130","v":0},null,null,null,{"$f":"AQ153","v":0},null,8,"氏名",{"$f":"AU153","v":0},null,null,{"$f":"BI130","v":0},null,null,null,{"$f":"BB153","v":0},null,8,"氏名",{"$f":"BF153","v":0},null,null,{"$f":"BT130","v":0},null,null,null,{"$f":"BM153","v":0},null,8,"氏名",{"$f":"BQ153","v":0},null,null,null,null,null,null,null,null,8,"氏名",{"$f":"CB153","v":0},null,null,null,null,null,null,null,null,8,"氏名",{"$f":"CM153","v":0},null,null,null,null,null,null,null,null,8,"氏名",{"$f":"CX153","v":0},null,null,null,null,null,null,null,null,8,"氏名",{"$f":"DI153","v":0},null,null,null,null,null,null,null,null,8]
[]
[null,"勤怠","労働時間","普通残業時間","深夜労働時間","休日労働時間","出勤日数","欠勤日数","有休日数","有休残日数",null,null,"勤怠","労働時間","普通残業時間","深夜労働時間","休日労働時間","出勤日数","欠勤日数","有休日数","有休残日数",null,null,"勤怠","労働時間","普通残業時間","深夜労働時間","休日労働時間","出勤日数","欠勤日数","有休日数","有休残日数",null,null,"勤怠","労働時間","普通残業時間","深夜労働時間","休日労働時間","出勤日数","欠勤日数","有休日数","有休残日数",null,null,"勤怠","労働時間","普通残業時間","深夜労働時間","休日労働時間","出勤日数","欠勤日数","有休日数","有休残日数",null,null,"勤怠","労働時間","普通残業時間","深夜労働時間","休日労働時間","出勤日数","欠勤日数","有休日数","有休残日数",null,null,"勤怠","労働時間","普通残業時間","深夜労働時間","休日労働時間","出勤日数","欠勤日数","有休日数","有休残日数",null,null,"勤怠","労働時間","普通残業時間","深夜労働時間","休日労働時間","出勤日数","欠勤日数","有休日数","有休残日数",null,null,"勤怠","労働時間","普通残業時間","深夜労働時間","休日労働時間","出勤日数","欠勤日数","有休日数","有休残日数",null,null,"勤怠","労働時間","普通残業時間","深夜労働時間","休日労働時間","出勤日数","欠勤日数","有休日数","有休残日数",null,null,"勤怠","労働時間","普通残業時間","深夜労働時間","休日労働時間","出勤日数","欠勤日数","有休日数","有休残日数",null,null,"勤怠","労働時間","普通残業時間","深夜労働時間","休日労働時間","出勤日数","欠勤日数","有休日数","有休残日数"]
[]
[]
[null,"支給","基本給","時間外手当","深夜手当","休日手当",{"$f":"給与計算設定!B241","v":"通勤手当"},{"$f":"給与計算設定!B242","v":0},{"$f":"給与計算設定!B243","v":0},"課税対象額",null,null,"支給","基本給","時間外手当","深夜手当","休日手当",{"$f":"G158","v":"通勤手当"},{"$f":"H158","v":0},{"$f":"I158","v":0},"課税対象額",null,null,"支給","基本給","時間外手当","深夜手当","休日手当",{"$f":"R158","v":"通勤手当"},{"$f":"S158","v":0},{"$f":"T158","v":0},"課税対象額",null,null,"支給","基本給","時間外手当","深夜手当","休日手当",{"$f":"AC158","v":"通勤手当"},{"$f":"AD158","v":0},{"$f":"AE158","v":0},"課税対象額",null,null,"支給","基本給","時間外手当","深夜手当","休日手当",{"$f":"AN158","v":"通勤手当"},{"$f":"AO158","v":0},{"$f":"AP158","v":0},"課税対象額",null,null,"支給","基本給","時間外手当","深夜手当","休日手当",{"$f":"AY158","v":"通勤手当"},{"$f":"AZ158","v":0},{"$f":"BA158","v":0},"課税対象額",null,null,"支給","基本給","時間外手当","深夜手当","休日手当",{"$f":"BJ158","v":"通勤手当"},{"$f":"BK158","v":0},{"$f":"BL158","v":0},"課税対象額",null,null,"支給","基本給","時間外手当","深夜手当","休日手当",{"$f":"BU158","v":"通勤手当"},{"$f":"BV158","v":0},{"$f":"BW158","v":0},"課税対象額",null,null,"支給","基本給","時間外手当","深夜手当","休日手当",{"$f":"CF158","v":"通勤手当"},{"$f":"CG158","v":0},{"$f":"CH158","v":0},"課税対象額",null,null,"支給","基本給","時間外手当","深夜手当","休日手当",{"$f":"CQ158","v":"通勤手当"},{"$f":"CR158","v":0},{"$f":"CS158","v":0},"課税対象額",null,null,"支給","基本給","時間外手当","深夜手当","休日手当",{"$f":"DB158","v":"通勤手当"},{"$f":"DC158","v":0},{"$f":"DD158","v":0},"課税対象額",null,null,"支給","基本給","時間外手当","深夜手当","休日手当",{"$f":"DM158","v":"通勤手当"},{"$f":"DN158","v":0},{"$f":"DO158","v":0},"課税対象額"]
[null,null,{"$f":"IF(給与計算設定!C236<>\"\",給与計算設定!C236,ROUND(給与計算設定!C237*給与明細!C156,0))","v":0},{"$f":"ROUND(給与計算設定!C238*給与明細!D156,0)","v":0},{"$f":"ROUND(給与計算設定!C239*給与明細!E156,0)","v":0},{"$f":"ROUND(給与計算設定!C240*給与明細!F156,0)","v":0},{"$f":"給与計算設定!C241","v":0},{"$f":"給与計算設定!C242","v":0},{"$f":"給与計算設定!C243","v":0},{"$f":"J161-J164-G159","v":0},null,null,null,{"$f":"IF(給与計算設定!D236<>\"\",給与計算設定!D236,ROUND(給与計算設定!D237*給与明細!N156,0))","v":0},{"$f":"ROUND(給与計算設定!D238*給与明細!O156,0)","v":0},{"$f":"ROUND(給与計算設定!D239*給与明細!P156,0)","v":0},{"$f":"ROUND(給与計算設定!D240*給与明細!Q156,0)","v":0},{"$f":"給与計算設定!D241","v":0},{"$f":"給与計算設定!D242","v":0},{"$f":"給与計算設定!D243","v":0},{"$f":"U161-U164-R159","v":0},null,null,null,{"$f":"IF(給与計算設定!E236<>\"\",給与計算設定!E236,ROUND(給与計算設定!E237*給与明細!Y156,0))","v":0},{"$f":"ROUND(給与計算設定!E238*給与明細!Z156,0)","v":0},{"$f":"ROUND(給与計算設定!E239*給与明細!AA156,0)","v":0},{"$f":"ROUND(給与計算設定!E240*給与明細!AB156,0)","v":0},{"$f":"給与計算設定!E241","v":0},{"$f":"給与計算設定!E242","v":0},{"$f":"給与計算設定!E243","v":0},{"$f":"AF161-AF164-AC159","v":0},null,null,null,{"$f":"IF(給与計算設定!F236<>\"\",給与計算設定!F236,ROUND(給与計算設定!F237*給与明細!AJ156,0))","v":0},{"$f":"ROUND(給与計算設定!F238*給与明細!AK156,0)","v":0},{"$f":"ROUND(給与計算設定!F239*給与明細!AL156,0)","v":0},{"$f":"ROUND(給与計算設定!F240*給与明細!AM156,0)","v":0},{"$f":"給与計算設定!F241","v":0},{"$f":"給与計算設定!F242","v":0},{"$f":"給与計算設定!F243","v":0},{"$f":"AQ161-AQ164-AN159","v":0},null,null,null,{"$f":"IF(給与計算設定!G236<>\"\",給与計算設定!G236,ROUND(給与計算設定!G237*給与明細!AU156,0))","v":0},{"$f":"ROUND(給与計算設定!G238*給与明細!AV156,0)","v":0},{"$f":"ROUND(給与計算設定!G239*給与明細!AW156,0)","v":0},{"$f":"ROUND(給与計算設定!G240*給与明細!AX156,0)","v":0},{"$f":"給与計算設定!G241","v":0},{"$f":"給与計算設定!G242","v":0},{"$f":"給与計算設定!G243","v":0},{"$f":"BB161-BB164-AY159","v":0},null,null,null,{"$f":"IF(給与計算設定!H236<>\"\",給与計算設定!H236,ROUND(給与計算設定!H237*給与明細!BF156,0))","v":0},{"$f":"ROUND(給与計算設定!H238*給与明細!BG156,0)","v":0},{"$f":"ROUND(給与計算設定!H239*給与明細!BH156,0)","v":0},{"$f":"ROUND(給与計算設定!H240*給与明細!BH156,0)","v":0},{"$f":"給与計算設定!H241","v":0},{"$f":"給与計算設定!H242","v":0},{"$f":"給与計算設定!H243","v":0},{"$f":"BM161-BM164-BJ159","v":0},null,null,null,{"$f":"IF(給与計算設定!I236<>\"\",給与計算設定!I236,ROUND(給与計算設定!I237*給与明細!BQ156,0))","v":0},{"$f":"ROUND(給与計算設定!I238*給与明細!BR156,0)","v":0},{"$f":"ROUND(給与計算設定!I239*給与明細!BS156,0)","v":0},{"$f":"ROUND(給与計算設定!I240*給与明細!BT156,0)","v":0},{"$f":"給与計算設定!I241","v":0},{"$f":"給与計算設定!I242","v":0},{"$f":"給与計算設定!I243","v":0},{"$f":"BX161-BX164-BU159","v":0},null,null,null,{"$f":"IF(給与計算設定!J236<>\"\",給与計算設定!J236,ROUND(給与計算設定!J237*給与明細!CB156,0))","v":0},{"$f":"ROUND(給与計算設定!J238*給与明細!CC156,0)","v":0},{"$f":"ROUND(給与計算設定!J239*給与明細!CD156,0)","v":0},{"$f":"ROUND(給与計算設定!J240*給与明細!CE156,0)","v":0},{"$f":"給与計算設定!J241","v":0},{"$f":"給与計算設定!J242","v":0},{"$f":"給与計算設定!J243","v":0},{"$f":"CI161-CI164-CF159","v":0},null,null,null,{"$f":"IF(給与計算設定!K236<>\"\",給与計算設定!K236,ROUND(給与計算設定!K237*給与明細!CM156,0))","v":0},{"$f":"ROUND(給与計算設定!K238*給与明細!CN156,0)","v":0},{"$f":"ROUND(給与計算設定!K239*給与明細!CO156,0)","v":0},{"$f":"ROUND(給与計算設定!K240*給与明細!CP156,0)","v":0},{"$f":"給与計算設定!K241","v":0},{"$f":"給与計算設定!K242","v":0},{"$f":"給与計算設定!K243","v":0},{"$f":"CT161-CT164-CQ159","v":0},null,null,null,{"$f":"IF(給与計算設定!L236<>\"\",給与計算設定!L236,ROUND(給与計算設定!L237*給与明細!CX156,0))","v":0},{"$f":"ROUND(給与計算設定!L238*給与明細!CY156,0)","v":0},{"$f":"ROUND(給与計算設定!L239*給与明細!CZ156,0)","v":0},{"$f":"ROUND(給与計算設定!L240*給与明細!DA156,0)","v":0},{"$f":"給与計算設定!L241","v":0},{"$f":"給与計算設定!L242","v":0},{"$f":"給与計算設定!L243","v":0},{"$f":"DE161-DE164-DB159","v":0},null,null,null,{"$f":"IF(給与計算設定!M236<>\"\",給与計算設定!M236,ROUND(給与計算設定!M237*給与明細!DI156,0))","v":0},{"$f":"ROUND(給与計算設定!M238*給与明細!DJ156,0)","v":0},{"$f":"ROUND(給与計算設定!M239*給与明細!DK156,0)","v":0},{"$f":"ROUND(給与計算設定!M240*給与明細!DL156,0)","v":0},{"$f":"給与計算設定!M241","v":0},{"$f":"給与計算設定!M242","v":0},{"$f":"給与計算設定!M243","v":0},{"$f":"DP161-DP164-DM159","v":0},null,null,null,{"$f":"IF(給与計算設定!N236<>\"\",給与計算設定!N236,ROUND(給与計算設定!N237*給与明細!DT156,0))","v":0},{"$f":"ROUND(給与計算設定!N238*給与明細!DU156,0)","v":0},{"$f":"ROUND(給与計算設定!N239*給与明細!DV156,0)","v":0},{"$f":"ROUND(給与計算設定!N240*給与明細!DW156,0)","v":0},{"$f":"給与計算設定!N241","v":0},{"$f":"給与計算設定!N242","v":0},{"$f":"給与計算設定!N243","v":0},{"$f":"EA161-EA164-DX159","v":0}]
[null,null,{"$f":"給与計算設定!B244","v":0},{"$f":"給与計算設定!B245","v":0},{"$f":"給与計算設定!B246","v":0},{"$f":"給与計算設定!B247","v":0},{"$f":"給与計算設定!B248","v":0},{"$f":"給与計算設定!B249","v":0},{"$f":"給与計算設定!B250","v":0},"支給合計",null,null,null,{"$f":"C160","v":0},0,0,0,0,0,0,"支給合計",null,null,null,{"$f":"N160","v":0},0,0,0,0,0,0,"支給合計",null,null,null,{"$f":"Y160","v":0},0,0,0,0,0,0,"支給合計",null,null,null,{"$f":"AJ160","v":0},0,0,0,0,0,0,"支給合計",null,null,null,{"$f":"AU160","v":0},0,0,0,0,0,0,"支給合計",null,null,null,{"$f":"BF160","v":0},0,0,0,0,0,0,"支給合計",null,null,null,{"$f":"BQ160","v":0},0,0,0,0,0,0,"支給合計",null,null,null,{"$f":"CB160","v":0},0,0,0,0,0,0,"支給合計",null,null,null,{"$f":"CM160","v":0},0,0,0,0,0,0,"支給合計",null,null,null,{"$f":"CX160","v":0},0,0,0,0,0,0,"支給合計",null,null,null,{"$f":"DI160","v":0},0,0,0,0,0,0,"支給合計"]
[null,null,{"$f":"給与計算設定!C244","v":0},{"$f":"給与計算設定!C245","v":0},{"$f":"給与計算設定!C246","v":0},{"$f":"給与計算設定!C247","v":0},{"$f":"給与計算設定!C248","v":0},{"$f":"給与計算設定!C249","v":0},{"$f":"給与計算設定!C250","v":0},{"$f":"SUM(C159:I159,C161:I161)","v":0},null,null,null,{"$f":"給与計算設定!D244","v":0},{"$f":"給与計算設定!D245","v":0},{"$f":"給与計算設定!D246","v":0},{"$f":"給与計算設定!D247","v":0},{"$f":"給与計算設定!D248","v":0},{"$f":"給与計算設定!D249","v":0},{"$f":"給与計算設定!D250","v":0},{"$f":"SUM(N159:T159,N161:T161)","v":0},null,null,null,{"$f":"給与計算設定!E244","v":0},{"$f":"給与計算設定!E245","v":0},{"$f":"給与計算設定!E246","v":0},{"$f":"給与計算設定!E247","v":0},{"$f":"給与計算設定!E248","v":0},{"$f":"給与計算設定!E249","v":0},{"$f":"給与計算設定!E250","v":0},{"$f":"SUM(Y159:AE159,Y161:AE161)","v":0},null,null,null,{"$f":"給与計算設定!F244","v":0},{"$f":"給与計算設定!F245","v":0},{"$f":"給与計算設定!F246","v":0},{"$f":"給与計算設定!F247","v":0},{"$f":"給与計算設定!F248","v":0},{"$f":"給与計算設定!F249","v":0},{"$f":"給与計算設定!F250","v":0},{"$f":"SUM(AJ159:AP159,AJ161:AP161)","v":0},null,null,null,{"$f":"給与計算設定!G244","v":0},{"$f":"給与計算設定!G245","v":0},{"$f":"給与計算設定!G246","v":0},{"$f":"給与計算設定!G247","v":0},{"$f":"給与計算設定!G248","v":0},{"$f":"給与計算設定!G249","v":0},{"$f":"給与計算設定!G250","v":0},{"$f":"SUM(AU159:BA159,AU161:BA161)","v":0},null,null,null,{"$f":"給与計算設定!H244","v":0},{"$f":"給与計算設定!H245","v":0},{"$f":"給与計算設定!H246","v":0},{"$f":"給与計算設定!H247","v":0},{"$f":"給与計算設定!H248","v":0},{"$f":"給与計算設定!H249","v":0},{"$f":"給与計算設定!H250","v":0},{"$f":"SUM(BF159:BL159,BF161:BL161)","v":0},null,null,null,{"$f":"給与計算設定!I244","v":0},{"$f":"給与計算設定!I245","v":0},{"$f":"給与計算設定!I246","v":0},{"$f":"給与計算設定!I247","v":0},{"$f":"給与計算設定!I248","v":0},{"$f":"給与計算設定!I249","v":0},{"$f":"給与計算設定!I250","v":0},{"$f":"SUM(BQ159:BW159,BQ161:BW161)","v":0},null,null,null,{"$f":"給与計算設定!J244","v":0},{"$f":"給与計算設定!J245","v":0},{"$f":"給与計算設定!J246","v":0},{"$f":"給与計算設定!J247","v":0},{"$f":"給与計算設定!J248","v":0},{"$f":"給与計算設定!J249","v":0},{"$f":"給与計算設定!J250","v":0},{"$f":"SUM(CB159:CH159,CB161:CH161)","v":0},null,null,null,{"$f":"給与計算設定!K244","v":0},{"$f":"給与計算設定!K245","v":0},{"$f":"給与計算設定!K246","v":0},{"$f":"給与計算設定!K247","v":0},{"$f":"給与計算設定!K248","v":0},{"$f":"給与計算設定!K249","v":0},{"$f":"給与計算設定!K250","v":0},{"$f":"SUM(CM159:CS159,CM161:CS161)","v":0},null,null,null,{"$f":"給与計算設定!L244","v":0},{"$f":"給与計算設定!L245","v":0},{"$f":"給与計算設定!L246","v":0},{"$f":"給与計算設定!L247","v":0},{"$f":"給与計算設定!L248","v":0},{"$f":"給与計算設定!L249","v":0},{"$f":"給与計算設定!L250","v":0},{"$f":"SUM(CX159:DD159,CX161:DD161)","v":0},null,null,null,{"$f":"給与計算設定!M244","v":0},{"$f":"給与計算設定!M245","v":0},{"$f":"給与計算設定!M246","v":0},{"$f":"給与計算設定!M247","v":0},{"$f":"給与計算設定!M248","v":0},{"$f":"給与計算設定!M249","v":0},{"$f":"給与計算設定!M250","v":0},{"$f":"SUM(DI159:DO159,DI161:DO161)","v":0},null,null,null,{"$f":"給与計算設定!N244","v":0},{"$f":"給与計算設定!N245","v":0},{"$f":"給与計算設定!N246","v":0},{"$f":"給与計算設定!N247","v":0},{"$f":"給与計算設定!N248","v":0},{"$f":"給与計算設定!N249","v":0},{"$f":"給与計算設定!N250","v":0},{"$f":"SUM(DT159:DZ159,DT161:DZ161)","v":0}]
[]
[null,"控除","健康保険料","介護保険料","厚生年金等","雇用保険料","所得税","住民税","年末調整","社会保険料合計",null,null,"控除","健康保険料","介護保険料","厚生年金等","雇用保険料","所得税","住民税","年末調整","社会保険料合計",null,null,"控除","健康保険料","介護保険料","厚生年金等","雇用保険料","所得税","住民税","年末調整","社会保険料合計",null,null,"控除","健康保険料","介護保険料","厚生年金等","雇用保険料","所得税","住民税","年末調整","社会保険料合計",null,null,"控除","健康保険料","介護保険料","厚生年金等","雇用保険料","所得税","住民税","年末調整","社会保険料合計",null,null,"控除","健康保険料","介護保険料","厚生年金等","雇用保険料","所得税","住民税","年末調整","社会保険料合計",null,null,"控除","健康保険料","介護保険料","厚生年金等","雇用保険料","所得税","住民税","年末調整","社会保険料合計",null,null,"控除","健康保険料","介護保険料","厚生年金等","雇用保険料","所得税","住民税","年末調整","社会保険料合計",null,null,"控除","健康保険料","介護保険料","厚生年金等","雇用保険料","所得税","住民税","年末調整","社会保険料合計",null,null,"控除","健康保険料","介護保険料","厚生年金等","雇用保険料","所得税","住民税","年末調整","社会保険料合計",null,null,"控除","健康保険料","介護保険料","厚生年金等","雇用保険料","所得税","住民税","年末調整","社会保険料合計",null,null,"控除","健康保険料","介護保険料","厚生年金等","雇用保険料","所得税","住民税","年末調整","社会保険料合計"]
[null,null,{"$f":"給与計算設定!C252","v":0},{"$f":"給与計算設定!C253","v":0},{"$f":"給与計算設定!C254","v":0},{"$f":"ROUND(給与計算設定!C255*給与明細!J161-0.01,0)","v":0},0,{"$f":"給与計算設定!C256","v":0},null,{"$f":"SUM(C164:F164)","v":0},null,null,null,{"$f":"給与計算設定!D252","v":0},{"$f":"給与計算設定!D253","v":0},{"$f":"給与計算設定!D254","v":0},{"$f":"ROUND(給与計算設定!D255*給与明細!U161-0.01,0)","v":0},0,{"$f":"給与計算設定!D256","v":0},null,{"$f":"SUM(N164:Q164)","v":0},null,null,null,{"$f":"給与計算設定!E252","v":0},{"$f":"給与計算設定!E253","v":0},{"$f":"給与計算設定!E254","v":0},{"$f":"ROUND(給与計算設定!E255*給与明細!AF161-0.01,0)","v":0},0,{"$f":"給与計算設定!E256","v":0},null,{"$f":"SUM(Y164:AB164)","v":0},null,null,null,{"$f":"給与計算設定!F252","v":0},{"$f":"給与計算設定!F253","v":0},{"$f":"給与計算設定!F254","v":0},{"$f":"ROUND(給与計算設定!F255*給与明細!AQ161-0.01,0)","v":0},0,{"$f":"給与計算設定!F256","v":0},null,{"$f":"SUM(AJ164:AM164)","v":0},null,null,null,{"$f":"給与計算設定!G252","v":0},{"$f":"給与計算設定!G253","v":0},{"$f":"給与計算設定!G254","v":0},{"$f":"ROUND(給与計算設定!G255*給与明細!BB161-0.01,0)","v":0},0,{"$f":"給与計算設定!G256","v":0},null,{"$f":"SUM(AU164:AX164)","v":0},null,null,null,{"$f":"給与計算設定!H252","v":0},{"$f":"給与計算設定!H253","v":0},{"$f":"給与計算設定!H254","v":0},{"$f":"ROUND(給与計算設定!H255*給与明細!BM161-0.01,0)","v":0},0,{"$f":"給与計算設定!H256","v":0},null,{"$f":"SUM(BF164:BI164)","v":0},null,null,null,{"$f":"給与計算設定!I252","v":0},{"$f":"給与計算設定!I253","v":0},{"$f":"給与計算設定!I254","v":0},{"$f":"ROUND(給与計算設定!I255*給与明細!BX161-0.01,0)","v":0},0,{"$f":"給与計算設定!I256","v":0},null,{"$f":"SUM(BQ164:BT164)","v":0},null,null,null,{"$f":"給与計算設定!J252","v":0},{"$f":"給与計算設定!J253","v":0},{"$f":"給与計算設定!J254","v":0},{"$f":"ROUND(給与計算設定!J255*給与明細!CI161-0.01,0)","v":0},0,{"$f":"給与計算設定!J256","v":0},null,{"$f":"SUM(CB164:CE164)","v":0},null,null,null,{"$f":"給与計算設定!K252","v":0},{"$f":"給与計算設定!K253","v":0},{"$f":"給与計算設定!K254","v":0},{"$f":"ROUND(給与計算設定!K255*給与明細!CT161-0.01,0)","v":0},0,{"$f":"給与計算設定!K256","v":0},null,{"$f":"SUM(CM164:CP164)","v":0},null,null,null,{"$f":"給与計算設定!L252","v":0},{"$f":"給与計算設定!L253","v":0},{"$f":"給与計算設定!L254","v":0},{"$f":"ROUND(給与計算設定!L255*給与明細!DE161-0.01,0)","v":0},0,{"$f":"給与計算設定!L256","v":0},null,{"$f":"SUM(CX164:DA164)","v":0},null,null,null,{"$f":"給与計算設定!M252","v":0},{"$f":"給与計算設定!M253","v":0},{"$f":"給与計算設定!M254","v":0},{"$f":"ROUND(給与計算設定!M255*給与明細!DP161-0.01,0)","v":0},0,{"$f":"給与計算設定!M256","v":0},null,{"$f":"SUM(DI164:DL164)","v":0},null,null,null,{"$f":"給与計算設定!N252","v":0},{"$f":"給与計算設定!N253","v":0},{"$f":"給与計算設定!N254","v":0},{"$f":"ROUND(給与計算設定!N255*給与明細!EA161-0.01,0)","v":0},0,{"$f":"給与計算設定!N256","v":0},null,{"$f":"SUM(DT164:DW164)","v":0}]
[null,null,{"$f":"給与計算設定!B257","v":0},{"$f":"給与計算設定!B258","v":0},{"$f":"給与計算設定!B259","v":0},{"$f":"給与計算設定!B260","v":0},{"$f":"給与計算設定!B261","v":0},{"$f":"給与計算設定!B262","v":0},{"$f":"給与計算設定!B263","v":0},"控除合計",null,null,null,{"$f":"C165","v":0},0,0,0,0,0,0,"控除合計",null,null,null,{"$f":"N165","v":0},0,0,0,0,0,0,"控除合計",null,null,null,{"$f":"Y165","v":0},0,0,0,0,0,0,"控除合計",null,null,null,{"$f":"AJ165","v":0},0,0,0,0,0,0,"控除合計",null,null,null,{"$f":"AU165","v":0},0,0,0,0,0,0,"控除合計",null,null,null,{"$f":"BF165","v":0},0,0,0,0,0,0,"控除合計",null,null,null,{"$f":"BQ165","v":0},0,0,0,0,0,0,"控除合計",null,null,null,{"$f":"CB165","v":0},0,0,0,0,0,0,"控除合計",null,null,null,{"$f":"CM165","v":0},0,0,0,0,0,0,"控除合計",null,null,null,{"$f":"CX165","v":0},0,0,0,0,0,0,"控除合計",null,null,null,{"$f":"DI165","v":0},0,0,0,0,0,0,"控除合計"]
[null,null,{"$f":"給与計算設定!C257","v":0},{"$f":"給与計算設定!C258","v":0},{"$f":"給与計算設定!C259","v":0},{"$f":"給与計算設定!C260","v":0},{"$f":"給与計算設定!C261","v":0},{"$f":"給与計算設定!C262","v":0},{"$f":"給与計算設定!C263","v":0},{"$f":"SUM(C164:I164,C166:I166)","v":0},null,null,null,{"$f":"給与計算設定!D257","v":0},{"$f":"給与計算設定!D258","v":0},{"$f":"給与計算設定!D259","v":0},{"$f":"給与計算設定!D260","v":0},{"$f":"給与計算設定!D261","v":0},{"$f":"給与計算設定!D262","v":0},{"$f":"給与計算設定!D263","v":0},{"$f":"SUM(N164:T164,N166:T166)","v":0},null,null,null,{"$f":"給与計算設定!E257","v":0},{"$f":"給与計算設定!E258","v":0},{"$f":"給与計算設定!E259","v":0},{"$f":"給与計算設定!E260","v":0},{"$f":"給与計算設定!E261","v":0},{"$f":"給与計算設定!E262","v":0},{"$f":"給与計算設定!E263","v":0},{"$f":"SUM(Y164:AE164,Y166:AE166)","v":0},null,null,null,{"$f":"給与計算設定!F257","v":0},{"$f":"給与計算設定!F258","v":0},{"$f":"給与計算設定!F259","v":0},{"$f":"給与計算設定!F260","v":0},{"$f":"給与計算設定!F261","v":0},{"$f":"給与計算設定!F262","v":0},{"$f":"給与計算設定!F263","v":0},{"$f":"SUM(AJ164:AP164,AJ166:AP166)","v":0},null,null,null,{"$f":"給与計算設定!G257","v":0},{"$f":"給与計算設定!G258","v":0},{"$f":"給与計算設定!G259","v":0},{"$f":"給与計算設定!G260","v":0},{"$f":"給与計算設定!G261","v":0},{"$f":"給与計算設定!G262","v":0},{"$f":"給与計算設定!G263","v":0},{"$f":"SUM(AU164:BA164,AU166:BA166)","v":0},null,null,null,{"$f":"給与計算設定!H257","v":0},{"$f":"給与計算設定!H258","v":0},{"$f":"給与計算設定!H259","v":0},{"$f":"給与計算設定!H260","v":0},{"$f":"給与計算設定!H261","v":0},{"$f":"給与計算設定!H262","v":0},{"$f":"給与計算設定!H263","v":0},{"$f":"SUM(BF164:BL164,BF166:BL166)","v":0},null,null,null,{"$f":"給与計算設定!I257","v":0},{"$f":"給与計算設定!I258","v":0},{"$f":"給与計算設定!I259","v":0},{"$f":"給与計算設定!I260","v":0},{"$f":"給与計算設定!I261","v":0},{"$f":"給与計算設定!I262","v":0},{"$f":"給与計算設定!I263","v":0},{"$f":"SUM(BQ164:BW164,BQ166:BW166)","v":0},null,null,null,{"$f":"給与計算設定!J257","v":0},{"$f":"給与計算設定!J258","v":0},{"$f":"給与計算設定!J259","v":0},{"$f":"給与計算設定!J260","v":0},{"$f":"給与計算設定!J261","v":0},{"$f":"給与計算設定!J262","v":0},{"$f":"給与計算設定!J263","v":0},{"$f":"SUM(CB164:CH164,CB166:CH166)","v":0},null,null,null,{"$f":"給与計算設定!K257","v":0},{"$f":"給与計算設定!K258","v":0},{"$f":"給与計算設定!K259","v":0},{"$f":"給与計算設定!K260","v":0},{"$f":"給与計算設定!K261","v":0},{"$f":"給与計算設定!K262","v":0},{"$f":"給与計算設定!K263","v":0},{"$f":"SUM(CM164:CS164,CM166:CS166)","v":0},null,null,null,{"$f":"給与計算設定!L257","v":0},{"$f":"給与計算設定!L258","v":0},{"$f":"給与計算設定!L259","v":0},{"$f":"給与計算設定!L260","v":0},{"$f":"給与計算設定!L261","v":0},{"$f":"給与計算設定!L262","v":0},{"$f":"給与計算設定!L263","v":0},{"$f":"SUM(CX164:DD164,CX166:DD166)","v":0},null,null,null,{"$f":"給与計算設定!M257","v":0},{"$f":"給与計算設定!M258","v":0},{"$f":"給与計算設定!M259","v":0},{"$f":"給与計算設定!M260","v":0},{"$f":"給与計算設定!M261","v":0},{"$f":"給与計算設定!M262","v":0},{"$f":"給与計算設定!M263","v":0},{"$f":"SUM(DI164:DO164,DI166:DO166)","v":0},null,null,null,{"$f":"給与計算設定!N257","v":0},{"$f":"給与計算設定!N258","v":0},{"$f":"給与計算設定!N259","v":0},{"$f":"給与計算設定!N260","v":0},{"$f":"給与計算設定!N261","v":0},{"$f":"給与計算設定!N262","v":0},{"$f":"給与計算設定!N263","v":0},{"$f":"SUM(DT164:DZ164,DT166:DZ166)","v":0}]
[]
[null,"備考",null,null,null,null,null,null,null,"差引支給額",null,null,"備考",null,null,null,null,null,null,null,"差引支給額",null,null,"備考",null,null,null,null,null,null,null,"差引支給額",null,null,"備考",null,null,null,null,null,null,null,"差引支給額",null,null,"備考",null,null,null,null,null,null,null,"差引支給額",null,null,"備考",null,null,null,null,null,null,null,"差引支給額",null,null,"備考",null,null,null,null,null,null,null,"差引支給額",null,null,"備考",null,null,null,null,null,null,null,"差引支給額",null,null,"備考",null,null,null,null,null,null,null,"差引支給額",null,null,"備考",null,null,null,null,null,null,null,"差引支給額",null,null,"備考",null,null,null,null,null,null,null,"差引支給額",null,null,"備考",null,null,null,null,null,null,null,"差引支給額"]
[null,null,null,null,null,null,null,null,null,{"$f":"J161-J166","v":0},null,null,null,null,null,null,null,null,null,null,{"$f":"U161-U166","v":0},null,null,null,null,null,null,null,null,null,null,{"$f":"AF161-AF166","v":0},null,null,null,null,null,null,null,null,null,null,{"$f":"AQ161-AQ166","v":0},null,null,null,null,null,null,null,null,null,null,{"$f":"BB161-BB166","v":0},null,null,null,null,null,null,null,null,null,null,{"$f":"BM161-BM166","v":0},null,null,null,null,null,null,null,null,null,null,{"$f":"BX161-BX166","v":0},null,null,null,null,null,null,null,null,null,null,{"$f":"CI161-CI166","v":0},null,null,null,null,null,null,null,null,null,null,{"$f":"CT161-CT166","v":0},null,null,null,null,null,null,null,null,null,null,{"$f":"DE161-DE166","v":0},null,null,null,null,null,null,null,null,null,null,{"$f":"DP161-DP166","v":0},null,null,null,null,null,null,null,null,null,null,{"$f":"EA161-EA166","v":0}]
[]
[]
[null,{"$f":"B151","v":"年度１月給与"},null,null,null,null,null,null,null,{"$f":"J151","v":"年度　"},null,null,{"$f":"M151","v":0},null,null,null,null,null,null,null,{"$f":"J172","v":"年度　"},null,null,{"$f":"X151","v":"年度３月給与"},null,null,null,null,null,null,null,{"$f":"U172","v":"年度　"},null,null,{"$f":"AI151","v":"年度４月給与"},null,null,null,null,null,null,null,{"$f":"AF172","v":"年度　"},null,null,{"$f":"AT151","v":"年度５月給与"},null,null,null,null,null,null,null,{"$f":"AQ172","v":"年度　"},null,null,{"$f":"BE151","v":"年度６月給与"},null,null,null,null,null,null,null,{"$f":"BB172","v":"年度　"},null,null,{"$f":"BP151","v":"年度７月給与"},null,null,null,null,null,null,null,{"$f":"BM172","v":"年度　"},null,null,{"$f":"給与計算設定!$E$2&給与計算設定!$F$2&\"８月給与\"","v":"年度８月給与"},null,null,null,null,null,null,null,{"$f":"BX172","v":"年度　"},null,null,{"$f":"給与計算設定!$E$2&給与計算設定!$F$2&\"９月給与\"","v":"年度９月給与"},null,null,null,null,null,null,null,{"$f":"CI172","v":"年度　"},null,null,{"$f":"給与計算設定!$E$2&給与計算設定!$F$2&\"１０月給与\"","v":"年度１０月給与"},null,null,null,null,null,null,null,{"$f":"CT172","v":"年度　"},null,null,{"$f":"給与計算設定!$E$2&給与計算設定!$F$2&\"１１月給与\"","v":"年度１１月給与"},null,null,null,null,null,null,null,{"$f":"DE172","v":"年度　"},null,null,{"$f":"給与計算設定!$E$2&給与計算設定!$F$2&\"１２月給与\"","v":"年度１２月給与"},null,null,null,null,null,null,null,{"$f":"DP172","v":"年度　"}]
[]
[9,"氏名",{"$f":"給与計算設定!B268","v":0},null,null,null,null,null,null,null,null,9,"氏名",{"$f":"C174","v":0},null,null,null,null,null,null,null,null,9,"氏名",{"$f":"N174","v":0},null,null,null,null,null,null,null,null,9,"氏名",{"$f":"Y174","v":0},null,null,null,null,null,null,null,null,9,"氏名",{"$f":"AJ174","v":0},null,null,{"$f":"AX151","v":0},null,null,null,{"$f":"AQ174","v":0},null,9,"氏名",{"$f":"AU174","v":0},null,null,{"$f":"BI151","v":0},null,null,null,{"$f":"BB174","v":0},null,9,"氏名",{"$f":"BF174","v":0},null,null,{"$f":"BT151","v":0},null,null,null,{"$f":"BM174","v":0},null,9,"氏名",{"$f":"BQ174","v":0},null,null,null,null,null,null,null,null,9,"氏名",{"$f":"CB174","v":0},null,null,null,null,null,null,null,null,9,"氏名",{"$f":"CM174","v":0},null,null,null,null,null,null,null,null,9,"氏名",{"$f":"CX174","v":0},null,null,null,null,null,null,null,null,9,"氏名",{"$f":"DI174","v":0},null,null,null,null,null,null,null,null,9]
[]
[null,"勤怠","労働時間","普通残業時間","深夜労働時間","休日労働時間","出勤日数","欠勤日数","有休日数","有休残日数",null,null,"勤怠","労働時間","普通残業時間","深夜労働時間","休日労働時間","出勤日数","欠勤日数","有休日数","有休残日数",null,null,"勤怠","労働時間","普通残業時間","深夜労働時間","休日労働時間","出勤日数","欠勤日数","有休日数","有休残日数",null,null,"勤怠","労働時間","普通残業時間","深夜労働時間","休日労働時間","出勤日数","欠勤日数","有休日数","有休残日数",null,null,"勤怠","労働時間","普通残業時間","深夜労働時間","休日労働時間","出勤日数","欠勤日数","有休日数","有休残日数",null,null,"勤怠","労働時間","普通残業時間","深夜労働時間","休日労働時間","出勤日数","欠勤日数","有休日数","有休残日数",null,null,"勤怠","労働時間","普通残業時間","深夜労働時間","休日労働時間","出勤日数","欠勤日数","有休日数","有休残日数",null,null,"勤怠","労働時間","普通残業時間","深夜労働時間","休日労働時間","出勤日数","欠勤日数","有休日数","有休残日数",null,null,"勤怠","労働時間","普通残業時間","深夜労働時間","休日労働時間","出勤日数","欠勤日数","有休日数","有休残日数",null,null,"勤怠","労働時間","普通残業時間","深夜労働時間","休日労働時間","出勤日数","欠勤日数","有休日数","有休残日数",null,null,"勤怠","労働時間","普通残業時間","深夜労働時間","休日労働時間","出勤日数","欠勤日数","有休日数","有休残日数",null,null,"勤怠","労働時間","普通残業時間","深夜労働時間","休日労働時間","出勤日数","欠勤日数","有休日数","有休残日数"]
[]
[]
[null,"支給","基本給","時間外手当","深夜手当","休日手当",{"$f":"給与計算設定!B274","v":"通勤手当"},{"$f":"給与計算設定!B275","v":0},{"$f":"給与計算設定!B276","v":0},"課税対象額",null,null,"支給","基本給","時間外手当","深夜手当","休日手当",{"$f":"G179","v":"通勤手当"},{"$f":"H179","v":0},{"$f":"I179","v":0},"課税対象額",null,null,"支給","基本給","時間外手当","深夜手当","休日手当",{"$f":"R179","v":"通勤手当"},{"$f":"S179","v":0},{"$f":"T179","v":0},"課税対象額",null,null,"支給","基本給","時間外手当","深夜手当","休日手当",{"$f":"AC179","v":"通勤手当"},{"$f":"AD179","v":0},{"$f":"AE179","v":0},"課税対象額",null,null,"支給","基本給","時間外手当","深夜手当","休日手当",{"$f":"AN179","v":"通勤手当"},{"$f":"AO179","v":0},{"$f":"AP179","v":0},"課税対象額",null,null,"支給","基本給","時間外手当","深夜手当","休日手当",{"$f":"AY179","v":"通勤手当"},{"$f":"AZ179","v":0},{"$f":"BA179","v":0},"課税対象額",null,null,"支給","基本給","時間外手当","深夜手当","休日手当",{"$f":"BJ179","v":"通勤手当"},{"$f":"BK179","v":0},{"$f":"BL179","v":0},"課税対象額",null,null,"支給","基本給","時間外手当","深夜手当","休日手当",{"$f":"BU179","v":"通勤手当"},{"$f":"BV179","v":0},{"$f":"BW179","v":0},"課税対象額",null,null,"支給","基本給","時間外手当","深夜手当","休日手当",{"$f":"CF179","v":"通勤手当"},{"$f":"CG179","v":0},{"$f":"CH179","v":0},"課税対象額",null,null,"支給","基本給","時間外手当","深夜手当","休日手当",{"$f":"CQ179","v":"通勤手当"},{"$f":"CR179","v":0},{"$f":"CS179","v":0},"課税対象額",null,null,"支給","基本給","時間外手当","深夜手当","休日手当",{"$f":"DB179","v":"通勤手当"},{"$f":"DC179","v":0},{"$f":"DD179","v":0},"課税対象額",null,null,"支給","基本給","時間外手当","深夜手当","休日手当",{"$f":"DM179","v":"通勤手当"},{"$f":"DN179","v":0},{"$f":"DO179","v":0},"課税対象額"]
[null,null,{"$f":"IF(給与計算設定!C269<>\"\",給与計算設定!C269,ROUND(給与計算設定!C270*給与明細!C177,0))","v":0},{"$f":"ROUND(給与計算設定!C271*給与明細!D177,0)","v":0},{"$f":"ROUND(給与計算設定!C272*給与明細!E177,0)","v":0},{"$f":"ROUND(給与計算設定!C273*給与明細!F177,0)","v":0},{"$f":"給与計算設定!C274","v":0},{"$f":"給与計算設定!C275","v":0},{"$f":"給与計算設定!C276","v":0},{"$f":"J182-J185-G180","v":0},null,null,null,{"$f":"IF(給与計算設定!D269<>\"\",給与計算設定!D269,ROUND(給与計算設定!D270*給与明細!N177,0))","v":0},{"$f":"ROUND(給与計算設定!D271*給与明細!O177,0)","v":0},{"$f":"ROUND(給与計算設定!D272*給与明細!P177,0)","v":0},{"$f":"ROUND(給与計算設定!D273*給与明細!Q177,0)","v":0},{"$f":"給与計算設定!D274","v":0},{"$f":"給与計算設定!D275","v":0},{"$f":"給与計算設定!D276","v":0},{"$f":"U182-U185-R180","v":0},null,null,null,{"$f":"IF(給与計算設定!E269<>\"\",給与計算設定!E269,ROUND(給与計算設定!E270*給与明細!Y177,0))","v":0},{"$f":"ROUND(給与計算設定!E271*給与明細!Z177,0)","v":0},{"$f":"ROUND(給与計算設定!E272*給与明細!AA177,0)","v":0},{"$f":"ROUND(給与計算設定!E273*給与明細!AB177,0)","v":0},{"$f":"給与計算設定!E274","v":0},{"$f":"給与計算設定!E275","v":0},{"$f":"給与計算設定!E276","v":0},{"$f":"AF182-AF185-AC180","v":0},null,null,null,{"$f":"IF(給与計算設定!F269<>\"\",給与計算設定!F269,ROUND(給与計算設定!F270*給与明細!AJ177,0))","v":0},{"$f":"ROUND(給与計算設定!F271*給与明細!AK177,0)","v":0},{"$f":"ROUND(給与計算設定!F272*給与明細!AL177,0)","v":0},{"$f":"ROUND(給与計算設定!F273*給与明細!AM177,0)","v":0},{"$f":"給与計算設定!F274","v":0},{"$f":"給与計算設定!F275","v":0},{"$f":"給与計算設定!F276","v":0},{"$f":"AQ182-AQ185-AN180","v":0},null,null,null,{"$f":"IF(給与計算設定!G269<>\"\",給与計算設定!G269,ROUND(給与計算設定!G270*給与明細!AU177,0))","v":0},{"$f":"ROUND(給与計算設定!G271*給与明細!AV177,0)","v":0},{"$f":"ROUND(給与計算設定!G272*給与明細!AW177,0)","v":0},{"$f":"ROUND(給与計算設定!G273*給与明細!AX177,0)","v":0},{"$f":"給与計算設定!G274","v":0},{"$f":"給与計算設定!G275","v":0},{"$f":"給与計算設定!G276","v":0},{"$f":"BB182-BB185-AY180","v":0},null,null,null,{"$f":"IF(給与計算設定!H269<>\"\",給与計算設定!H269,ROUND(給与計算設定!H270*給与明細!BF177,0))","v":0},{"$f":"ROUND(給与計算設定!H271*給与明細!BG177,0)","v":0},{"$f":"ROUND(給与計算設定!H272*給与明細!BH177,0)","v":0},{"$f":"ROUND(給与計算設定!H273*給与明細!BH177,0)","v":0},{"$f":"給与計算設定!H274","v":0},{"$f":"給与計算設定!H275","v":0},{"$f":"給与計算設定!H276","v":0},{"$f":"BM182-BM185-BJ180","v":0},null,null,null,{"$f":"IF(給与計算設定!I269<>\"\",給与計算設定!I269,ROUND(給与計算設定!I270*給与明細!BQ177,0))","v":0},{"$f":"ROUND(給与計算設定!I271*給与明細!BR177,0)","v":0},{"$f":"ROUND(給与計算設定!I272*給与明細!BS177,0)","v":0},{"$f":"ROUND(給与計算設定!I273*給与明細!BT177,0)","v":0},{"$f":"給与計算設定!I274","v":0},{"$f":"給与計算設定!I275","v":0},{"$f":"給与計算設定!I276","v":0},{"$f":"BX182-BX185-BU180","v":0},null,null,null,{"$f":"IF(給与計算設定!J269<>\"\",給与計算設定!J269,ROUND(給与計算設定!J270*給与明細!CB177,0))","v":0},{"$f":"ROUND(給与計算設定!J271*給与明細!CC177,0)","v":0},{"$f":"ROUND(給与計算設定!J272*給与明細!CD177,0)","v":0},{"$f":"ROUND(給与計算設定!J273*給与明細!CE177,0)","v":0},{"$f":"給与計算設定!J274","v":0},{"$f":"給与計算設定!J275","v":0},{"$f":"給与計算設定!J276","v":0},{"$f":"CI182-CI185-CF180","v":0},null,null,null,{"$f":"IF(給与計算設定!K269<>\"\",給与計算設定!K269,ROUND(給与計算設定!K270*給与明細!CM177,0))","v":0},{"$f":"ROUND(給与計算設定!K271*給与明細!CN177,0)","v":0},{"$f":"ROUND(給与計算設定!K272*給与明細!CO177,0)","v":0},{"$f":"ROUND(給与計算設定!K273*給与明細!CP177,0)","v":0},{"$f":"給与計算設定!K274","v":0},{"$f":"給与計算設定!K275","v":0},{"$f":"給与計算設定!K276","v":0},{"$f":"CT182-CT185-CQ180","v":0},null,null,null,{"$f":"IF(給与計算設定!L269<>\"\",給与計算設定!L269,ROUND(給与計算設定!L270*給与明細!CX177,0))","v":0},{"$f":"ROUND(給与計算設定!L271*給与明細!CY177,0)","v":0},{"$f":"ROUND(給与計算設定!L272*給与明細!CZ177,0)","v":0},{"$f":"ROUND(給与計算設定!L273*給与明細!DA177,0)","v":0},{"$f":"給与計算設定!L274","v":0},{"$f":"給与計算設定!L275","v":0},{"$f":"給与計算設定!L276","v":0},{"$f":"DE182-DE185-DB180","v":0},null,null,null,{"$f":"IF(給与計算設定!M269<>\"\",給与計算設定!M269,ROUND(給与計算設定!M270*給与明細!DI177,0))","v":0},{"$f":"ROUND(給与計算設定!M271*給与明細!DJ177,0)","v":0},{"$f":"ROUND(給与計算設定!M272*給与明細!DK177,0)","v":0},{"$f":"ROUND(給与計算設定!M273*給与明細!DL177,0)","v":0},{"$f":"給与計算設定!M274","v":0},{"$f":"給与計算設定!M275","v":0},{"$f":"給与計算設定!M276","v":0},{"$f":"DP182-DP185-DM180","v":0},null,null,null,{"$f":"IF(給与計算設定!N269<>\"\",給与計算設定!N269,ROUND(給与計算設定!N270*給与明細!DT177,0))","v":0},{"$f":"ROUND(給与計算設定!N271*給与明細!DU177,0)","v":0},{"$f":"ROUND(給与計算設定!N272*給与明細!DV177,0)","v":0},{"$f":"ROUND(給与計算設定!N273*給与明細!DW177,0)","v":0},{"$f":"給与計算設定!N274","v":0},{"$f":"給与計算設定!N275","v":0},{"$f":"給与計算設定!N276","v":0},{"$f":"EA182-EA185-DX180","v":0}]
[null,null,{"$f":"給与計算設定!B277","v":0},{"$f":"給与計算設定!B278","v":0},{"$f":"給与計算設定!B279","v":0},{"$f":"給与計算設定!B280","v":0},{"$f":"給与計算設定!B281","v":0},{"$f":"給与計算設定!B282","v":0},{"$f":"給与計算設定!B283","v":0},"支給合計",null,null,null,{"$f":"C181","v":0},0,0,0,0,0,0,"支給合計",null,null,null,{"$f":"N181","v":0},0,0,0,0,0,0,"支給合計",null,null,null,{"$f":"Y181","v":0},0,0,0,0,0,0,"支給合計",null,null,null,{"$f":"AJ181","v":0},0,0,0,0,0,0,"支給合計",null,null,null,{"$f":"AU181","v":0},0,0,0,0,0,0,"支給合計",null,null,null,{"$f":"BF181","v":0},0,0,0,0,0,0,"支給合計",null,null,null,{"$f":"BQ181","v":0},0,0,0,0,0,0,"支給合計",null,null,null,{"$f":"CB181","v":0},0,0,0,0,0,0,"支給合計",null,null,null,{"$f":"CM181","v":0},0,0,0,0,0,0,"支給合計",null,null,null,{"$f":"CX181","v":0},0,0,0,0,0,0,"支給合計",null,null,null,{"$f":"DI181","v":0},0,0,0,0,0,0,"支給合計"]
[null,null,{"$f":"給与計算設定!C277","v":0},{"$f":"給与計算設定!C278","v":0},{"$f":"給与計算設定!C279","v":0},{"$f":"給与計算設定!C280","v":0},{"$f":"給与計算設定!C281","v":0},{"$f":"給与計算設定!C282","v":0},{"$f":"給与計算設定!C283","v":0},{"$f":"SUM(C180:I180,C182:I182)","v":0},null,null,null,{"$f":"給与計算設定!D277","v":0},{"$f":"給与計算設定!D278","v":0},{"$f":"給与計算設定!D279","v":0},{"$f":"給与計算設定!D280","v":0},{"$f":"給与計算設定!D281","v":0},{"$f":"給与計算設定!D282","v":0},{"$f":"給与計算設定!D283","v":0},{"$f":"SUM(N180:T180,N182:T182)","v":0},null,null,null,{"$f":"給与計算設定!E277","v":0},{"$f":"給与計算設定!E278","v":0},{"$f":"給与計算設定!E279","v":0},{"$f":"給与計算設定!E280","v":0},{"$f":"給与計算設定!E281","v":0},{"$f":"給与計算設定!E282","v":0},{"$f":"給与計算設定!E283","v":0},{"$f":"SUM(Y180:AE180,Y182:AE182)","v":0},null,null,null,{"$f":"給与計算設定!F277","v":0},{"$f":"給与計算設定!F278","v":0},{"$f":"給与計算設定!F279","v":0},{"$f":"給与計算設定!F280","v":0},{"$f":"給与計算設定!F281","v":0},{"$f":"給与計算設定!F282","v":0},{"$f":"給与計算設定!F283","v":0},{"$f":"SUM(AJ180:AP180,AJ182:AP182)","v":0},null,null,null,{"$f":"給与計算設定!G277","v":0},{"$f":"給与計算設定!G278","v":0},{"$f":"給与計算設定!G279","v":0},{"$f":"給与計算設定!G280","v":0},{"$f":"給与計算設定!G281","v":0},{"$f":"給与計算設定!G282","v":0},{"$f":"給与計算設定!G283","v":0},{"$f":"SUM(AU180:BA180,AU182:BA182)","v":0},null,null,null,{"$f":"給与計算設定!H277","v":0},{"$f":"給与計算設定!H278","v":0},{"$f":"給与計算設定!H279","v":0},{"$f":"給与計算設定!H280","v":0},{"$f":"給与計算設定!H281","v":0},{"$f":"給与計算設定!H282","v":0},{"$f":"給与計算設定!H283","v":0},{"$f":"SUM(BF180:BL180,BF182:BL182)","v":0},null,null,null,{"$f":"給与計算設定!I277","v":0},{"$f":"給与計算設定!I278","v":0},{"$f":"給与計算設定!I279","v":0},{"$f":"給与計算設定!I280","v":0},{"$f":"給与計算設定!I281","v":0},{"$f":"給与計算設定!I282","v":0},{"$f":"給与計算設定!I283","v":0},{"$f":"SUM(BQ180:BW180,BQ182:BW182)","v":0},null,null,null,{"$f":"給与計算設定!J277","v":0},{"$f":"給与計算設定!J278","v":0},{"$f":"給与計算設定!J279","v":0},{"$f":"給与計算設定!J280","v":0},{"$f":"給与計算設定!J281","v":0},{"$f":"給与計算設定!J282","v":0},{"$f":"給与計算設定!J283","v":0},{"$f":"SUM(CB180:CH180,CB182:CH182)","v":0},null,null,null,{"$f":"給与計算設定!K277","v":0},{"$f":"給与計算設定!K278","v":0},{"$f":"給与計算設定!K279","v":0},{"$f":"給与計算設定!K280","v":0},{"$f":"給与計算設定!K281","v":0},{"$f":"給与計算設定!K282","v":0},{"$f":"給与計算設定!K283","v":0},{"$f":"SUM(CM180:CS180,CM182:CS182)","v":0},null,null,null,{"$f":"給与計算設定!L277","v":0},{"$f":"給与計算設定!L278","v":0},{"$f":"給与計算設定!L279","v":0},{"$f":"給与計算設定!L280","v":0},{"$f":"給与計算設定!L281","v":0},{"$f":"給与計算設定!L282","v":0},{"$f":"給与計算設定!L283","v":0},{"$f":"SUM(CX180:DD180,CX182:DD182)","v":0},null,null,null,{"$f":"給与計算設定!M277","v":0},{"$f":"給与計算設定!M278","v":0},{"$f":"給与計算設定!M279","v":0},{"$f":"給与計算設定!M280","v":0},{"$f":"給与計算設定!M281","v":0},{"$f":"給与計算設定!M282","v":0},{"$f":"給与計算設定!M283","v":0},{"$f":"SUM(DI180:DO180,DI182:DO182)","v":0},null,null,null,{"$f":"給与計算設定!N277","v":0},{"$f":"給与計算設定!N278","v":0},{"$f":"給与計算設定!N279","v":0},{"$f":"給与計算設定!N280","v":0},{"$f":"給与計算設定!N281","v":0},{"$f":"給与計算設定!N282","v":0},{"$f":"給与計算設定!N283","v":0},{"$f":"SUM(DT180:DZ180,DT182:DZ182)","v":0}]
[]
[null,"控除","健康保険料","介護保険料","厚生年金等","雇用保険料","所得税","住民税","年末調整","社会保険料合計",null,null,"控除","健康保険料","介護保険料","厚生年金等","雇用保険料","所得税","住民税","年末調整","社会保険料合計",null,null,"控除","健康保険料","介護保険料","厚生年金等","雇用保険料","所得税","住民税","年末調整","社会保険料合計",null,null,"控除","健康保険料","介護保険料","厚生年金等","雇用保険料","所得税","住民税","年末調整","社会保険料合計",null,null,"控除","健康保険料","介護保険料","厚生年金等","雇用保険料","所得税","住民税","年末調整","社会保険料合計",null,null,"控除","健康保険料","介護保険料","厚生年金等","雇用保険料","所得税","住民税","年末調整","社会保険料合計",null,null,"控除","健康保険料","介護保険料","厚生年金等","雇用保険料","所得税","住民税","年末調整","社会保険料合計",null,null,"控除","健康保険料","介護保険料","厚生年金等","雇用保険料","所得税","住民税","年末調整","社会保険料合計",null,null,"控除","健康保険料","介護保険料","厚生年金等","雇用保険料","所得税","住民税","年末調整","社会保険料合計",null,null,"控除","健康保険料","介護保険料","厚生年金等","雇用保険料","所得税","住民税","年末調整","社会保険料合計",null,null,"控除","健康保険料","介護保険料","厚生年金等","雇用保険料","所得税","住民税","年末調整","社会保険料合計",null,null,"控除","健康保険料","介護保険料","厚生年金等","雇用保険料","所得税","住民税","年末調整","社会保険料合計"]
[null,null,{"$f":"給与計算設定!C285","v":0},{"$f":"給与計算設定!C286","v":0},{"$f":"給与計算設定!C287","v":0},{"$f":"ROUND(給与計算設定!C288*給与明細!J182-0.01,0)","v":0},0,{"$f":"給与計算設定!C289","v":0},null,{"$f":"SUM(C185:F185)","v":0},null,null,null,{"$f":"給与計算設定!D285","v":0},{"$f":"給与計算設定!D286","v":0},{"$f":"給与計算設定!D287","v":0},{"$f":"ROUND(給与計算設定!D288*給与明細!U182-0.01,0)","v":0},0,{"$f":"給与計算設定!D289","v":0},null,{"$f":"SUM(N185:Q185)","v":0},null,null,null,{"$f":"給与計算設定!E285","v":0},{"$f":"給与計算設定!E286","v":0},{"$f":"給与計算設定!E287","v":0},{"$f":"ROUND(給与計算設定!E288*給与明細!AF182-0.01,0)","v":0},0,{"$f":"給与計算設定!E289","v":0},null,{"$f":"SUM(Y185:AB185)","v":0},null,null,null,{"$f":"給与計算設定!F285","v":0},{"$f":"給与計算設定!F286","v":0},{"$f":"給与計算設定!F287","v":0},{"$f":"ROUND(給与計算設定!F288*給与明細!AQ182-0.01,0)","v":0},0,{"$f":"給与計算設定!F289","v":0},null,{"$f":"SUM(AJ185:AM185)","v":0},null,null,null,{"$f":"給与計算設定!G285","v":0},{"$f":"給与計算設定!G286","v":0},{"$f":"給与計算設定!G287","v":0},{"$f":"ROUND(給与計算設定!G288*給与明細!BB182-0.01,0)","v":0},0,{"$f":"給与計算設定!G289","v":0},null,{"$f":"SUM(AU185:AX185)","v":0},null,null,null,{"$f":"給与計算設定!H285","v":0},{"$f":"給与計算設定!H286","v":0},{"$f":"給与計算設定!H287","v":0},{"$f":"ROUND(給与計算設定!H288*給与明細!BM182-0.01,0)","v":0},0,{"$f":"給与計算設定!H289","v":0},null,{"$f":"SUM(BF185:BI185)","v":0},null,null,null,{"$f":"給与計算設定!I285","v":0},{"$f":"給与計算設定!I286","v":0},{"$f":"給与計算設定!I287","v":0},{"$f":"ROUND(給与計算設定!I288*給与明細!BX182-0.01,0)","v":0},0,{"$f":"給与計算設定!I289","v":0},null,{"$f":"SUM(BQ185:BT185)","v":0},null,null,null,{"$f":"給与計算設定!J285","v":0},{"$f":"給与計算設定!J286","v":0},{"$f":"給与計算設定!J287","v":0},{"$f":"ROUND(給与計算設定!J288*給与明細!CI182-0.01,0)","v":0},0,{"$f":"給与計算設定!J289","v":0},null,{"$f":"SUM(CB185:CE185)","v":0},null,null,null,{"$f":"給与計算設定!K285","v":0},{"$f":"給与計算設定!K286","v":0},{"$f":"給与計算設定!K287","v":0},{"$f":"ROUND(給与計算設定!K288*給与明細!CT182-0.01,0)","v":0},0,{"$f":"給与計算設定!K289","v":0},null,{"$f":"SUM(CM185:CP185)","v":0},null,null,null,{"$f":"給与計算設定!L285","v":0},{"$f":"給与計算設定!L286","v":0},{"$f":"給与計算設定!L287","v":0},{"$f":"ROUND(給与計算設定!L288*給与明細!DE182-0.01,0)","v":0},0,{"$f":"給与計算設定!L289","v":0},null,{"$f":"SUM(CX185:DA185)","v":0},null,null,null,{"$f":"給与計算設定!M285","v":0},{"$f":"給与計算設定!M286","v":0},{"$f":"給与計算設定!M287","v":0},{"$f":"ROUND(給与計算設定!M288*給与明細!DP182-0.01,0)","v":0},0,{"$f":"給与計算設定!M289","v":0},null,{"$f":"SUM(DI185:DL185)","v":0},null,null,null,{"$f":"給与計算設定!N285","v":0},{"$f":"給与計算設定!N286","v":0},{"$f":"給与計算設定!N287","v":0},{"$f":"ROUND(給与計算設定!N288*給与明細!EA182-0.01,0)","v":0},0,{"$f":"給与計算設定!N289","v":0},null,{"$f":"SUM(DT185:DW185)","v":0}]
[null,null,{"$f":"給与計算設定!B290","v":0},{"$f":"給与計算設定!B291","v":0},{"$f":"給与計算設定!B292","v":0},{"$f":"給与計算設定!B293","v":0},{"$f":"給与計算設定!B294","v":0},{"$f":"給与計算設定!B295","v":0},{"$f":"給与計算設定!B296","v":0},"控除合計",null,null,null,{"$f":"C186","v":0},0,0,0,0,0,0,"控除合計",null,null,null,{"$f":"N186","v":0},0,0,0,0,0,0,"控除合計",null,null,null,{"$f":"Y186","v":0},0,0,0,0,0,0,"控除合計",null,null,null,{"$f":"AJ186","v":0},0,0,0,0,0,0,"控除合計",null,null,null,{"$f":"AU186","v":0},0,0,0,0,0,0,"控除合計",null,null,null,{"$f":"BF186","v":0},0,0,0,0,0,0,"控除合計",null,null,null,{"$f":"BQ186","v":0},0,0,0,0,0,0,"控除合計",null,null,null,{"$f":"CB186","v":0},0,0,0,0,0,0,"控除合計",null,null,null,{"$f":"CM186","v":0},0,0,0,0,0,0,"控除合計",null,null,null,{"$f":"CX186","v":0},0,0,0,0,0,0,"控除合計",null,null,null,{"$f":"DI186","v":0},0,0,0,0,0,0,"控除合計"]
[null,null,{"$f":"給与計算設定!C290","v":0},{"$f":"給与計算設定!C291","v":0},{"$f":"給与計算設定!C292","v":0},{"$f":"給与計算設定!C293","v":0},{"$f":"給与計算設定!C294","v":0},{"$f":"給与計算設定!C295","v":0},{"$f":"給与計算設定!C296","v":0},{"$f":"SUM(C185:I185,C187:I187)","v":0},null,null,null,{"$f":"給与計算設定!D290","v":0},{"$f":"給与計算設定!D291","v":0},{"$f":"給与計算設定!D292","v":0},{"$f":"給与計算設定!D293","v":0},{"$f":"給与計算設定!D294","v":0},{"$f":"給与計算設定!D295","v":0},{"$f":"給与計算設定!D296","v":0},{"$f":"SUM(N185:T185,N187:T187)","v":0},null,null,null,{"$f":"給与計算設定!E290","v":0},{"$f":"給与計算設定!E291","v":0},{"$f":"給与計算設定!E292","v":0},{"$f":"給与計算設定!E293","v":0},{"$f":"給与計算設定!E294","v":0},{"$f":"給与計算設定!E295","v":0},{"$f":"給与計算設定!E296","v":0},{"$f":"SUM(Y185:AE185,Y187:AE187)","v":0},null,null,null,{"$f":"給与計算設定!F290","v":0},{"$f":"給与計算設定!F291","v":0},{"$f":"給与計算設定!F292","v":0},{"$f":"給与計算設定!F293","v":0},{"$f":"給与計算設定!F294","v":0},{"$f":"給与計算設定!F295","v":0},{"$f":"給与計算設定!F296","v":0},{"$f":"SUM(AJ185:AP185,AJ187:AP187)","v":0},null,null,null,{"$f":"給与計算設定!G290","v":0},{"$f":"給与計算設定!G291","v":0},{"$f":"給与計算設定!G292","v":0},{"$f":"給与計算設定!G293","v":0},{"$f":"給与計算設定!G294","v":0},{"$f":"給与計算設定!G295","v":0},{"$f":"給与計算設定!G296","v":0},{"$f":"SUM(AU185:BA185,AU187:BA187)","v":0},null,null,null,{"$f":"給与計算設定!H290","v":0},{"$f":"給与計算設定!H291","v":0},{"$f":"給与計算設定!H292","v":0},{"$f":"給与計算設定!H293","v":0},{"$f":"給与計算設定!H294","v":0},{"$f":"給与計算設定!H295","v":0},{"$f":"給与計算設定!H296","v":0},{"$f":"SUM(BF185:BL185,BF187:BL187)","v":0},null,null,null,{"$f":"給与計算設定!I290","v":0},{"$f":"給与計算設定!I291","v":0},{"$f":"給与計算設定!I292","v":0},{"$f":"給与計算設定!I293","v":0},{"$f":"給与計算設定!I294","v":0},{"$f":"給与計算設定!I295","v":0},{"$f":"給与計算設定!I296","v":0},{"$f":"SUM(BQ185:BW185,BQ187:BW187)","v":0},null,null,null,{"$f":"給与計算設定!J290","v":0},{"$f":"給与計算設定!J291","v":0},{"$f":"給与計算設定!J292","v":0},{"$f":"給与計算設定!J293","v":0},{"$f":"給与計算設定!J294","v":0},{"$f":"給与計算設定!J295","v":0},{"$f":"給与計算設定!J296","v":0},{"$f":"SUM(CB185:CH185,CB187:CH187)","v":0},null,null,null,{"$f":"給与計算設定!K290","v":0},{"$f":"給与計算設定!K291","v":0},{"$f":"給与計算設定!K292","v":0},{"$f":"給与計算設定!K293","v":0},{"$f":"給与計算設定!K294","v":0},{"$f":"給与計算設定!K295","v":0},{"$f":"給与計算設定!K296","v":0},{"$f":"SUM(CM185:CS185,CM187:CS187)","v":0},null,null,null,{"$f":"給与計算設定!L290","v":0},{"$f":"給与計算設定!L291","v":0},{"$f":"給与計算設定!L292","v":0},{"$f":"給与計算設定!L293","v":0},{"$f":"給与計算設定!L294","v":0},{"$f":"給与計算設定!L295","v":0},{"$f":"給与計算設定!L296","v":0},{"$f":"SUM(CX185:DD185,CX187:DD187)","v":0},null,null,null,{"$f":"給与計算設定!M290","v":0},{"$f":"給与計算設定!M291","v":0},{"$f":"給与計算設定!M292","v":0},{"$f":"給与計算設定!M293","v":0},{"$f":"給与計算設定!M294","v":0},{"$f":"給与計算設定!M295","v":0},{"$f":"給与計算設定!M296","v":0},{"$f":"SUM(DI185:DO185,DI187:DO187)","v":0},null,null,null,{"$f":"給与計算設定!N290","v":0},{"$f":"給与計算設定!N291","v":0},{"$f":"給与計算設定!N292","v":0},{"$f":"給与計算設定!N293","v":0},{"$f":"給与計算設定!N294","v":0},{"$f":"給与計算設定!N295","v":0},{"$f":"給与計算設定!N296","v":0},{"$f":"SUM(DT185:DZ185,DT187:DZ187)","v":0}]
[]
[null,"備考",null,null,null,null,null,null,null,"差引支給額",null,null,"備考",null,null,null,null,null,null,null,"差引支給額",null,null,"備考",null,null,null,null,null,null,null,"差引支給額",null,null,"備考",null,null,null,null,null,null,null,"差引支給額",null,null,"備考",null,null,null,null,null,null,null,"差引支給額",null,null,"備考",null,null,null,null,null,null,null,"差引支給額",null,null,"備考",null,null,null,null,null,null,null,"差引支給額",null,null,"備考",null,null,null,null,null,null,null,"差引支給額",null,null,"備考",null,null,null,null,null,null,null,"差引支給額",null,null,"備考",null,null,null,null,null,null,null,"差引支給額",null,null,"備考",null,null,null,null,null,null,null,"差引支給額",null,null,"備考",null,null,null,null,null,null,null,"差引支給額"]
[null,null,null,null,null,null,null,null,null,{"$f":"J182-J187","v":0},null,null,null,null,null,null,null,null,null,null,{"$f":"U182-U187","v":0},null,null,null,null,null,null,null,null,null,null,{"$f":"AF182-AF187","v":0},null,null,null,null,null,null,null,null,null,null,{"$f":"AQ182-AQ187","v":0},null,null,null,null,null,null,null,null,null,null,{"$f":"BB182-BB187","v":0},null,null,null,null,null,null,null,null,null,null,{"$f":"BM182-BM187","v":0},null,null,null,null,null,null,null,null,null,null,{"$f":"BX182-BX187","v":0},null,null,null,null,null,null,null,null,null,null,{"$f":"CI182-CI187","v":0},null,null,null,null,null,null,null,null,null,null,{"$f":"CT182-CT187","v":0},null,null,null,null,null,null,null,null,null,null,{"$f":"DE182-DE187","v":0},null,null,null,null,null,null,null,null,null,null,{"$f":"DP182-DP187","v":0},null,null,null,null,null,null,null,null,null,null,{"$f":"EA182-EA187","v":0}]
[]
[]
[null,{"$f":"B172","v":"年度１月給与"},null,null,null,null,null,null,null,{"$f":"J172","v":"年度　"},null,null,{"$f":"M172","v":0},null,null,null,null,null,null,null,{"$f":"J193","v":"年度　"},null,null,{"$f":"X172","v":"年度３月給与"},null,null,null,null,null,null,null,{"$f":"U193","v":"年度　"},null,null,{"$f":"AI172","v":"年度４月給与"},null,null,null,null,null,null,null,{"$f":"AF193","v":"年度　"},null,null,{"$f":"AT172","v":"年度５月給与"},null,null,null,null,null,null,null,{"$f":"AQ193","v":"年度　"},null,null,{"$f":"BE172","v":"年度６月給与"},null,null,null,null,null,null,null,{"$f":"BB193","v":"年度　"},null,null,{"$f":"BP172","v":"年度７月給与"},null,null,null,null,null,null,null,{"$f":"BM193","v":"年度　"},null,null,{"$f":"給与計算設定!$E$2&給与計算設定!$F$2&\"８月給与\"","v":"年度８月給与"},null,null,null,null,null,null,null,{"$f":"BX193","v":"年度　"},null,null,{"$f":"給与計算設定!$E$2&給与計算設定!$F$2&\"９月給与\"","v":"年度９月給与"},null,null,null,null,null,null,null,{"$f":"CI193","v":"年度　"},null,null,{"$f":"給与計算設定!$E$2&給与計算設定!$F$2&\"１０月給与\"","v":"年度１０月給与"},null,null,null,null,null,null,null,{"$f":"CT193","v":"年度　"},null,null,{"$f":"給与計算設定!$E$2&給与計算設定!$F$2&\"１１月給与\"","v":"年度１１月給与"},null,null,null,null,null,null,null,{"$f":"DE193","v":"年度　"},null,null,{"$f":"給与計算設定!$E$2&給与計算設定!$F$2&\"１２月給与\"","v":"年度１２月給与"},null,null,null,null,null,null,null,{"$f":"DP193","v":"年度　"}]
[]
[10,"氏名",{"$f":"給与計算設定!B301","v":0},null,null,null,null,null,null,null,null,10,"氏名",{"$f":"C195","v":0},null,null,null,null,null,null,null,null,10,"氏名",{"$f":"N195","v":0},null,null,null,null,null,null,null,null,10,"氏名",{"$f":"Y195","v":0},null,null,null,null,null,null,null,null,10,"氏名",{"$f":"AJ195","v":0},null,null,{"$f":"AX172","v":0},null,null,null,{"$f":"AQ195","v":0},null,10,"氏名",{"$f":"AU195","v":0},null,null,{"$f":"BI172","v":0},null,null,null,{"$f":"BB195","v":0},null,10,"氏名",{"$f":"BF195","v":0},null,null,{"$f":"BT172","v":0},null,null,null,{"$f":"BM195","v":0},null,10,"氏名",{"$f":"BQ195","v":0},null,null,null,null,null,null,null,null,10,"氏名",{"$f":"CB195","v":0},null,null,null,null,null,null,null,null,10,"氏名",{"$f":"CM195","v":0},null,null,null,null,null,null,null,null,10,"氏名",{"$f":"CX195","v":0},null,null,null,null,null,null,null,null,10,"氏名",{"$f":"DI195","v":0},null,null,null,null,null,null,null,null,10]
[]
[null,"勤怠","労働時間","普通残業時間","深夜労働時間","休日労働時間","出勤日数","欠勤日数","有休日数","有休残日数",null,null,"勤怠","労働時間","普通残業時間","深夜労働時間","休日労働時間","出勤日数","欠勤日数","有休日数","有休残日数",null,null,"勤怠","労働時間","普通残業時間","深夜労働時間","休日労働時間","出勤日数","欠勤日数","有休日数","有休残日数",null,null,"勤怠","労働時間","普通残業時間","深夜労働時間","休日労働時間","出勤日数","欠勤日数","有休日数","有休残日数",null,null,"勤怠","労働時間","普通残業時間","深夜労働時間","休日労働時間","出勤日数","欠勤日数","有休日数","有休残日数",null,null,"勤怠","労働時間","普通残業時間","深夜労働時間","休日労働時間","出勤日数","欠勤日数","有休日数","有休残日数",null,null,"勤怠","労働時間","普通残業時間","深夜労働時間","休日労働時間","出勤日数","欠勤日数","有休日数","有休残日数",null,null,"勤怠","労働時間","普通残業時間","深夜労働時間","休日労働時間","出勤日数","欠勤日数","有休日数","有休残日数",null,null,"勤怠","労働時間","普通残業時間","深夜労働時間","休日労働時間","出勤日数","欠勤日数","有休日数","有休残日数",null,null,"勤怠","労働時間","普通残業時間","深夜労働時間","休日労働時間","出勤日数","欠勤日数","有休日数","有休残日数",null,null,"勤怠","労働時間","普通残業時間","深夜労働時間","休日労働時間","出勤日数","欠勤日数","有休日数","有休残日数",null,null,"勤怠","労働時間","普通残業時間","深夜労働時間","休日労働時間","出勤日数","欠勤日数","有休日数","有休残日数"]
[]
[]
[null,"支給","基本給","時間外手当","深夜手当","休日手当",{"$f":"給与計算設定!B307","v":"通勤手当"},{"$f":"給与計算設定!B308","v":0},{"$f":"給与計算設定!B309","v":0},"課税対象額",null,null,"支給","基本給","時間外手当","深夜手当","休日手当",{"$f":"G200","v":"通勤手当"},{"$f":"H200","v":0},{"$f":"I200","v":0},"課税対象額",null,null,"支給","基本給","時間外手当","深夜手当","休日手当",{"$f":"R200","v":"通勤手当"},{"$f":"S200","v":0},{"$f":"T200","v":0},"課税対象額",null,null,"支給","基本給","時間外手当","深夜手当","休日手当",{"$f":"AC200","v":"通勤手当"},{"$f":"AD200","v":0},{"$f":"AE200","v":0},"課税対象額",null,null,"支給","基本給","時間外手当","深夜手当","休日手当",{"$f":"AN200","v":"通勤手当"},{"$f":"AO200","v":0},{"$f":"AP200","v":0},"課税対象額",null,null,"支給","基本給","時間外手当","深夜手当","休日手当",{"$f":"AY200","v":"通勤手当"},{"$f":"AZ200","v":0},{"$f":"BA200","v":0},"課税対象額",null,null,"支給","基本給","時間外手当","深夜手当","休日手当",{"$f":"BJ200","v":"通勤手当"},{"$f":"BK200","v":0},{"$f":"BL200","v":0},"課税対象額",null,null,"支給","基本給","時間外手当","深夜手当","休日手当",{"$f":"BU200","v":"通勤手当"},{"$f":"BV200","v":0},{"$f":"BW200","v":0},"課税対象額",null,null,"支給","基本給","時間外手当","深夜手当","休日手当",{"$f":"CF200","v":"通勤手当"},{"$f":"CG200","v":0},{"$f":"CH200","v":0},"課税対象額",null,null,"支給","基本給","時間外手当","深夜手当","休日手当",{"$f":"CQ200","v":"通勤手当"},{"$f":"CR200","v":0},{"$f":"CS200","v":0},"課税対象額",null,null,"支給","基本給","時間外手当","深夜手当","休日手当",{"$f":"DB200","v":"通勤手当"},{"$f":"DC200","v":0},{"$f":"DD200","v":0},"課税対象額",null,null,"支給","基本給","時間外手当","深夜手当","休日手当",{"$f":"DM200","v":"通勤手当"},{"$f":"DN200","v":0},{"$f":"DO200","v":0},"課税対象額"]
[null,null,{"$f":"IF(給与計算設定!C302<>\"\",給与計算設定!C302,ROUND(給与計算設定!C303*給与明細!C198,0))","v":0},{"$f":"ROUND(給与計算設定!C304*給与明細!D198,0)","v":0},{"$f":"ROUND(給与計算設定!C305*給与明細!E198,0)","v":0},{"$f":"ROUND(給与計算設定!C306*給与明細!F198,0)","v":0},{"$f":"給与計算設定!C307","v":0},{"$f":"給与計算設定!C308","v":0},{"$f":"給与計算設定!C309","v":0},{"$f":"J203-J206-G201","v":0},null,null,null,{"$f":"IF(給与計算設定!D302<>\"\",給与計算設定!D302,ROUND(給与計算設定!D303*給与明細!N198,0))","v":0},{"$f":"ROUND(給与計算設定!D304*給与明細!O198,0)","v":0},{"$f":"ROUND(給与計算設定!D305*給与明細!P198,0)","v":0},{"$f":"ROUND(給与計算設定!D306*給与明細!Q198,0)","v":0},{"$f":"給与計算設定!D307","v":0},{"$f":"給与計算設定!D308","v":0},{"$f":"給与計算設定!D309","v":0},{"$f":"U203-U206-R201","v":0},null,null,null,{"$f":"IF(給与計算設定!E302<>\"\",給与計算設定!E302,ROUND(給与計算設定!E303*給与明細!Y198,0))","v":0},{"$f":"ROUND(給与計算設定!E304*給与明細!Z198,0)","v":0},{"$f":"ROUND(給与計算設定!E305*給与明細!AA198,0)","v":0},{"$f":"ROUND(給与計算設定!E306*給与明細!AB198,0)","v":0},{"$f":"給与計算設定!E307","v":0},{"$f":"給与計算設定!E308","v":0},{"$f":"給与計算設定!E309","v":0},{"$f":"AF203-AF206-AC201","v":0},null,null,null,{"$f":"IF(給与計算設定!F302<>\"\",給与計算設定!F302,ROUND(給与計算設定!F303*給与明細!AJ198,0))","v":0},{"$f":"ROUND(給与計算設定!F304*給与明細!AK198,0)","v":0},{"$f":"ROUND(給与計算設定!F305*給与明細!AL198,0)","v":0},{"$f":"ROUND(給与計算設定!F306*給与明細!AM198,0)","v":0},{"$f":"給与計算設定!F307","v":0},{"$f":"給与計算設定!F308","v":0},{"$f":"給与計算設定!F309","v":0},{"$f":"AQ203-AQ206-AN201","v":0},null,null,null,{"$f":"IF(給与計算設定!G302<>\"\",給与計算設定!G302,ROUND(給与計算設定!G303*給与明細!AU198,0))","v":0},{"$f":"ROUND(給与計算設定!G304*給与明細!AV198,0)","v":0},{"$f":"ROUND(給与計算設定!G305*給与明細!AW198,0)","v":0},{"$f":"ROUND(給与計算設定!G306*給与明細!AX198,0)","v":0},{"$f":"給与計算設定!G307","v":0},{"$f":"給与計算設定!G308","v":0},{"$f":"給与計算設定!G309","v":0},{"$f":"BB203-BB206-AY201","v":0},null,null,null,{"$f":"IF(給与計算設定!H302<>\"\",給与計算設定!H302,ROUND(給与計算設定!H303*給与明細!BF198,0))","v":0},{"$f":"ROUND(給与計算設定!H304*給与明細!BG198,0)","v":0},{"$f":"ROUND(給与計算設定!H305*給与明細!BH198,0)","v":0},{"$f":"ROUND(給与計算設定!H306*給与明細!BH198,0)","v":0},{"$f":"給与計算設定!H307","v":0},{"$f":"給与計算設定!H308","v":0},{"$f":"給与計算設定!H309","v":0},{"$f":"BM203-BM206-BJ201","v":0},null,null,null,{"$f":"IF(給与計算設定!I302<>\"\",給与計算設定!I302,ROUND(給与計算設定!I303*給与明細!BQ198,0))","v":0},{"$f":"ROUND(給与計算設定!I304*給与明細!BR198,0)","v":0},{"$f":"ROUND(給与計算設定!I305*給与明細!BS198,0)","v":0},{"$f":"ROUND(給与計算設定!I306*給与明細!BT198,0)","v":0},{"$f":"給与計算設定!I307","v":0},{"$f":"給与計算設定!I308","v":0},{"$f":"給与計算設定!I309","v":0},{"$f":"BX203-BX206-BU201","v":0},null,null,null,{"$f":"IF(給与計算設定!J302<>\"\",給与計算設定!J302,ROUND(給与計算設定!J303*給与明細!CB198,0))","v":0},{"$f":"ROUND(給与計算設定!J304*給与明細!CC198,0)","v":0},{"$f":"ROUND(給与計算設定!J305*給与明細!CD198,0)","v":0},{"$f":"ROUND(給与計算設定!J306*給与明細!CE198,0)","v":0},{"$f":"給与計算設定!J307","v":0},{"$f":"給与計算設定!J308","v":0},{"$f":"給与計算設定!J309","v":0},{"$f":"CI203-CI206-CF201","v":0},null,null,null,{"$f":"IF(給与計算設定!K302<>\"\",給与計算設定!K302,ROUND(給与計算設定!K303*給与明細!CM198,0))","v":0},{"$f":"ROUND(給与計算設定!K304*給与明細!CN198,0)","v":0},{"$f":"ROUND(給与計算設定!K305*給与明細!CO198,0)","v":0},{"$f":"ROUND(給与計算設定!K306*給与明細!CP198,0)","v":0},{"$f":"給与計算設定!K307","v":0},{"$f":"給与計算設定!K308","v":0},{"$f":"給与計算設定!K309","v":0},{"$f":"CT203-CT206-CQ201","v":0},null,null,null,{"$f":"IF(給与計算設定!L302<>\"\",給与計算設定!L302,ROUND(給与計算設定!L303*給与明細!CX198,0))","v":0},{"$f":"ROUND(給与計算設定!L304*給与明細!CY198,0)","v":0},{"$f":"ROUND(給与計算設定!L305*給与明細!CZ198,0)","v":0},{"$f":"ROUND(給与計算設定!L306*給与明細!DA198,0)","v":0},{"$f":"給与計算設定!L307","v":0},{"$f":"給与計算設定!L308","v":0},{"$f":"給与計算設定!L309","v":0},{"$f":"DE203-DE206-DB201","v":0},null,null,null,{"$f":"IF(給与計算設定!M302<>\"\",給与計算設定!M302,ROUND(給与計算設定!M303*給与明細!DI198,0))","v":0},{"$f":"ROUND(給与計算設定!M304*給与明細!DJ198,0)","v":0},{"$f":"ROUND(給与計算設定!M305*給与明細!DK198,0)","v":0},{"$f":"ROUND(給与計算設定!M306*給与明細!DL198,0)","v":0},{"$f":"給与計算設定!M307","v":0},{"$f":"給与計算設定!M308","v":0},{"$f":"給与計算設定!M309","v":0},{"$f":"DP203-DP206-DM201","v":0},null,null,null,{"$f":"IF(給与計算設定!N302<>\"\",給与計算設定!N302,ROUND(給与計算設定!N303*給与明細!DT198,0))","v":0},{"$f":"ROUND(給与計算設定!N304*給与明細!DU198,0)","v":0},{"$f":"ROUND(給与計算設定!N305*給与明細!DV198,0)","v":0},{"$f":"ROUND(給与計算設定!N306*給与明細!DW198,0)","v":0},{"$f":"給与計算設定!N307","v":0},{"$f":"給与計算設定!N308","v":0},{"$f":"給与計算設定!N309","v":0},{"$f":"EA203-EA206-DX201","v":0}]
[null,null,{"$f":"給与計算設定!B310","v":0},{"$f":"給与計算設定!B311","v":0},{"$f":"給与計算設定!B312","v":0},{"$f":"給与計算設定!B313","v":0},{"$f":"給与計算設定!B314","v":0},{"$f":"給与計算設定!B315","v":0},{"$f":"給与計算設定!B316","v":0},"支給合計",null,null,null,{"$f":"C202","v":0},0,0,0,0,0,0,"支給合計",null,null,null,{"$f":"N202","v":0},0,0,0,0,0,0,"支給合計",null,null,null,{"$f":"Y202","v":0},0,0,0,0,0,0,"支給合計",null,null,null,{"$f":"AJ202","v":0},0,0,0,0,0,0,"支給合計",null,null,null,{"$f":"AU202","v":0},0,0,0,0,0,0,"支給合計",null,null,null,{"$f":"BF202","v":0},0,0,0,0,0,0,"支給合計",null,null,null,{"$f":"BQ202","v":0},0,0,0,0,0,0,"支給合計",null,null,null,{"$f":"CB202","v":0},0,0,0,0,0,0,"支給合計",null,null,null,{"$f":"CM202","v":0},0,0,0,0,0,0,"支給合計",null,null,null,{"$f":"CX202","v":0},0,0,0,0,0,0,"支給合計",null,null,null,{"$f":"DI202","v":0},0,0,0,0,0,0,"支給合計"]
[null,null,{"$f":"給与計算設定!C310","v":0},{"$f":"給与計算設定!C311","v":0},{"$f":"給与計算設定!C312","v":0},{"$f":"給与計算設定!C313","v":0},{"$f":"給与計算設定!C314","v":0},{"$f":"給与計算設定!C315","v":0},{"$f":"給与計算設定!C316","v":0},{"$f":"SUM(C201:I201,C203:I203)","v":0},null,null,null,{"$f":"給与計算設定!D310","v":0},{"$f":"給与計算設定!D311","v":0},{"$f":"給与計算設定!D312","v":0},{"$f":"給与計算設定!D313","v":0},{"$f":"給与計算設定!D314","v":0},{"$f":"給与計算設定!D315","v":0},{"$f":"給与計算設定!D316","v":0},{"$f":"SUM(N201:T201,N203:T203)","v":0},null,null,null,{"$f":"給与計算設定!E310","v":0},{"$f":"給与計算設定!E311","v":0},{"$f":"給与計算設定!E312","v":0},{"$f":"給与計算設定!E313","v":0},{"$f":"給与計算設定!E314","v":0},{"$f":"給与計算設定!E315","v":0},{"$f":"給与計算設定!E316","v":0},{"$f":"SUM(Y201:AE201,Y203:AE203)","v":0},null,null,null,{"$f":"給与計算設定!F310","v":0},{"$f":"給与計算設定!F311","v":0},{"$f":"給与計算設定!F312","v":0},{"$f":"給与計算設定!F313","v":0},{"$f":"給与計算設定!F314","v":0},{"$f":"給与計算設定!F315","v":0},{"$f":"給与計算設定!F316","v":0},{"$f":"SUM(AJ201:AP201,AJ203:AP203)","v":0},null,null,null,{"$f":"給与計算設定!G310","v":0},{"$f":"給与計算設定!G311","v":0},{"$f":"給与計算設定!G312","v":0},{"$f":"給与計算設定!G313","v":0},{"$f":"給与計算設定!G314","v":0},{"$f":"給与計算設定!G315","v":0},{"$f":"給与計算設定!G316","v":0},{"$f":"SUM(AU201:BA201,AU203:BA203)","v":0},null,null,null,{"$f":"給与計算設定!H310","v":0},{"$f":"給与計算設定!H311","v":0},{"$f":"給与計算設定!H312","v":0},{"$f":"給与計算設定!H313","v":0},{"$f":"給与計算設定!H314","v":0},{"$f":"給与計算設定!H315","v":0},{"$f":"給与計算設定!H316","v":0},{"$f":"SUM(BF201:BL201,BF203:BL203)","v":0},null,null,null,{"$f":"給与計算設定!I310","v":0},{"$f":"給与計算設定!I311","v":0},{"$f":"給与計算設定!I312","v":0},{"$f":"給与計算設定!I313","v":0},{"$f":"給与計算設定!I314","v":0},{"$f":"給与計算設定!I315","v":0},{"$f":"給与計算設定!I316","v":0},{"$f":"SUM(BQ201:BW201,BQ203:BW203)","v":0},null,null,null,{"$f":"給与計算設定!J310","v":0},{"$f":"給与計算設定!J311","v":0},{"$f":"給与計算設定!J312","v":0},{"$f":"給与計算設定!J313","v":0},{"$f":"給与計算設定!J314","v":0},{"$f":"給与計算設定!J315","v":0},{"$f":"給与計算設定!J316","v":0},{"$f":"SUM(CB201:CH201,CB203:CH203)","v":0},null,null,null,{"$f":"給与計算設定!K310","v":0},{"$f":"給与計算設定!K311","v":0},{"$f":"給与計算設定!K312","v":0},{"$f":"給与計算設定!K313","v":0},{"$f":"給与計算設定!K314","v":0},{"$f":"給与計算設定!K315","v":0},{"$f":"給与計算設定!K316","v":0},{"$f":"SUM(CM201:CS201,CM203:CS203)","v":0},null,null,null,{"$f":"給与計算設定!L310","v":0},{"$f":"給与計算設定!L311","v":0},{"$f":"給与計算設定!L312","v":0},{"$f":"給与計算設定!L313","v":0},{"$f":"給与計算設定!L314","v":0},{"$f":"給与計算設定!L315","v":0},{"$f":"給与計算設定!L316","v":0},{"$f":"SUM(CX201:DD201,CX203:DD203)","v":0},null,null,null,{"$f":"給与計算設定!M310","v":0},{"$f":"給与計算設定!M311","v":0},{"$f":"給与計算設定!M312","v":0},{"$f":"給与計算設定!M313","v":0},{"$f":"給与計算設定!M314","v":0},{"$f":"給与計算設定!M315","v":0},{"$f":"給与計算設定!M316","v":0},{"$f":"SUM(DI201:DO201,DI203:DO203)","v":0},null,null,null,{"$f":"給与計算設定!N310","v":0},{"$f":"給与計算設定!N311","v":0},{"$f":"給与計算設定!N312","v":0},{"$f":"給与計算設定!N313","v":0},{"$f":"給与計算設定!N314","v":0},{"$f":"給与計算設定!N315","v":0},{"$f":"給与計算設定!N316","v":0},{"$f":"SUM(DT201:DZ201,DT203:DZ203)","v":0}]
[]
[null,"控除","健康保険料","介護保険料","厚生年金等","雇用保険料","所得税","住民税","年末調整","社会保険料合計",null,null,"控除","健康保険料","介護保険料","厚生年金等","雇用保険料","所得税","住民税","年末調整","社会保険料合計",null,null,"控除","健康保険料","介護保険料","厚生年金等","雇用保険料","所得税","住民税","年末調整","社会保険料合計",null,null,"控除","健康保険料","介護保険料","厚生年金等","雇用保険料","所得税","住民税","年末調整","社会保険料合計",null,null,"控除","健康保険料","介護保険料","厚生年金等","雇用保険料","所得税","住民税","年末調整","社会保険料合計",null,null,"控除","健康保険料","介護保険料","厚生年金等","雇用保険料","所得税","住民税","年末調整","社会保険料合計",null,null,"控除","健康保険料","介護保険料","厚生年金等","雇用保険料","所得税","住民税","年末調整","社会保険料合計",null,null,"控除","健康保険料","介護保険料","厚生年金等","雇用保険料","所得税","住民税","年末調整","社会保険料合計",null,null,"控除","健康保険料","介護保険料","厚生年金等","雇用保険料","所得税","住民税","年末調整","社会保険料合計",null,null,"控除","健康保険料","介護保険料","厚生年金等","雇用保険料","所得税","住民税","年末調整","社会保険料合計",null,null,"控除","健康保険料","介護保険料","厚生年金等","雇用保険料","所得税","住民税","年末調整","社会保険料合計",null,null,"控除","健康保険料","介護保険料","厚生年金等","雇用保険料","所得税","住民税","年末調整","社会保険料合計"]
[null,null,{"$f":"給与計算設定!C318","v":0},{"$f":"給与計算設定!C319","v":0},{"$f":"給与計算設定!C320","v":0},{"$f":"ROUND(給与計算設定!C321*給与明細!J203-0.01,0)","v":0},0,{"$f":"給与計算設定!C322","v":0},null,{"$f":"SUM(C206:F206)","v":0},null,null,null,{"$f":"給与計算設定!D318","v":0},{"$f":"給与計算設定!D319","v":0},{"$f":"給与計算設定!D320","v":0},{"$f":"ROUND(給与計算設定!D321*給与明細!U203-0.01,0)","v":0},0,{"$f":"給与計算設定!D322","v":0},null,{"$f":"SUM(N206:Q206)","v":0},null,null,null,{"$f":"給与計算設定!E318","v":0},{"$f":"給与計算設定!E319","v":0},{"$f":"給与計算設定!E320","v":0},{"$f":"ROUND(給与計算設定!E321*給与明細!AF203-0.01,0)","v":0},0,{"$f":"給与計算設定!E322","v":0},null,{"$f":"SUM(Y206:AB206)","v":0},null,null,null,{"$f":"給与計算設定!F318","v":0},{"$f":"給与計算設定!F319","v":0},{"$f":"給与計算設定!F320","v":0},{"$f":"ROUND(給与計算設定!F321*給与明細!AQ203-0.01,0)","v":0},0,{"$f":"給与計算設定!F322","v":0},null,{"$f":"SUM(AJ206:AM206)","v":0},null,null,null,{"$f":"給与計算設定!G318","v":0},{"$f":"給与計算設定!G319","v":0},{"$f":"給与計算設定!G320","v":0},{"$f":"ROUND(給与計算設定!G321*給与明細!BB203-0.01,0)","v":0},0,{"$f":"給与計算設定!G322","v":0},null,{"$f":"SUM(AU206:AX206)","v":0},null,null,null,{"$f":"給与計算設定!H318","v":0},{"$f":"給与計算設定!H319","v":0},{"$f":"給与計算設定!H320","v":0},{"$f":"ROUND(給与計算設定!H321*給与明細!BM203-0.01,0)","v":0},0,{"$f":"給与計算設定!H322","v":0},null,{"$f":"SUM(BF206:BI206)","v":0},null,null,null,{"$f":"給与計算設定!I318","v":0},{"$f":"給与計算設定!I319","v":0},{"$f":"給与計算設定!I320","v":0},{"$f":"ROUND(給与計算設定!I321*給与明細!BX203-0.01,0)","v":0},0,{"$f":"給与計算設定!I322","v":0},null,{"$f":"SUM(BQ206:BT206)","v":0},null,null,null,{"$f":"給与計算設定!J318","v":0},{"$f":"給与計算設定!J319","v":0},{"$f":"給与計算設定!J320","v":0},{"$f":"ROUND(給与計算設定!J321*給与明細!CI203-0.01,0)","v":0},0,{"$f":"給与計算設定!J322","v":0},null,{"$f":"SUM(CB206:CE206)","v":0},null,null,null,{"$f":"給与計算設定!K318","v":0},{"$f":"給与計算設定!K319","v":0},{"$f":"給与計算設定!K320","v":0},{"$f":"ROUND(給与計算設定!K321*給与明細!CT203-0.01,0)","v":0},0,{"$f":"給与計算設定!K322","v":0},null,{"$f":"SUM(CM206:CP206)","v":0},null,null,null,{"$f":"給与計算設定!L318","v":0},{"$f":"給与計算設定!L319","v":0},{"$f":"給与計算設定!L320","v":0},{"$f":"ROUND(給与計算設定!L321*給与明細!DE203-0.01,0)","v":0},0,{"$f":"給与計算設定!L322","v":0},null,{"$f":"SUM(CX206:DA206)","v":0},null,null,null,{"$f":"給与計算設定!M318","v":0},{"$f":"給与計算設定!M319","v":0},{"$f":"給与計算設定!M320","v":0},{"$f":"ROUND(給与計算設定!M321*給与明細!DP203-0.01,0)","v":0},0,{"$f":"給与計算設定!M322","v":0},null,{"$f":"SUM(DI206:DL206)","v":0},null,null,null,{"$f":"給与計算設定!N318","v":0},{"$f":"給与計算設定!N319","v":0},{"$f":"給与計算設定!N320","v":0},{"$f":"ROUND(給与計算設定!N321*給与明細!EA203-0.01,0)","v":0},0,{"$f":"給与計算設定!N322","v":0},null,{"$f":"SUM(DT206:DW206)","v":0}]
[null,null,{"$f":"給与計算設定!B323","v":0},{"$f":"給与計算設定!B324","v":0},{"$f":"給与計算設定!B325","v":0},{"$f":"給与計算設定!B326","v":0},{"$f":"給与計算設定!B327","v":0},{"$f":"給与計算設定!B328","v":0},{"$f":"給与計算設定!B329","v":0},"控除合計",null,null,null,{"$f":"C207","v":0},0,0,0,0,0,0,"控除合計",null,null,null,{"$f":"N207","v":0},0,0,0,0,0,0,"控除合計",null,null,null,{"$f":"Y207","v":0},0,0,0,0,0,0,"控除合計",null,null,null,{"$f":"AJ207","v":0},0,0,0,0,0,0,"控除合計",null,null,null,{"$f":"AU207","v":0},0,0,0,0,0,0,"控除合計",null,null,null,{"$f":"BF207","v":0},0,0,0,0,0,0,"控除合計",null,null,null,{"$f":"BQ207","v":0},0,0,0,0,0,0,"控除合計",null,null,null,{"$f":"CB207","v":0},0,0,0,0,0,0,"控除合計",null,null,null,{"$f":"CM207","v":0},0,0,0,0,0,0,"控除合計",null,null,null,{"$f":"CX207","v":0},0,0,0,0,0,0,"控除合計",null,null,null,{"$f":"DI207","v":0},0,0,0,0,0,0,"控除合計"]
[null,null,{"$f":"給与計算設定!C323","v":0},{"$f":"給与計算設定!C324","v":0},{"$f":"給与計算設定!C325","v":0},{"$f":"給与計算設定!C326","v":0},{"$f":"給与計算設定!C327","v":0},{"$f":"給与計算設定!C328","v":0},{"$f":"給与計算設定!C329","v":0},{"$f":"SUM(C206:I206,C208:I208)","v":0},null,null,null,{"$f":"給与計算設定!D323","v":0},{"$f":"給与計算設定!D324","v":0},{"$f":"給与計算設定!D325","v":0},{"$f":"給与計算設定!D326","v":0},{"$f":"給与計算設定!D327","v":0},{"$f":"給与計算設定!D328","v":0},{"$f":"給与計算設定!D329","v":0},{"$f":"SUM(N206:T206,N208:T208)","v":0},null,null,null,{"$f":"給与計算設定!E323","v":0},{"$f":"給与計算設定!E324","v":0},{"$f":"給与計算設定!E325","v":0},{"$f":"給与計算設定!E326","v":0},{"$f":"給与計算設定!E327","v":0},{"$f":"給与計算設定!E328","v":0},{"$f":"給与計算設定!E329","v":0},{"$f":"SUM(Y206:AE206,Y208:AE208)","v":0},null,null,null,{"$f":"給与計算設定!F323","v":0},{"$f":"給与計算設定!F324","v":0},{"$f":"給与計算設定!F325","v":0},{"$f":"給与計算設定!F326","v":0},{"$f":"給与計算設定!F327","v":0},{"$f":"給与計算設定!F328","v":0},{"$f":"給与計算設定!F329","v":0},{"$f":"SUM(AJ206:AP206,AJ208:AP208)","v":0},null,null,null,{"$f":"給与計算設定!G323","v":0},{"$f":"給与計算設定!G324","v":0},{"$f":"給与計算設定!G325","v":0},{"$f":"給与計算設定!G326","v":0},{"$f":"給与計算設定!G327","v":0},{"$f":"給与計算設定!G328","v":0},{"$f":"給与計算設定!G329","v":0},{"$f":"SUM(AU206:BA206,AU208:BA208)","v":0},null,null,null,{"$f":"給与計算設定!H323","v":0},{"$f":"給与計算設定!H324","v":0},{"$f":"給与計算設定!H325","v":0},{"$f":"給与計算設定!H326","v":0},{"$f":"給与計算設定!H327","v":0},{"$f":"給与計算設定!H328","v":0},{"$f":"給与計算設定!H329","v":0},{"$f":"SUM(BF206:BL206,BF208:BL208)","v":0},null,null,null,{"$f":"給与計算設定!I323","v":0},{"$f":"給与計算設定!I324","v":0},{"$f":"給与計算設定!I325","v":0},{"$f":"給与計算設定!I326","v":0},{"$f":"給与計算設定!I327","v":0},{"$f":"給与計算設定!I328","v":0},{"$f":"給与計算設定!I329","v":0},{"$f":"SUM(BQ206:BW206,BQ208:BW208)","v":0},null,null,null,{"$f":"給与計算設定!J323","v":0},{"$f":"給与計算設定!J324","v":0},{"$f":"給与計算設定!J325","v":0},{"$f":"給与計算設定!J326","v":0},{"$f":"給与計算設定!J327","v":0},{"$f":"給与計算設定!J328","v":0},{"$f":"給与計算設定!J329","v":0},{"$f":"SUM(CB206:CH206,CB208:CH208)","v":0},null,null,null,{"$f":"給与計算設定!K323","v":0},{"$f":"給与計算設定!K324","v":0},{"$f":"給与計算設定!K325","v":0},{"$f":"給与計算設定!K326","v":0},{"$f":"給与計算設定!K327","v":0},{"$f":"給与計算設定!K328","v":0},{"$f":"給与計算設定!K329","v":0},{"$f":"SUM(CM206:CS206,CM208:CS208)","v":0},null,null,null,{"$f":"給与計算設定!L323","v":0},{"$f":"給与計算設定!L324","v":0},{"$f":"給与計算設定!L325","v":0},{"$f":"給与計算設定!L326","v":0},{"$f":"給与計算設定!L327","v":0},{"$f":"給与計算設定!L328","v":0},{"$f":"給与計算設定!L329","v":0},{"$f":"SUM(CX206:DD206,CX208:DD208)","v":0},null,null,null,{"$f":"給与計算設定!M323","v":0},{"$f":"給与計算設定!M324","v":0},{"$f":"給与計算設定!M325","v":0},{"$f":"給与計算設定!M326","v":0},{"$f":"給与計算設定!M327","v":0},{"$f":"給与計算設定!M328","v":0},{"$f":"給与計算設定!M329","v":0},{"$f":"SUM(DI206:DO206,DI208:DO208)","v":0},null,null,null,{"$f":"給与計算設定!N323","v":0},{"$f":"給与計算設定!N324","v":0},{"$f":"給与計算設定!N325","v":0},{"$f":"給与計算設定!N326","v":0},{"$f":"給与計算設定!N327","v":0},{"$f":"給与計算設定!N328","v":0},{"$f":"給与計算設定!N329","v":0},{"$f":"SUM(DT206:DZ206,DT208:DZ208)","v":0}]
[]
[null,"備考",null,null,null,null,null,null,null,"差引支給額",null,null,"備考",null,null,null,null,null,null,null,"差引支給額",null,null,"備考",null,null,null,null,null,null,null,"差引支給額",null,null,"備考",null,null,null,null,null,null,null,"差引支給額",null,null,"備考",null,null,null,null,null,null,null,"差引支給額",null,null,"備考",null,null,null,null,null,null,null,"差引支給額",null,null,"備考",null,null,null,null,null,null,null,"差引支給額",null,null,"備考",null,null,null,null,null,null,null,"差引支給額",null,null,"備考",null,null,null,null,null,null,null,"差引支給額",null,null,"備考",null,null,null,null,null,null,null,"差引支給額",null,null,"備考",null,null,null,null,null,null,null,"差引支給額",null,null,"備考",null,null,null,null,null,null,null,"差引支給額"]
[null,null,null,null,null,null,null,null,null,{"$f":"J203-J208","v":0},null,null,null,null,null,null,null,null,null,null,{"$f":"U203-U208","v":0},null,null,null,null,null,null,null,null,null,null,{"$f":"AF203-AF208","v":0},null,null,null,null,null,null,null,null,null,null,{"$f":"AQ203-AQ208","v":0},null,null,null,null,null,null,null,null,null,null,{"$f":"BB203-BB208","v":0},null,null,null,null,null,null,null,null,null,null,{"$f":"BM203-BM208","v":0},null,null,null,null,null,null,null,null,null,null,{"$f":"BX203-BX208","v":0},null,null,null,null,null,null,null,null,null,null,{"$f":"CI203-CI208","v":0},null,null,null,null,null,null,null,null,null,null,{"$f":"CT203-CT208","v":0},null,null,null,null,null,null,null,null,null,null,{"$f":"DE203-DE208","v":0},null,null,null,null,null,null,null,null,null,null,{"$f":"DP203-DP208","v":0},null,null,null,null,null,null,null,null,null,null,{"$f":"EA203-EA208","v":0}]

{"sheet":"給与台帳","index":2,"n_rows":83,"n_cols":23,"rows_kept":83,"cut":false,"hidden":false,"merged":[]}
[]
[{"$f":"給与明細!J4","v":"年度　"}]
[]
["給与台帳(支払月ベース)"]
[null,null,null,null,null,null,null,null,null,null,"賞与除く",null,null,null,null,null,null,null,null,"賞与除く",null,null,"賞与含む"]
[null,"受給者","項目","上期賞与","1月","2月","3月","4月","5月","6月","上期合計","人員","下期賞与","7月","8月","9月","10月","11月","12月","下期合計","人員","年末調整額","調整後年間"]
[null,null,"給料手当",{"$f":"賞与明細!J14+賞与明細!U14","v":0},{"$f":"給与明細!J14-給与明細!G12","v":0},{"$f":"給与明細!U14-給与明細!R12","v":0},{"$f":"給与明細!AF14-給与明細!AC12","v":0},{"$f":"給与明細!AQ14-給与明細!AN12","v":0},{"$f":"給与明細!BB14-給与明細!AY12","v":0},{"$f":"給与明細!BM14-給与明細!BJ12","v":0},{"$f":"SUM(E7:J7)","v":0},{"$f":"COUNTIF(E7:J7,\"<>0\")","v":0},{"$f":"賞与明細!AF14+賞与明細!AQ14","v":0},{"$f":"給与明細!BX14-給与明細!BU12","v":0},{"$f":"給与明細!CI14-給与明細!CF12","v":0},{"$f":"給与明細!CT14-給与明細!CQ12","v":0},{"$f":"給与明細!DE14-給与明細!DB12","v":0},{"$f":"給与明細!DP14-給与明細!DM12","v":0},{"$f":"給与明細!EA14-給与明細!DX12","v":0},{"$f":"SUM(N7:S7)","v":0},{"$f":"COUNTIF(N7:S7,\"<>0\")","v":0},null,{"$f":"D7+K7+M7+T7+V7","v":0}]
[null,null,"交通費",0,{"$f":"給与明細!G12","v":0},{"$f":"給与明細!R12","v":0},{"$f":"給与明細!AC12","v":0},{"$f":"給与明細!AN12","v":0},{"$f":"給与明細!AY12","v":0},{"$f":"給与明細!BJ12","v":0},{"$f":"SUM(E8:J8)","v":0},null,0,{"$f":"給与明細!BU12","v":0},{"$f":"給与明細!CF12","v":0},{"$f":"給与明細!CQ12","v":0},{"$f":"給与明細!DB12","v":0},{"$f":"給与明細!DM12","v":0},{"$f":"給与明細!DX12","v":0},{"$f":"SUM(N8:S8)","v":0},null,null,{"$f":"D8+K8+M8+T8+V8","v":0}]
[null,null,"社会保険等",{"$f":"賞与明細!J17+賞与明細!U17","v":0},{"$f":"給与明細!J17","v":0},{"$f":"給与明細!U17","v":0},{"$f":"給与明細!AF17","v":0},{"$f":"給与明細!AQ17","v":0},{"$f":"給与明細!BB17","v":0},{"$f":"給与明細!BM17","v":0},0,null,{"$f":"賞与明細!AF17+賞与明細!AQ17","v":0},{"$f":"給与明細!BX17","v":0},{"$f":"給与明細!CI17","v":0},{"$f":"給与明細!CT17","v":0},{"$f":"給与明細!DE17","v":0},{"$f":"給与明細!DP17","v":0},{"$f":"給与明細!EA17","v":0},0,null,null,0]
[1,{"$f":"給与計算設定!B4","v":0},"源泉所得税",{"$f":"賞与明細!G17+賞与明細!R17","v":0},{"$f":"給与明細!G17","v":0},{"$f":"給与明細!R17","v":0},{"$f":"給与明細!AC17","v":0},{"$f":"給与明細!AN17","v":0},{"$f":"給与明細!AY17","v":0},{"$f":"給与明細!BJ17","v":0},0,null,{"$f":"賞与明細!AC17+賞与明細!AN17","v":0},{"$f":"給与明細!BU17","v":0},{"$f":"給与明細!CF17","v":0},{"$f":"給与明細!CQ17","v":0},{"$f":"給与明細!DB17","v":0},{"$f":"給与明細!DM17","v":0},{"$f":"給与明細!DX17","v":0},0,null,null,0]
[null,null,"住民税",0,{"$f":"給与明細!H17","v":0},{"$f":"給与明細!S17","v":0},{"$f":"給与明細!AD17","v":0},{"$f":"給与明細!AO17","v":0},{"$f":"給与明細!AZ17","v":0},{"$f":"給与明細!BK17","v":0},0,null,0,{"$f":"給与明細!BV17","v":0},{"$f":"給与明細!CG17","v":0},{"$f":"給与明細!CR17","v":0},{"$f":"給与明細!DC17","v":0},{"$f":"給与明細!DN17","v":0},{"$f":"給与明細!DY17","v":0},0,null,null,{"$f":"D11+K11+M11+T11+V11","v":0}]
[null,null,"その他",{"$f":"SUM(賞与明細!C19:I19)+SUM(賞与明細!N19:T19)","v":0},{"$f":"給与明細!J19-給与明細!J17-給与明細!G17-給与明細!H17","v":0},{"$f":"給与明細!U19-給与明細!U17-給与明細!R17-給与明細!S17","v":0},{"$f":"給与明細!AF19-給与明細!AF17-給与明細!AC17-給与明細!AD17","v":0},{"$f":"給与明細!AQ19-給与明細!AQ17-給与明細!AN17-給与明細!AO17","v":0},{"$f":"給与明細!BB19-給与明細!BB17-給与明細!AY17-給与明細!AZ17","v":0},{"$f":"給与明細!BM19-給与明細!BM17-給与明細!BJ17-給与明細!BK17","v":0},0,null,{"$f":"SUM(賞与明細!Y19:AE19)+SUM(賞与明細!AJ19:AP19)","v":0},{"$f":"給与明細!BX19-給与明細!BX17-給与明細!BU17-給与明細!BV17","v":0},{"$f":"給与明細!CI19-給与明細!CI17-給与明細!CF17-給与明細!CG17","v":0},{"$f":"給与明細!CT19-給与明細!CT17-給与明細!CQ17-給与明細!CR17","v":0},{"$f":"給与明細!DE19-給与明細!DE17-給与明細!DB17-給与明細!DC17","v":0},{"$f":"給与明細!DP19-給与明細!DP17-給与明細!DM17-給与明細!DN17","v":0},{"$f":"給与明細!EA19-給与明細!EA17-給与明細!DX17-給与明細!DY17","v":0},{"$f":"SUM(N12:S12)","v":0},null,null,{"$f":"D12+K12+M12+T12-V10","v":0}]
[null,null,"支給額",{"$f":"D7+D8-D9-D10-D11-D12","v":0},0,0,0,0,0,0,0,null,{"$f":"M7+M8-M9-M10-M11-M12","v":0},0,0,0,0,0,0,0,null,null,{"$f":"D13+K13+M13+T13","v":0}]
[null,null,"給料手当",{"$f":"賞与明細!J35+賞与明細!U35","v":0},{"$f":"給与明細!J35-給与明細!G33","v":0},{"$f":"給与明細!U35-給与明細!R33","v":0},{"$f":"給与明細!AF35-給与明細!AC33","v":0},{"$f":"給与明細!AQ35-給与明細!AN33","v":0},{"$f":"給与明細!BB35-給与明細!AY33","v":0},{"$f":"給与明細!BM35-給与明細!BJ33","v":0},0,{"$f":"COUNTIF(E14:J14,\"<>0\")","v":0},{"$f":"賞与明細!AF35+賞与明細!AQ35","v":0},{"$f":"給与明細!BX35-給与明細!BU33","v":0},{"$f":"給与明細!CI35-給与明細!CF33","v":0},{"$f":"給与明細!CT35-給与明細!CQ33","v":0},{"$f":"給与明細!DE35-給与明細!DB33","v":0},{"$f":"給与明細!DP35-給与明細!DM33","v":0},{"$f":"給与明細!EA35-給与明細!DX33","v":0},0,{"$f":"COUNTIF(N14:S14,\"<>0\")","v":0},null,0]
[null,null,"交通費",0,{"$f":"給与明細!G33","v":0},{"$f":"給与明細!R33","v":0},{"$f":"給与明細!AC33","v":0},{"$f":"給与明細!AN33","v":0},{"$f":"給与明細!AY33","v":0},{"$f":"給与明細!BJ33","v":0},0,null,0,{"$f":"給与明細!BU33","v":0},{"$f":"給与明細!CF33","v":0},{"$f":"給与明細!CQ33","v":0},{"$f":"給与明細!DB33","v":0},{"$f":"給与明細!DM33","v":0},{"$f":"給与明細!DX33","v":0},0,null,null,0]
[null,null,"社会保険等",{"$f":"賞与明細!J38+賞与明細!U38","v":0},{"$f":"給与明細!J38","v":0},{"$f":"給与明細!U38","v":0},{"$f":"給与明細!AF38","v":0},{"$f":"給与明細!AQ38","v":0},{"$f":"給与明細!BB38","v":0},{"$f":"給与明細!BM38","v":0},0,null,{"$f":"賞与明細!AF38+賞与明細!AQ38","v":0},{"$f":"給与明細!BX38","v":0},{"$f":"給与明細!CI38","v":0},{"$f":"給与明細!CT38","v":0},{"$f":"給与明細!DE38","v":0},{"$f":"給与明細!DP38","v":0},{"$f":"給与明細!EA38","v":0},0,null,null,0]
[2,{"$f":"給与計算設定!B37","v":0},"源泉所得税",{"$f":"賞与明細!G38+賞与明細!R38","v":0},{"$f":"給与明細!G38","v":0},{"$f":"給与明細!R38","v":0},{"$f":"給与明細!AC38","v":0},{"$f":"給与明細!AN38","v":0},{"$f":"給与明細!AY38","v":0},{"$f":"給与明細!BJ38","v":0},0,null,{"$f":"賞与明細!AC38+賞与明細!AN38","v":0},{"$f":"給与明細!BU38","v":0},{"$f":"給与明細!CF38","v":0},{"$f":"給与明細!CQ38","v":0},{"$f":"給与明細!DB38","v":0},{"$f":"給与明細!DM38","v":0},{"$f":"給与明細!DX38","v":0},0,null,null,0]
[null,null,"住民税",0,{"$f":"給与明細!H38","v":0},{"$f":"給与明細!S38","v":0},{"$f":"給与明細!AD38","v":0},{"$f":"給与明細!AO38","v":0},{"$f":"給与明細!AZ38","v":0},{"$f":"給与明細!BK38","v":0},0,null,0,{"$f":"給与明細!BV38","v":0},{"$f":"給与明細!CG38","v":0},{"$f":"給与明細!CR38","v":0},{"$f":"給与明細!DC38","v":0},{"$f":"給与明細!DN38","v":0},{"$f":"給与明細!DY38","v":0},0,null,null,0]
[null,null,"その他",{"$f":"SUM(賞与明細!C40:I40)+SUM(賞与明細!N40:T40)","v":0},{"$f":"給与明細!J40-給与明細!J38-給与明細!G38-給与明細!H38","v":0},{"$f":"給与明細!U40-給与明細!U38-給与明細!R38-給与明細!S38","v":0},{"$f":"給与明細!AF40-給与明細!AF38-給与明細!AC38-給与明細!AD38","v":0},{"$f":"給与明細!AQ40-給与明細!AQ38-給与明細!AN38-給与明細!AO38","v":0},{"$f":"給与明細!BB40-給与明細!BB38-給与明細!AY38-給与明細!AZ38","v":0},{"$f":"給与明細!BM40-給与明細!BM38-給与明細!BJ38-給与明細!BK38","v":0},0,null,{"$f":"SUM(賞与明細!Y40:AE40)+SUM(賞与明細!AJ40:AP40)","v":0},{"$f":"給与明細!BX40-給与明細!BX38-給与明細!BU38-給与明細!BV38","v":0},{"$f":"給与明細!CI40-給与明細!CI38-給与明細!CF38-給与明細!CG38","v":0},{"$f":"給与明細!CT40-給与明細!CT38-給与明細!CQ38-給与明細!CR38","v":0},{"$f":"給与明細!DE40-給与明細!DE38-給与明細!DB38-給与明細!DC38","v":0},{"$f":"給与明細!DP40-給与明細!DP38-給与明細!DM38-給与明細!DN38","v":0},{"$f":"給与明細!EA40-給与明細!EA38-給与明細!DX38-給与明細!DY38","v":0},0,null,null,{"$f":"D19+K19+M19+T19-V17","v":0}]
[null,null,"支給額",{"$f":"D14+D15-D16-D17-D18-D19","v":0},0,0,0,0,0,0,0,null,{"$f":"M14+M15-M16-M17-M18-M19","v":0},0,0,0,0,0,0,0,null,null,{"$f":"D20+K20+M20+T20","v":0}]
[null,null,"給料手当",{"$f":"賞与明細!J56+賞与明細!U56","v":0},{"$f":"給与明細!J56-給与明細!G54","v":0},{"$f":"給与明細!U56-給与明細!R54","v":0},{"$f":"給与明細!AF56-給与明細!AC54","v":0},{"$f":"給与明細!AQ56-給与明細!AN54","v":0},{"$f":"給与明細!BB56-給与明細!AY54","v":0},{"$f":"給与明細!BM56-給与明細!BJ54","v":0},0,{"$f":"COUNTIF(E21:J21,\"<>0\")","v":0},{"$f":"賞与明細!AF56+賞与明細!AQ56","v":0},{"$f":"給与明細!BX56-給与明細!BU54","v":0},{"$f":"給与明細!CI56-給与明細!CF54","v":0},{"$f":"給与明細!CT56-給与明細!CQ54","v":0},{"$f":"給与明細!DE56-給与明細!DB54","v":0},{"$f":"給与明細!DP56-給与明細!DM54","v":0},{"$f":"給与明細!EA56-給与明細!DX54","v":0},0,{"$f":"COUNTIF(N21:S21,\"<>0\")","v":0},null,0]
[null,null,"交通費",0,{"$f":"給与明細!G54","v":0},{"$f":"給与明細!R54","v":0},{"$f":"給与明細!AC54","v":0},{"$f":"給与明細!AN54","v":0},{"$f":"給与明細!AY54","v":0},{"$f":"給与明細!BJ54","v":0},0,null,0,{"$f":"給与明細!BU54","v":0},{"$f":"給与明細!CF54","v":0},{"$f":"給与明細!CQ54","v":0},{"$f":"給与明細!DB54","v":0},{"$f":"給与明細!DM54","v":0},{"$f":"給与明細!DX54","v":0},0,null,null,0]
[null,null,"社会保険等",{"$f":"賞与明細!J59+賞与明細!U59","v":0},{"$f":"給与明細!J59","v":0},{"$f":"給与明細!U59","v":0},{"$f":"給与明細!AF59","v":0},{"$f":"給与明細!AQ59","v":0},{"$f":"給与明細!BB59","v":0},{"$f":"給与明細!BM59","v":0},0,null,{"$f":"賞与明細!AF59+賞与明細!AQ59","v":0},{"$f":"給与明細!BX59","v":0},{"$f":"給与明細!CI59","v":0},{"$f":"給与明細!CT59","v":0},{"$f":"給与明細!DE59","v":0},{"$f":"給与明細!DP59","v":0},{"$f":"給与明細!EA59","v":0},0,null,null,0]
[3,{"$f":"給与計算設定!B70","v":0},"源泉所得税",{"$f":"賞与明細!G59+賞与明細!R59","v":0},{"$f":"給与明細!G59","v":0},{"$f":"給与明細!R59","v":0},{"$f":"給与明細!AC59","v":0},{"$f":"給与明細!AN59","v":0},{"$f":"給与明細!AY59","v":0},{"$f":"給与明細!BJ59","v":0},0,null,{"$f":"賞与明細!AC59+賞与明細!AN59","v":0},{"$f":"給与明細!BU59","v":0},{"$f":"給与明細!CF59","v":0},{"$f":"給与明細!CQ59","v":0},{"$f":"給与明細!DB59","v":0},{"$f":"給与明細!DM59","v":0},{"$f":"給与明細!DX59","v":0},0,null,null,0]
[null,null,"住民税",0,{"$f":"給与明細!H59","v":0},{"$f":"給与明細!S59","v":0},{"$f":"給与明細!AD59","v":0},{"$f":"給与明細!AO59","v":0},{"$f":"給与明細!AZ59","v":0},{"$f":"給与明細!BK59","v":0},0,null,0,{"$f":"給与明細!BV59","v":0},{"$f":"給与明細!CG59","v":0},{"$f":"給与明細!CR59","v":0},{"$f":"給与明細!DC59","v":0},{"$f":"給与明細!DN59","v":0},{"$f":"給与明細!DY59","v":0},0,null,null,0]
[null,null,"その他",{"$f":"SUM(賞与明細!C61:I61)+SUM(賞与明細!N61:T61)","v":0},{"$f":"給与明細!J61-給与明細!J59-給与明細!G59-給与明細!H59","v":0},{"$f":"給与明細!U61-給与明細!U59-給与明細!R59-給与明細!S59","v":0},{"$f":"給与明細!AF61-給与明細!AF59-給与明細!AC59-給与明細!AD59","v":0},{"$f":"給与明細!AQ61-給与明細!AQ59-給与明細!AN59-給与明細!AO59","v":0},{"$f":"給与明細!BB61-給与明細!BB59-給与明細!AY59-給与明細!AZ59","v":0},{"$f":"給与明細!BM61-給与明細!BM59-給与明細!BJ59-給与明細!BK59","v":0},0,null,{"$f":"SUM(賞与明細!Y61:AE61)+SUM(賞与明細!AJ61:AP61)","v":0},{"$f":"給与明細!BX61-給与明細!BX59-給与明細!BU59-給与明細!BV59","v":0},{"$f":"給与明細!CI61-給与明細!CI59-給与明細!CF59-給与明細!CG59","v":0},{"$f":"給与明細!CT61-給与明細!CT59-給与明細!CQ59-給与明細!CR59","v":0},{"$f":"給与明細!DE61-給与明細!DE59-給与明細!DB59-給与明細!DC59","v":0},{"$f":"給与明細!DP61-給与明細!DP59-給与明細!DM59-給与明細!DN59","v":0},{"$f":"給与明細!EA61-給与明細!EA59-給与明細!DX59-給与明細!DY59","v":0},0,null,null,{"$f":"D26+K26+M26+T26-V24","v":0}]
[null,null,"支給額",{"$f":"D21+D22-D23-D24-D25-D26","v":0},0,0,0,0,0,0,0,null,{"$f":"M21+M22-M23-M24-M25-M26","v":0},0,0,0,0,0,0,0,null,null,{"$f":"D27+K27+M27+T27","v":0}]
[null,null,"給料手当",{"$f":"賞与明細!J77+賞与明細!U77","v":0},{"$f":"給与明細!J77-給与明細!G75","v":0},{"$f":"給与明細!U77-給与明細!R75","v":0},{"$f":"給与明細!AF77-給与明細!AC75","v":0},{"$f":"給与明細!AQ77-給与明細!AN75","v":0},{"$f":"給与明細!BB77-給与明細!AY75","v":0},{"$f":"給与明細!BM77-給与明細!BJ75","v":0},0,{"$f":"COUNTIF(E28:J28,\"<>0\")","v":0},{"$f":"賞与明細!AF77+賞与明細!AQ77","v":0},{"$f":"給与明細!BX77-給与明細!BU75","v":0},{"$f":"給与明細!CI77-給与明細!CF75","v":0},{"$f":"給与明細!CT77-給与明細!CQ75","v":0},{"$f":"給与明細!DE77-給与明細!DB75","v":0},{"$f":"給与明細!DP77-給与明細!DM75","v":0},{"$f":"給与明細!EA77-給与明細!DX75","v":0},0,{"$f":"COUNTIF(N28:S28,\"<>0\")","v":0},null,0]
[null,null,"交通費",0,{"$f":"給与明細!G75","v":0},{"$f":"給与明細!R75","v":0},{"$f":"給与明細!AC75","v":0},{"$f":"給与明細!AN75","v":0},{"$f":"給与明細!AY75","v":0},{"$f":"給与明細!BJ75","v":0},0,null,0,{"$f":"給与明細!BU75","v":0},{"$f":"給与明細!CF75","v":0},{"$f":"給与明細!CQ75","v":0},{"$f":"給与明細!DB75","v":0},{"$f":"給与明細!DM75","v":0},{"$f":"給与明細!DX75","v":0},0,null,null,0]
[null,null,"社会保険等",{"$f":"賞与明細!J80+賞与明細!U80","v":0},{"$f":"給与明細!J80","v":0},{"$f":"給与明細!U80","v":0},{"$f":"給与明細!AF80","v":0},{"$f":"給与明細!AQ80","v":0},{"$f":"給与明細!BB80","v":0},{"$f":"給与明細!BM80","v":0},0,null,{"$f":"賞与明細!AF80+賞与明細!AQ80","v":0},{"$f":"給与明細!BX80","v":0},{"$f":"給与明細!CI80","v":0},{"$f":"給与明細!CT80","v":0},{"$f":"給与明細!DE80","v":0},{"$f":"給与明細!DP80","v":0},{"$f":"給与明細!EA80","v":0},0,null,null,0]
[4,{"$f":"給与計算設定!B103","v":0},"源泉所得税",{"$f":"賞与明細!G80+賞与明細!R80","v":0},{"$f":"給与明細!G80","v":0},{"$f":"給与明細!R80","v":0},{"$f":"給与明細!AC80","v":0},{"$f":"給与明細!AN80","v":0},{"$f":"給与明細!AY80","v":0},{"$f":"給与明細!BJ80","v":0},0,null,{"$f":"賞与明細!AC80+賞与明細!AN80","v":0},{"$f":"給与明細!BU80","v":0},{"$f":"給与明細!CF80","v":0},{"$f":"給与明細!CQ80","v":0},{"$f":"給与明細!DB80","v":0},{"$f":"給与明細!DM80","v":0},{"$f":"給与明細!DX80","v":0},0,null,null,0]
[null,null,"住民税",0,{"$f":"給与明細!H80","v":0},{"$f":"給与明細!S80","v":0},{"$f":"給与明細!AD80","v":0},{"$f":"給与明細!AO80","v":0},{"$f":"給与明細!AZ80","v":0},{"$f":"給与明細!BK80","v":0},0,null,0,{"$f":"給与明細!BV80","v":0},{"$f":"給与明細!CG80","v":0},{"$f":"給与明細!CR80","v":0},{"$f":"給与明細!DC80","v":0},{"$f":"給与明細!DN80","v":0},{"$f":"給与明細!DY80","v":0},0,null,null,0]
[null,null,"その他",{"$f":"SUM(賞与明細!C82:I82)+SUM(賞与明細!N82:T82)","v":0},{"$f":"給与明細!J82-給与明細!J80-給与明細!G80-給与明細!H80","v":0},{"$f":"給与明細!U82-給与明細!U80-給与明細!R80-給与明細!S80","v":0},{"$f":"給与明細!AF82-給与明細!AF80-給与明細!AC80-給与明細!AD80","v":0},{"$f":"給与明細!AQ82-給与明細!AQ80-給与明細!AN80-給与明細!AO80","v":0},{"$f":"給与明細!BB82-給与明細!BB80-給与明細!AY80-給与明細!AZ80","v":0},{"$f":"給与明細!BM82-給与明細!BM80-給与明細!BJ80-給与明細!BK80","v":0},0,null,{"$f":"SUM(賞与明細!Y82:AE82)+SUM(賞与明細!AJ82:AP82)","v":0},{"$f":"給与明細!BX82-給与明細!BX80-給与明細!BU80-給与明細!BV80","v":0},{"$f":"給与明細!CI82-給与明細!CI80-給与明細!CF80-給与明細!CG80","v":0},{"$f":"給与明細!CT82-給与明細!CT80-給与明細!CQ80-給与明細!CR80","v":0},{"$f":"給与明細!DE82-給与明細!DE80-給与明細!DB80-給与明細!DC80","v":0},{"$f":"給与明細!DP82-給与明細!DP80-給与明細!DM80-給与明細!DN80","v":0},{"$f":"給与明細!EA82-給与明細!EA80-給与明細!DX80-給与明細!DY80","v":0},0,null,null,{"$f":"D33+K33+M33+T33-V31","v":0}]
[null,null,"支給額",{"$f":"D28+D29-D30-D31-D32-D33","v":0},0,0,0,0,0,0,0,null,{"$f":"M28+M29-M30-M31-M32-M33","v":0},0,0,0,0,0,0,0,null,null,{"$f":"D34+K34+M34+T34","v":0}]
[null,null,"給料手当",{"$f":"賞与明細!J98+賞与明細!U98","v":0},{"$f":"給与明細!J98-給与明細!G96","v":0},{"$f":"給与明細!U98-給与明細!R96","v":0},{"$f":"給与明細!AF98-給与明細!AC96","v":0},{"$f":"給与明細!AQ98-給与明細!AN96","v":0},{"$f":"給与明細!BB98-給与明細!AY96","v":0},{"$f":"給与明細!BM98-給与明細!BJ96","v":0},0,{"$f":"COUNTIF(E35:J35,\"<>0\")","v":0},{"$f":"賞与明細!AF98+賞与明細!AQ98","v":0},{"$f":"給与明細!BX98-給与明細!BU96","v":0},{"$f":"給与明細!CI98-給与明細!CF96","v":0},{"$f":"給与明細!CT98-給与明細!CQ96","v":0},{"$f":"給与明細!DE98-給与明細!DB96","v":0},{"$f":"給与明細!DP98-給与明細!DM96","v":0},{"$f":"給与明細!EA98-給与明細!DX96","v":0},0,{"$f":"COUNTIF(N35:S35,\"<>0\")","v":0},null,0]
[null,null,"交通費",0,{"$f":"給与明細!G96","v":0},{"$f":"給与明細!R96","v":0},{"$f":"給与明細!AC96","v":0},{"$f":"給与明細!AN96","v":0},{"$f":"給与明細!AY96","v":0},{"$f":"給与明細!BJ96","v":0},0,null,0,{"$f":"給与明細!BU96","v":0},{"$f":"給与明細!CF96","v":0},{"$f":"給与明細!CQ96","v":0},{"$f":"給与明細!DB96","v":0},{"$f":"給与明細!DM96","v":0},{"$f":"給与明細!DX96","v":0},0,null,null,0]
[null,null,"社会保険等",{"$f":"賞与明細!J101+賞与明細!U101","v":0},{"$f":"給与明細!J101","v":0},{"$f":"給与明細!U101","v":0},{"$f":"給与明細!AF101","v":0},{"$f":"給与明細!AQ101","v":0},{"$f":"給与明細!BB101","v":0},{"$f":"給与明細!BM101","v":0},0,null,{"$f":"賞与明細!AF101+賞与明細!AQ101","v":0},{"$f":"給与明細!BX101","v":0},{"$f":"給与明細!CI101","v":0},{"$f":"給与明細!CT101","v":0},{"$f":"給与明細!DE101","v":0},{"$f":"給与明細!DP101","v":0},{"$f":"給与明細!EA101","v":0},0,null,null,0]
[5,{"$f":"給与計算設定!B136","v":0},"源泉所得税",{"$f":"賞与明細!G101+賞与明細!R101","v":0},{"$f":"給与明細!G101","v":0},{"$f":"給与明細!R101","v":0},{"$f":"給与明細!AC101","v":0},{"$f":"給与明細!AN101","v":0},{"$f":"給与明細!AY101","v":0},{"$f":"給与明細!BJ101","v":0},0,null,{"$f":"賞与明細!AC101+賞与明細!AN101","v":0},{"$f":"給与明細!BU101","v":0},{"$f":"給与明細!CF101","v":0},{"$f":"給与明細!CQ101","v":0},{"$f":"給与明細!DB101","v":0},{"$f":"給与明細!DM101","v":0},{"$f":"給与明細!DX101","v":0},0,null,null,0]
[null,null,"住民税",null,{"$f":"給与明細!H101","v":0},{"$f":"給与明細!S101","v":0},{"$f":"給与明細!AD101","v":0},{"$f":"給与明細!AO101","v":0},{"$f":"給与明細!AZ101","v":0},{"$f":"給与明細!BK101","v":0},0,null,null,{"$f":"給与明細!BV101","v":0},{"$f":"給与明細!CG101","v":0},{"$f":"給与明細!CR101","v":0},{"$f":"給与明細!DC101","v":0},{"$f":"給与明細!DN101","v":0},{"$f":"給与明細!DY101","v":0},0,null,null,0]
[null,null,"その他",{"$f":"SUM(賞与明細!C103:I103)+SUM(賞与明細!N103:T103)","v":0},{"$f":"給与明細!J103-給与明細!J101-給与明細!G101-給与明細!H101","v":0},{"$f":"給与明細!U103-給与明細!U101-給与明細!R101-給与明細!S101","v":0},{"$f":"給与明細!AF103-給与明細!AF101-給与明細!AC101-給与明細!AD101","v":0},{"$f":"給与明細!AQ103-給与明細!AQ101-給与明細!AN101-給与明細!AO101","v":0},{"$f":"給与明細!BB103-給与明細!BB101-給与明細!AY101-給与明細!AZ101","v":0},{"$f":"給与明細!BM103-給与明細!BM101-給与明細!BJ101-給与明細!BK101","v":0},0,null,{"$f":"SUM(賞与明細!Y103:AE103)+SUM(賞与明細!AJ103:AP103)","v":0},{"$f":"給与明細!BX103-給与明細!BX101-給与明細!BU101-給与明細!BV101","v":0},{"$f":"給与明細!CI103-給与明細!CI101-給与明細!CF101-給与明細!CG101","v":0},{"$f":"給与明細!CT103-給与明細!CT101-給与明細!CQ101-給与明細!CR101","v":0},{"$f":"給与明細!DE103-給与明細!DE101-給与明細!DB101-給与明細!DC101","v":0},{"$f":"給与明細!DP103-給与明細!DP101-給与明細!DM101-給与明細!DN101","v":0},{"$f":"給与明細!EA103-給与明細!EA101-給与明細!DX101-給与明細!DY101","v":0},0,null,null,{"$f":"D40+K40+M40+T40-V38","v":0}]
[null,null,"支給額",{"$f":"D35+D36-D37-D38-D39-D40","v":0},0,0,0,0,0,0,0,null,{"$f":"M35+M36-M37-M38-M39-M40","v":0},0,0,0,0,0,0,0,null,null,{"$f":"D41+K41+M41+T41","v":0}]
[null,null,"給料手当",{"$f":"賞与明細!J119+賞与明細!U119","v":0},{"$f":"給与明細!J119-給与明細!G117","v":0},{"$f":"給与明細!U119-給与明細!R117","v":0},{"$f":"給与明細!AF119-給与明細!AC117","v":0},{"$f":"給与明細!AQ119-給与明細!AN117","v":0},{"$f":"給与明細!BB119-給与明細!AY117","v":0},{"$f":"給与明細!BM119-給与明細!BJ117","v":0},0,{"$f":"COUNTIF(E42:J42,\"<>0\")","v":0},{"$f":"賞与明細!AF119+賞与明細!AQ119","v":0},{"$f":"給与明細!BX119-給与明細!BU117","v":0},{"$f":"給与明細!CI119-給与明細!CF117","v":0},{"$f":"給与明細!CT119-給与明細!CQ117","v":0},{"$f":"給与明細!DE119-給与明細!DB117","v":0},{"$f":"給与明細!DP119-給与明細!DM117","v":0},{"$f":"給与明細!EA119-給与明細!DX117","v":0},0,{"$f":"COUNTIF(N42:S42,\"<>0\")","v":0},null,0]
[null,null,"交通費",0,{"$f":"給与明細!G117","v":0},{"$f":"給与明細!R117","v":0},{"$f":"給与明細!AC117","v":0},{"$f":"給与明細!AN117","v":0},{"$f":"給与明細!AY117","v":0},{"$f":"給与明細!BJ117","v":0},0,null,0,{"$f":"給与明細!BU117","v":0},{"$f":"給与明細!CF117","v":0},{"$f":"給与明細!CQ117","v":0},{"$f":"給与明細!DB117","v":0},{"$f":"給与明細!DM117","v":0},{"$f":"給与明細!DX117","v":0},0,null,null,0]
[null,null,"社会保険等",{"$f":"賞与明細!J122+賞与明細!U122","v":0},{"$f":"給与明細!J122","v":0},{"$f":"給与明細!U122","v":0},{"$f":"給与明細!AF122","v":0},{"$f":"給与明細!AQ122","v":0},{"$f":"給与明細!BB122","v":0},{"$f":"給与明細!BM122","v":0},0,null,{"$f":"賞与明細!AF122+賞与明細!AQ122","v":0},{"$f":"給与明細!BX122","v":0},{"$f":"給与明細!CI122","v":0},{"$f":"給与明細!CT122","v":0},{"$f":"給与明細!DE122","v":0},{"$f":"給与明細!DP122","v":0},{"$f":"給与明細!EA122","v":0},0,null,null,0]
[6,{"$f":"給与計算設定!B169","v":0},"源泉所得税",{"$f":"賞与明細!G122+賞与明細!R122","v":0},{"$f":"給与明細!G122","v":0},{"$f":"給与明細!R122","v":0},{"$f":"給与明細!AC122","v":0},{"$f":"給与明細!AN122","v":0},{"$f":"給与明細!AY122","v":0},{"$f":"給与明細!BJ122","v":0},0,null,{"$f":"賞与明細!AC122+賞与明細!AN122","v":0},{"$f":"給与明細!BU122","v":0},{"$f":"給与明細!CF122","v":0},{"$f":"給与明細!CQ122","v":0},{"$f":"給与明細!DB122","v":0},{"$f":"給与明細!DM122","v":0},{"$f":"給与明細!DX122","v":0},0,null,null,0]
[null,null,"住民税",null,{"$f":"給与明細!H122","v":0},{"$f":"給与明細!S122","v":0},{"$f":"給与明細!AD122","v":0},{"$f":"給与明細!AO122","v":0},{"$f":"給与明細!AZ122","v":0},{"$f":"給与明細!BK122","v":0},0,null,null,{"$f":"給与明細!BV122","v":0},{"$f":"給与明細!CG122","v":0},{"$f":"給与明細!CR122","v":0},{"$f":"給与明細!DC122","v":0},{"$f":"給与明細!DN122","v":0},{"$f":"給与明細!DY122","v":0},0,null,null,0]
[null,null,"その他",{"$f":"SUM(賞与明細!C124:I124)+SUM(賞与明細!N124:T124)","v":0},{"$f":"給与明細!J124-給与明細!J122-給与明細!G122-給与明細!H122","v":0},{"$f":"給与明細!U124-給与明細!U122-給与明細!R122-給与明細!S122","v":0},{"$f":"給与明細!AF124-給与明細!AF122-給与明細!AC122-給与明細!AD122","v":0},{"$f":"給与明細!AQ124-給与明細!AQ122-給与明細!AN122-給与明細!AO122","v":0},{"$f":"給与明細!BB124-給与明細!BB122-給与明細!AY122-給与明細!AZ122","v":0},{"$f":"給与明細!BM124-給与明細!BM122-給与明細!BJ122-給与明細!BK122","v":0},0,null,{"$f":"SUM(賞与明細!Y124:AE124)+SUM(賞与明細!AJ124:AP124)","v":0},{"$f":"給与明細!BX124-給与明細!BX122-給与明細!BU122-給与明細!BV122","v":0},{"$f":"給与明細!CI124-給与明細!CI122-給与明細!CF122-給与明細!CG122","v":0},{"$f":"給与明細!CT124-給与明細!CT122-給与明細!CQ122-給与明細!CR122","v":0},{"$f":"給与明細!DE124-給与明細!DE122-給与明細!DB122-給与明細!DC122","v":0},{"$f":"給与明細!DP124-給与明細!DP122-給与明細!DM122-給与明細!DN122","v":0},{"$f":"給与明細!EA124-給与明細!EA122-給与明細!DX122-給与明細!DY122","v":0},0,null,null,{"$f":"D47+K47+M47+T47-V45","v":0}]
[null,null,"支給額",{"$f":"D42+D43-D44-D45-D46-D47","v":0},0,0,0,0,0,0,0,null,{"$f":"M42+M43-M44-M45-M46-M47","v":0},0,0,0,0,0,0,0,null,null,{"$f":"D48+K48+M48+T48","v":0}]
[null,null,"給料手当",{"$f":"賞与明細!J140+賞与明細!U140","v":0},{"$f":"給与明細!J140-給与明細!G138","v":0},{"$f":"給与明細!U140-給与明細!R138","v":0},{"$f":"給与明細!AF140-給与明細!AC138","v":0},{"$f":"給与明細!AQ140-給与明細!AN138","v":0},{"$f":"給与明細!BB140-給与明細!AY138","v":0},{"$f":"給与明細!BM140-給与明細!BJ138","v":0},0,{"$f":"COUNTIF(E49:J49,\"<>0\")","v":0},{"$f":"賞与明細!AF140+賞与明細!AQ140","v":0},{"$f":"給与明細!BX140-給与明細!BU138","v":0},{"$f":"給与明細!CI140-給与明細!CF138","v":0},{"$f":"給与明細!CT140-給与明細!CQ138","v":0},{"$f":"給与明細!DE140-給与明細!DB138","v":0},{"$f":"給与明細!DP140-給与明細!DM138","v":0},{"$f":"給与明細!EA140-給与明細!DX138","v":0},0,{"$f":"COUNTIF(N49:S49,\"<>0\")","v":0},null,0]
[null,null,"交通費",0,{"$f":"給与明細!G138","v":0},{"$f":"給与明細!R138","v":0},{"$f":"給与明細!AC138","v":0},{"$f":"給与明細!AN138","v":0},{"$f":"給与明細!AY138","v":0},{"$f":"給与明細!BJ138","v":0},0,null,0,{"$f":"給与明細!BU138","v":0},{"$f":"給与明細!CF138","v":0},{"$f":"給与明細!CQ138","v":0},{"$f":"給与明細!DB138","v":0},{"$f":"給与明細!DM138","v":0},{"$f":"給与明細!DX138","v":0},0,null,null,0]
[null,null,"社会保険等",{"$f":"賞与明細!J143+賞与明細!U143","v":0},{"$f":"給与明細!J143","v":0},{"$f":"給与明細!U143","v":0},{"$f":"給与明細!AF143","v":0},{"$f":"給与明細!AQ143","v":0},{"$f":"給与明細!BB143","v":0},{"$f":"給与明細!BM143","v":0},0,null,{"$f":"賞与明細!AF143+賞与明細!AQ143","v":0},{"$f":"給与明細!BX143","v":0},{"$f":"給与明細!CI143","v":0},{"$f":"給与明細!CT143","v":0},{"$f":"給与明細!DE143","v":0},{"$f":"給与明細!DP143","v":0},{"$f":"給与明細!EA143","v":0},0,null,null,0]
[7,{"$f":"給与計算設定!B202","v":0},"源泉所得税",{"$f":"賞与明細!G143+賞与明細!R143","v":0},{"$f":"給与明細!G143","v":0},{"$f":"給与明細!R143","v":0},{"$f":"給与明細!AC143","v":0},{"$f":"給与明細!AN143","v":0},{"$f":"給与明細!AY143","v":0},{"$f":"給与明細!BJ143","v":0},0,null,{"$f":"賞与明細!AC143+賞与明細!AN143","v":0},{"$f":"給与明細!BU143","v":0},{"$f":"給与明細!CF143","v":0},{"$f":"給与明細!CQ143","v":0},{"$f":"給与明細!DB143","v":0},{"$f":"給与明細!DM143","v":0},{"$f":"給与明細!DX143","v":0},0,null,null,0]
[null,null,"住民税",null,{"$f":"給与明細!H143","v":0},{"$f":"給与明細!S143","v":0},{"$f":"給与明細!AD143","v":0},{"$f":"給与明細!AO143","v":0},{"$f":"給与明細!AZ143","v":0},{"$f":"給与明細!BK143","v":0},0,null,null,{"$f":"給与明細!BV143","v":0},{"$f":"給与明細!CG143","v":0},{"$f":"給与明細!CR143","v":0},{"$f":"給与明細!DC143","v":0},{"$f":"給与明細!DN143","v":0},{"$f":"給与明細!DY143","v":0},0,null,null,0]
[null,null,"その他",{"$f":"SUM(賞与明細!C145:I145)+SUM(賞与明細!N145:T145)","v":0},{"$f":"給与明細!J145-給与明細!J143-給与明細!G143-給与明細!H143","v":0},{"$f":"給与明細!U145-給与明細!U143-給与明細!R143-給与明細!S143","v":0},{"$f":"給与明細!AF145-給与明細!AF143-給与明細!AC143-給与明細!AD143","v":0},{"$f":"給与明細!AQ145-給与明細!AQ143-給与明細!AN143-給与明細!AO143","v":0},{"$f":"給与明細!BB145-給与明細!BB143-給与明細!AY143-給与明細!AZ143","v":0},{"$f":"給与明細!BM145-給与明細!BM143-給与明細!BJ143-給与明細!BK143","v":0},0,null,{"$f":"SUM(賞与明細!Y145:AE145)+SUM(賞与明細!AJ145:AP145)","v":0},{"$f":"給与明細!BX145-給与明細!BX143-給与明細!BU143-給与明細!BV143","v":0},{"$f":"給与明細!CI145-給与明細!CI143-給与明細!CF143-給与明細!CG143","v":0},{"$f":"給与明細!CT145-給与明細!CT143-給与明細!CQ143-給与明細!CR143","v":0},{"$f":"給与明細!DE145-給与明細!DE143-給与明細!DB143-給与明細!DC143","v":0},{"$f":"給与明細!DP145-給与明細!DP143-給与明細!DM143-給与明細!DN143","v":0},{"$f":"給与明細!EA145-給与明細!EA143-給与明細!DX143-給与明細!DY143","v":0},0,null,null,{"$f":"D54+K54+M54+T54-V52","v":0}]
[null,null,"支給額",{"$f":"D49+D50-D51-D52-D53-D54","v":0},0,0,0,0,0,0,0,null,{"$f":"M49+M50-M51-M52-M53-M54","v":0},0,0,0,0,0,0,0,null,null,{"$f":"D55+K55+M55+T55","v":0}]
[null,null,"給料手当",{"$f":"賞与明細!J161+賞与明細!U161","v":0},{"$f":"給与明細!J161-給与明細!G159","v":0},{"$f":"給与明細!U161-給与明細!R159","v":0},{"$f":"給与明細!AF161-給与明細!AC159","v":0},{"$f":"給与明細!AQ161-給与明細!AN159","v":0},{"$f":"給与明細!BB161-給与明細!AY159","v":0},{"$f":"給与明細!BM161-給与明細!BJ159","v":0},0,{"$f":"COUNTIF(E56:J56,\"<>0\")","v":0},{"$f":"賞与明細!AF161+賞与明細!AQ161","v":0},{"$f":"給与明細!BX161-給与明細!BU159","v":0},{"$f":"給与明細!CI161-給与明細!CF159","v":0},{"$f":"給与明細!CT161-給与明細!CQ159","v":0},{"$f":"給与明細!DE161-給与明細!DB159","v":0},{"$f":"給与明細!DP161-給与明細!DM159","v":0},{"$f":"給与明細!EA161-給与明細!DX159","v":0},0,{"$f":"COUNTIF(N56:S56,\"<>0\")","v":0},null,0]
[null,null,"交通費",0,{"$f":"給与明細!G159","v":0},{"$f":"給与明細!R159","v":0},{"$f":"給与明細!AC159","v":0},{"$f":"給与明細!AN159","v":0},{"$f":"給与明細!AY159","v":0},{"$f":"給与明細!BJ159","v":0},0,null,0,{"$f":"給与明細!BU159","v":0},{"$f":"給与明細!CF159","v":0},{"$f":"給与明細!CQ159","v":0},{"$f":"給与明細!DB159","v":0},{"$f":"給与明細!DM159","v":0},{"$f":"給与明細!DX159","v":0},0,null,null,0]
[null,null,"社会保険等",{"$f":"賞与明細!J164+賞与明細!U164","v":0},{"$f":"給与明細!J164","v":0},{"$f":"給与明細!U164","v":0},{"$f":"給与明細!AF164","v":0},{"$f":"給与明細!AQ164","v":0},{"$f":"給与明細!BB164","v":0},{"$f":"給与明細!BM164","v":0},0,null,{"$f":"賞与明細!AF164+賞与明細!AQ164","v":0},{"$f":"給与明細!BX164","v":0},{"$f":"給与明細!CI164","v":0},{"$f":"給与明細!CT164","v":0},{"$f":"給与明細!DE164","v":0},{"$f":"給与明細!DP164","v":0},{"$f":"給与明細!EA164","v":0},0,null,null,0]
[8,{"$f":"給与計算設定!B235","v":0},"源泉所得税",{"$f":"賞与明細!G164+賞与明細!R164","v":0},{"$f":"給与明細!G164","v":0},{"$f":"給与明細!R164","v":0},{"$f":"給与明細!AC164","v":0},{"$f":"給与明細!AN164","v":0},{"$f":"給与明細!AY164","v":0},{"$f":"給与明細!BJ164","v":0},0,null,{"$f":"賞与明細!AC164+賞与明細!AN164","v":0},{"$f":"給与明細!BU164","v":0},{"$f":"給与明細!CF164","v":0},{"$f":"給与明細!CQ164","v":0},{"$f":"給与明細!DB164","v":0},{"$f":"給与明細!DM164","v":0},{"$f":"給与明細!DX164","v":0},0,null,null,0]
[null,null,"住民税",null,{"$f":"給与明細!H164","v":0},{"$f":"給与明細!S164","v":0},{"$f":"給与明細!AD164","v":0},{"$f":"給与明細!AO164","v":0},{"$f":"給与明細!AZ164","v":0},{"$f":"給与明細!BK164","v":0},0,null,null,{"$f":"給与明細!BV164","v":0},{"$f":"給与明細!CG164","v":0},{"$f":"給与明細!CR164","v":0},{"$f":"給与明細!DC164","v":0},{"$f":"給与明細!DN164","v":0},{"$f":"給与明細!DY164","v":0},0,null,null,0]
[null,null,"その他",{"$f":"SUM(賞与明細!C166:I166)+SUM(賞与明細!N166:T166)","v":0},{"$f":"給与明細!J166-給与明細!J164-給与明細!G164-給与明細!H164","v":0},{"$f":"給与明細!U166-給与明細!U164-給与明細!R164-給与明細!S164","v":0},{"$f":"給与明細!AF166-給与明細!AF164-給与明細!AC164-給与明細!AD164","v":0},{"$f":"給与明細!AQ166-給与明細!AQ164-給与明細!AN164-給与明細!AO164","v":0},{"$f":"給与明細!BB166-給与明細!BB164-給与明細!AY164-給与明細!AZ164","v":0},{"$f":"給与明細!BM166-給与明細!BM164-給与明細!BJ164-給与明細!BK164","v":0},0,null,{"$f":"SUM(賞与明細!Y166:AE166)+SUM(賞与明細!AJ166:AP166)","v":0},{"$f":"給与明細!BX166-給与明細!BX164-給与明細!BU164-給与明細!BV164","v":0},{"$f":"給与明細!CI166-給与明細!CI164-給与明細!CF164-給与明細!CG164","v":0},{"$f":"給与明細!CT166-給与明細!CT164-給与明細!CQ164-給与明細!CR164","v":0},{"$f":"給与明細!DE166-給与明細!DE164-給与明細!DB164-給与明細!DC164","v":0},{"$f":"給与明細!DP166-給与明細!DP164-給与明細!DM164-給与明細!DN164","v":0},{"$f":"給与明細!EA166-給与明細!EA164-給与明細!DX164-給与明細!DY164","v":0},0,null,null,{"$f":"D61+K61+M61+T61-V59","v":0}]
[null,null,"支給額",{"$f":"D56+D57-D58-D59-D60-D61","v":0},0,0,0,0,0,0,0,null,{"$f":"M56+M57-M58-M59-M60-M61","v":0},0,0,0,0,0,0,0,null,null,{"$f":"D62+K62+M62+T62","v":0}]
[null,null,"給料手当",{"$f":"賞与明細!J182+賞与明細!U182","v":0},{"$f":"給与明細!J182-給与明細!G180","v":0},{"$f":"給与明細!U182-給与明細!R180","v":0},{"$f":"給与明細!AF182-給与明細!AC180","v":0},{"$f":"給与明細!AQ182-給与明細!AN180","v":0},{"$f":"給与明細!BB182-給与明細!AY180","v":0},{"$f":"給与明細!BM182-給与明細!BJ180","v":0},0,{"$f":"COUNTIF(E63:J63,\"<>0\")","v":0},{"$f":"賞与明細!AF182+賞与明細!AQ182","v":0},{"$f":"給与明細!BX182-給与明細!BU180","v":0},{"$f":"給与明細!CI182-給与明細!CF180","v":0},{"$f":"給与明細!CT182-給与明細!CQ180","v":0},{"$f":"給与明細!DE182-給与明細!DB180","v":0},{"$f":"給与明細!DP182-給与明細!DM180","v":0},{"$f":"給与明細!EA182-給与明細!DX180","v":0},0,{"$f":"COUNTIF(N63:S63,\"<>0\")","v":0},null,0]
[null,null,"交通費",null,{"$f":"給与明細!G180","v":0},{"$f":"給与明細!R180","v":0},{"$f":"給与明細!AC180","v":0},{"$f":"給与明細!AN180","v":0},{"$f":"給与明細!AY180","v":0},{"$f":"給与明細!BJ180","v":0},0,null,null,{"$f":"給与明細!BU180","v":0},{"$f":"給与明細!CF180","v":0},{"$f":"給与明細!CQ180","v":0},{"$f":"給与明細!DB180","v":0},{"$f":"給与明細!DM180","v":0},{"$f":"給与明細!DX180","v":0},0,null,null,0]
[null,null,"社会保険等",{"$f":"賞与明細!J185+賞与明細!U185","v":0},{"$f":"給与明細!J185","v":0},{"$f":"給与明細!U185","v":0},{"$f":"給与明細!AF185","v":0},{"$f":"給与明細!AQ185","v":0},{"$f":"給与明細!BB185","v":0},{"$f":"給与明細!BM185","v":0},0,null,{"$f":"賞与明細!AF185+賞与明細!AQ185","v":0},{"$f":"給与明細!BX185","v":0},{"$f":"給与明細!CI185","v":0},{"$f":"給与明細!CT185","v":0},{"$f":"給与明細!DE185","v":0},{"$f":"給与明細!DP185","v":0},{"$f":"給与明細!EA185","v":0},0,null,null,0]
[9,{"$f":"給与計算設定!B268","v":0},"源泉所得税",{"$f":"賞与明細!G185+賞与明細!R185","v":0},{"$f":"給与明細!G185","v":0},{"$f":"給与明細!R185","v":0},{"$f":"給与明細!AC185","v":0},{"$f":"給与明細!AN185","v":0},{"$f":"給与明細!AY185","v":0},{"$f":"給与明細!BJ185","v":0},0,null,{"$f":"賞与明細!AC185+賞与明細!AN185","v":0},{"$f":"給与明細!BU185","v":0},{"$f":"給与明細!CF185","v":0},{"$f":"給与明細!CQ185","v":0},{"$f":"給与明細!DB185","v":0},{"$f":"給与明細!DM185","v":0},{"$f":"給与明細!DX185","v":0},0,null,null,0]
[null,null,"住民税",null,{"$f":"給与明細!H185","v":0},{"$f":"給与明細!S185","v":0},{"$f":"給与明細!AD185","v":0},{"$f":"給与明細!AO185","v":0},{"$f":"給与明細!AZ185","v":0},{"$f":"給与明細!BK185","v":0},0,null,null,{"$f":"給与明細!BV185","v":0},{"$f":"給与明細!CG185","v":0},{"$f":"給与明細!CR185","v":0},{"$f":"給与明細!DC185","v":0},{"$f":"給与明細!DN185","v":0},{"$f":"給与明細!DY185","v":0},0,null,null,0]
[null,null,"その他",{"$f":"SUM(賞与明細!C187:I187)+SUM(賞与明細!N187:T187)","v":0},{"$f":"給与明細!J187-給与明細!J185-給与明細!G185-給与明細!H185","v":0},{"$f":"給与明細!U187-給与明細!U185-給与明細!R185-給与明細!S185","v":0},{"$f":"給与明細!AF187-給与明細!AF185-給与明細!AC185-給与明細!AD185","v":0},{"$f":"給与明細!AQ187-給与明細!AQ185-給与明細!AN185-給与明細!AO185","v":0},{"$f":"給与明細!BB187-給与明細!BB185-給与明細!AY185-給与明細!AZ185","v":0},{"$f":"給与明細!BM187-給与明細!BM185-給与明細!BJ185-給与明細!BK185","v":0},0,null,{"$f":"SUM(賞与明細!Y187:AE187)+SUM(賞与明細!AJ187:AP187)","v":0},{"$f":"給与明細!BX187-給与明細!BX185-給与明細!BU185-給与明細!BV185","v":0},{"$f":"給与明細!CI187-給与明細!CI185-給与明細!CF185-給与明細!CG185","v":0},{"$f":"給与明細!CT187-給与明細!CT185-給与明細!CQ185-給与明細!CR185","v":0},{"$f":"給与明細!DE187-給与明細!DE185-給与明細!DB185-給与明細!DC185","v":0},{"$f":"給与明細!DP187-給与明細!DP185-給与明細!DM185-給与明細!DN185","v":0},{"$f":"給与明細!EA187-給与明細!EA185-給与明細!DX185-給与明細!DY185","v":0},0,null,null,{"$f":"D68+K68+M68+T68-V66","v":0}]
[null,null,"支給額",{"$f":"D63+D64-D65-D66-D67-D68","v":0},0,0,0,0,0,0,0,null,{"$f":"M63+M64-M65-M66-M67-M68","v":0},0,0,0,0,0,0,0,null,null,{"$f":"D69+K69+M69+T69","v":0}]
[null,null,"給料手当",{"$f":"賞与明細!J203+賞与明細!U203","v":0},{"$f":"給与明細!J203-給与明細!G201","v":0},{"$f":"給与明細!U203-給与明細!R201","v":0},{"$f":"給与明細!AF203-給与明細!AC201","v":0},{"$f":"給与明細!AQ203-給与明細!AN201","v":0},{"$f":"給与明細!BB203-給与明細!AY201","v":0},{"$f":"給与明細!BM203-給与明細!BJ201","v":0},0,{"$f":"COUNTIF(E70:J70,\"<>0\")","v":0},{"$f":"賞与明細!AF203+賞与明細!AQ203","v":0},{"$f":"給与明細!BX203-給与明細!BU201","v":0},{"$f":"給与明細!CI203-給与明細!CF201","v":0},{"$f":"給与明細!CT203-給与明細!CQ201","v":0},{"$f":"給与明細!DE203-給与明細!DB201","v":0},{"$f":"給与明細!DP203-給与明細!DM201","v":0},{"$f":"給与明細!EA203-給与明細!DX201","v":0},0,{"$f":"COUNTIF(N70:S70,\"<>0\")","v":0},null,0]
[null,null,"交通費",null,{"$f":"給与明細!G201","v":0},{"$f":"給与明細!R201","v":0},{"$f":"給与明細!AC201","v":0},{"$f":"給与明細!AN201","v":0},{"$f":"給与明細!AY201","v":0},{"$f":"給与明細!BJ201","v":0},0,null,null,{"$f":"給与明細!BU201","v":0},{"$f":"給与明細!CF201","v":0},{"$f":"給与明細!CQ201","v":0},{"$f":"給与明細!DB201","v":0},{"$f":"給与明細!DM201","v":0},{"$f":"給与明細!DX201","v":0},0,null,null,0]
[null,null,"社会保険等",{"$f":"賞与明細!J206+賞与明細!U206","v":0},{"$f":"給与明細!J206","v":0},{"$f":"給与明細!U206","v":0},{"$f":"給与明細!AF206","v":0},{"$f":"給与明細!AQ206","v":0},{"$f":"給与明細!BB206","v":0},{"$f":"給与明細!BM206","v":0},{"$f":"SUM(E72:J72)","v":0},null,{"$f":"賞与明細!AF206+賞与明細!AQ206","v":0},{"$f":"給与明細!BX206","v":0},{"$f":"給与明細!CI206","v":0},{"$f":"給与明細!CT206","v":0},{"$f":"給与明細!DE206","v":0},{"$f":"給与明細!DP206","v":0},{"$f":"給与明細!EA206","v":0},{"$f":"SUM(N72:S72)","v":0},null,null,{"$f":"D72+K72+M72+T72+V72","v":0}]
[10,{"$f":"給与計算設定!B301","v":0},"源泉所得税",{"$f":"賞与明細!G206+賞与明細!R206","v":0},{"$f":"給与明細!G206","v":0},{"$f":"給与明細!R206","v":0},{"$f":"給与明細!AC206","v":0},{"$f":"給与明細!AN206","v":0},{"$f":"給与明細!AY206","v":0},{"$f":"給与明細!BJ206","v":0},0,null,{"$f":"賞与明細!AC206+賞与明細!AN206","v":0},{"$f":"給与明細!BU206","v":0},{"$f":"給与明細!CF206","v":0},{"$f":"給与明細!CQ206","v":0},{"$f":"給与明細!DB206","v":0},{"$f":"給与明細!DM206","v":0},{"$f":"給与明細!DX206","v":0},0,null,null,0]
[null,null,"住民税",null,{"$f":"給与明細!H206","v":0},{"$f":"給与明細!S206","v":0},{"$f":"給与明細!AD206","v":0},{"$f":"給与明細!AO206","v":0},{"$f":"給与明細!AZ206","v":0},{"$f":"給与明細!BK206","v":0},0,null,null,{"$f":"給与明細!BV206","v":0},{"$f":"給与明細!CG206","v":0},{"$f":"給与明細!CR206","v":0},{"$f":"給与明細!DC206","v":0},{"$f":"給与明細!DN206","v":0},{"$f":"給与明細!DY206","v":0},0,null,null,0]
[null,null,"その他",{"$f":"SUM(賞与明細!C208:I208)+SUM(賞与明細!N208:T208)","v":0},{"$f":"給与明細!J208-給与明細!J206-給与明細!G206-給与明細!H206","v":0},{"$f":"給与明細!U208-給与明細!U206-給与明細!R206-給与明細!S206","v":0},{"$f":"給与明細!AF208-給与明細!AF206-給与明細!AC206-給与明細!AD206","v":0},{"$f":"給与明細!AQ208-給与明細!AQ206-給与明細!AN206-給与明細!AO206","v":0},{"$f":"給与明細!BB208-給与明細!BB206-給与明細!AY206-給与明細!AZ206","v":0},{"$f":"給与明細!BM208-給与明細!BM206-給与明細!BJ206-給与明細!BK206","v":0},0,null,{"$f":"SUM(賞与明細!Y208:AE208)+SUM(賞与明細!AJ208:AP208)","v":0},{"$f":"給与明細!BX208-給与明細!BX206-給与明細!BU206-給与明細!BV206","v":0},{"$f":"給与明細!CI208-給与明細!CI206-給与明細!CF206-給与明細!CG206","v":0},{"$f":"給与明細!CT208-給与明細!CT206-給与明細!CQ206-給与明細!CR206","v":0},{"$f":"給与明細!DE208-給与明細!DE206-給与明細!DB206-給与明細!DC206","v":0},{"$f":"給与明細!DP208-給与明細!DP206-給与明細!DM206-給与明細!DN206","v":0},{"$f":"給与明細!EA208-給与明細!EA206-給与明細!DX206-給与明細!DY206","v":0},0,null,null,{"$f":"D75+K75+M75+T75-V73","v":0}]
[null,null,"支給額",{"$f":"D70+D71-D72-D73-D74-D75","v":0},0,0,0,0,0,0,0,null,{"$f":"M70+M71-M72-M73-M74-M75","v":0},0,0,0,0,0,0,0,null,null,{"$f":"D76+K76+M76+T76","v":0}]
[null,null,"給料手当",{"$f":"SUMIF($C$7:$C$76,$C$77,D7:D76)","v":0},0,0,0,0,0,0,0,{"$f":"SUM(L7:L76)","v":0},{"$f":"SUMIF($C$7:$C$76,$C$77,M7:M76)","v":0},{"$f":"SUMIF($C$7:$C$76,$C$77,N7:N76)","v":0},0,0,0,0,0,0,{"$f":"SUM(U7:U76)","v":0},{"$f":"SUMIF($C$7:$C$76,$C$77,V7:V76)","v":0},0]
[null,null,"交通費",{"$f":"SUMIF($C$7:$C$76,$C$78,D7:D76)","v":0},0,0,0,0,0,0,0,null,{"$f":"SUMIF($C$7:$C$76,$C$78,M7:M76)","v":0},{"$f":"SUMIF($C$7:$C$76,$C$78,N7:N76)","v":0},0,0,0,0,0,0,null,{"$f":"SUMIF($C$7:$C$76,$C$78,V7:V76)","v":0},0]
[null,null,"社会保険等",{"$f":"SUMIF($C$7:$C$76,$C$79,D7:D76)","v":0},0,0,0,0,0,0,0,null,{"$f":"SUMIF($C$7:$C$76,$C$79,M7:M76)","v":0},{"$f":"SUMIF($C$7:$C$76,$C$79,N7:N76)","v":0},0,0,0,0,0,0,null,{"$f":"SUMIF($C$7:$C$76,$C$79,V7:V76)","v":0},0]
[null,"合計","源泉所得税",{"$f":"SUMIF($C$7:$C$76,$C$80,D7:D76)","v":0},0,0,0,0,0,0,0,null,{"$f":"SUMIF($C$7:$C$76,$C$80,M7:M76)","v":0},{"$f":"SUMIF($C$7:$C$76,$C$80,N7:N76)","v":0},0,0,0,0,0,0,null,{"$f":"SUMIF($C$7:$C$76,$C$80,V7:V76)","v":0},0]
[null,null,"住民税",{"$f":"SUMIF($C$7:$C$76,$C$81,D7:D76)","v":0},0,0,0,0,0,0,0,null,{"$f":"SUMIF($C$7:$C$76,$C$81,M7:M76)","v":0},{"$f":"SUMIF($C$7:$C$76,$C$81,N7:N76)","v":0},0,0,0,0,0,0,null,{"$f":"SUMIF($C$7:$C$76,$C$81,V7:V76)","v":0},0]
[null,null,"その他",{"$f":"SUMIF($C$7:$C$76,$C$82,D7:D76)","v":0},0,0,0,0,0,0,0,null,{"$f":"SUMIF($C$7:$C$76,$C$82,M7:M76)","v":0},{"$f":"SUMIF($C$7:$C$76,$C$82,N7:N76)","v":0},0,0,0,0,0,0,null,{"$f":"SUMIF($C$7:$C$76,$C$82,V7:V76)","v":0},{"$f":"D82+K82+M82+T82-V80","v":0}]
[null,null,"支給額",{"$f":"SUMIF($C$7:$C$76,$C$83,D7:D76)","v":0},0,0,0,0,0,0,0,null,{"$f":"SUMIF($C$7:$C$76,$C$83,M7:M76)","v":0},{"$f":"SUMIF($C$7:$C$76,$C$83,N7:N76)","v":0},0,0,0,0,0,0,null,{"$f":"SUMIF($C$7:$C$76,$C$83,V7:V76)","v":0},{"$f":"D83+K83+M83+T83","v":0}]

{"sheet":"勤怠管理","index":3,"n_rows":123,"n_cols":15,"rows_kept":123,"cut":false,"hidden":false,"merged":[]}
[]
[{"$f":"給与台帳!A2","v":"年度　"}]
[]
["勤怠管理"]
[]
[1,{"$f":"給与計算設定!B4","v":0},"1月","2月","3月","4月","5月","6月","7月","8月","9月","10月","11月","12月","年間合計"]
[null,"出勤日数",{"$f":"給与明細!G9","v":0},{"$f":"給与明細!R9","v":0},{"$f":"給与明細!AC9","v":0},{"$f":"給与明細!AN9","v":0},{"$f":"給与明細!AY9","v":0},{"$f":"給与明細!BJ9","v":0},{"$f":"給与明細!BU9","v":0},{"$f":"給与明細!CF9","v":0},{"$f":"給与明細!CQ9","v":0},{"$f":"給与明細!DB9","v":0},{"$f":"給与明細!DM9","v":0},{"$f":"給与明細!DX9","v":0},{"$f":"SUM(C7:N7)","v":0}]
[null,"欠勤日数",{"$f":"給与明細!H9","v":0},{"$f":"給与明細!S9","v":0},{"$f":"給与明細!AD9","v":0},{"$f":"給与明細!AO9","v":0},{"$f":"給与明細!AZ9","v":0},{"$f":"給与明細!BK9","v":0},{"$f":"給与明細!BV9","v":0},{"$f":"給与明細!CG9","v":0},{"$f":"給与明細!CR9","v":0},{"$f":"給与明細!DC9","v":0},{"$f":"給与明細!DN9","v":0},{"$f":"給与明細!DY9","v":0},{"$f":"SUM(C8:N8)","v":0}]
[null,"有休日数",{"$f":"給与明細!I9","v":0},{"$f":"給与明細!T9","v":0},{"$f":"給与明細!AE9","v":0},{"$f":"給与明細!AP9","v":0},{"$f":"給与明細!BA9","v":0},{"$f":"給与明細!BL9","v":0},{"$f":"給与明細!BW9","v":0},{"$f":"給与明細!CH9","v":0},{"$f":"給与明細!CS9","v":0},{"$f":"給与明細!DD9","v":0},{"$f":"給与明細!DO9","v":0},{"$f":"給与明細!DZ9","v":0},{"$f":"SUM(C9:N9)","v":0}]
[null,"有休残日数",{"$f":"給与明細!J9","v":0},{"$f":"給与明細!U9","v":0},{"$f":"給与明細!AF9","v":0},{"$f":"給与明細!AQ9","v":0},{"$f":"給与明細!BB9","v":0},{"$f":"給与明細!BM9","v":0},{"$f":"給与明細!BX9","v":0},{"$f":"給与明細!CI9","v":0},{"$f":"給与明細!CT9","v":0},{"$f":"給与明細!DE9","v":0},{"$f":"給与明細!DP9","v":0},{"$f":"給与明細!EA9","v":0},"-"]
[]
[null,"労働時間",{"$f":"給与明細!C9","v":0},{"$f":"給与明細!N9","v":0},{"$f":"給与明細!Y9","v":0},{"$f":"給与明細!AJ9","v":0},{"$f":"給与明細!AU9","v":0},{"$f":"給与明細!BF9","v":0},{"$f":"給与明細!BQ9","v":0},{"$f":"給与明細!CB9","v":0},{"$f":"給与明細!CM9","v":0},{"$f":"給与明細!CX9","v":0},{"$f":"給与明細!DI9","v":0},{"$f":"給与明細!DT9","v":0},{"$f":"SUM(C12:N12)","v":0}]
[null,"普通残業時間",{"$f":"給与明細!D9","v":0},{"$f":"給与明細!O9","v":0},{"$f":"給与明細!Z9","v":0},{"$f":"給与明細!AK9","v":0},{"$f":"給与明細!AV9","v":0},{"$f":"給与明細!BG9","v":0},{"$f":"給与明細!BR9","v":0},{"$f":"給与明細!CC9","v":0},{"$f":"給与明細!CN9","v":0},{"$f":"給与明細!CY9","v":0},{"$f":"給与明細!DJ9","v":0},{"$f":"給与明細!DU9","v":0},0]
[null,"深夜労働時間",{"$f":"給与明細!E9","v":0},{"$f":"給与明細!P9","v":0},{"$f":"給与明細!AA9","v":0},{"$f":"給与明細!AL9","v":0},{"$f":"給与明細!AW9","v":0},{"$f":"給与明細!BH9","v":0},{"$f":"給与明細!BS9","v":0},{"$f":"給与明細!CD9","v":0},{"$f":"給与明細!CO9","v":0},{"$f":"給与明細!CZ9","v":0},{"$f":"給与明細!DK9","v":0},{"$f":"給与明細!DV9","v":0},0]
[null,"休日労働時間",{"$f":"給与明細!F9","v":0},{"$f":"給与明細!Q9","v":0},{"$f":"給与明細!AB9","v":0},{"$f":"給与明細!AM9","v":0},{"$f":"給与明細!AX9","v":0},{"$f":"給与明細!BI9","v":0},{"$f":"給与明細!BT9","v":0},{"$f":"給与明細!CE9","v":0},{"$f":"給与明細!CP9","v":0},{"$f":"給与明細!DA9","v":0},{"$f":"給与明細!DL9","v":0},{"$f":"給与明細!DW9","v":0},{"$f":"SUM(C15:N15)","v":0}]
[]
[]
[2,{"$f":"給与計算設定!B37","v":0},"1月","2月","3月","4月","5月","6月","7月","8月","9月","10月","11月","12月","年間合計"]
[null,"出勤日数",{"$f":"給与明細!G30","v":0},{"$f":"給与明細!R30","v":0},{"$f":"給与明細!AC30","v":0},{"$f":"給与明細!AN30","v":0},{"$f":"給与明細!AY30","v":0},{"$f":"給与明細!BJ30","v":0},{"$f":"給与明細!BU30","v":0},{"$f":"給与明細!CF30","v":0},{"$f":"給与明細!CQ30","v":0},{"$f":"給与明細!DB30","v":0},{"$f":"給与明細!DM30","v":0},{"$f":"給与明細!DX30","v":0},{"$f":"SUM(C19:N19)","v":0}]
[null,"欠勤日数",{"$f":"給与明細!H30","v":0},{"$f":"給与明細!S30","v":0},{"$f":"給与明細!AD30","v":0},{"$f":"給与明細!AO30","v":0},{"$f":"給与明細!AZ30","v":0},{"$f":"給与明細!BK30","v":0},{"$f":"給与明細!BV30","v":0},{"$f":"給与明細!CG30","v":0},{"$f":"給与明細!CR30","v":0},{"$f":"給与明細!DC30","v":0},{"$f":"給与明細!DN30","v":0},{"$f":"給与明細!DY30","v":0},{"$f":"SUM(C20:N20)","v":0}]
[null,"有休日数",{"$f":"給与明細!I30","v":0},{"$f":"給与明細!T30","v":0},{"$f":"給与明細!AE30","v":0},{"$f":"給与明細!AP30","v":0},{"$f":"給与明細!BA30","v":0},{"$f":"給与明細!BL30","v":0},{"$f":"給与明細!BW30","v":0},{"$f":"給与明細!CH30","v":0},{"$f":"給与明細!CS30","v":0},{"$f":"給与明細!DD30","v":0},{"$f":"給与明細!DO30","v":0},{"$f":"給与明細!DZ30","v":0},0]
[null,"有休残日数",{"$f":"給与明細!J30","v":0},{"$f":"給与明細!U30","v":0},{"$f":"給与明細!AF30","v":0},{"$f":"給与明細!AQ30","v":0},{"$f":"給与明細!BB30","v":0},{"$f":"給与明細!BM30","v":0},{"$f":"給与明細!BX30","v":0},{"$f":"給与明細!CI30","v":0},{"$f":"給与明細!CT30","v":0},{"$f":"給与明細!DE30","v":0},{"$f":"給与明細!DP30","v":0},{"$f":"給与明細!EA30","v":0},"-"]
[]
[null,"労働時間",{"$f":"給与明細!C30","v":0},{"$f":"給与明細!N30","v":0},{"$f":"給与明細!Y30","v":0},{"$f":"給与明細!AJ30","v":0},{"$f":"給与明細!AU30","v":0},{"$f":"給与明細!BF30","v":0},{"$f":"給与明細!BQ30","v":0},{"$f":"給与明細!CB30","v":0},{"$f":"給与明細!CM30","v":0},{"$f":"給与明細!CX30","v":0},{"$f":"給与明細!DI30","v":0},{"$f":"給与明細!DT30","v":0},0]
[null,"普通残業時間",{"$f":"給与明細!D30","v":0},{"$f":"給与明細!O30","v":0},{"$f":"給与明細!Z30","v":0},{"$f":"給与明細!AK30","v":0},{"$f":"給与明細!AV30","v":0},{"$f":"給与明細!BG30","v":0},{"$f":"給与明細!BR30","v":0},{"$f":"給与明細!CC30","v":0},{"$f":"給与明細!CN30","v":0},{"$f":"給与明細!CY30","v":0},{"$f":"給与明細!DJ30","v":0},{"$f":"給与明細!DU30","v":0},0]
[null,"深夜労働時間",{"$f":"給与明細!E30","v":0},{"$f":"給与明細!P30","v":0},{"$f":"給与明細!AA30","v":0},{"$f":"給与明細!AL30","v":0},{"$f":"給与明細!AW30","v":0},{"$f":"給与明細!BH30","v":0},{"$f":"給与明細!BS30","v":0},{"$f":"給与明細!CD30","v":0},{"$f":"給与明細!CO30","v":0},{"$f":"給与明細!CZ30","v":0},{"$f":"給与明細!DK30","v":0},{"$f":"給与明細!DV30","v":0},0]
[null,"休日労働時間",{"$f":"給与明細!F30","v":0},{"$f":"給与明細!Q30","v":0},{"$f":"給与明細!AB30","v":0},{"$f":"給与明細!AM30","v":0},{"$f":"給与明細!AX30","v":0},{"$f":"給与明細!BI30","v":0},{"$f":"給与明細!BT30","v":0},{"$f":"給与明細!CE30","v":0},{"$f":"給与明細!CP30","v":0},{"$f":"給与明細!DA30","v":0},{"$f":"給与明細!DL30","v":0},{"$f":"給与明細!DW30","v":0},0]
[]
[]
[3,{"$f":"給与計算設定!B70","v":0},"1月","2月","3月","4月","5月","6月","7月","8月","9月","10月","11月","12月","年間合計"]
[null,"出勤日数",{"$f":"給与明細!G51","v":0},{"$f":"給与明細!R51","v":0},{"$f":"給与明細!AC51","v":0},{"$f":"給与明細!AN51","v":0},{"$f":"給与明細!AY51","v":0},{"$f":"給与明細!BJ51","v":0},{"$f":"給与明細!BU51","v":0},{"$f":"給与明細!CF51","v":0},{"$f":"給与明細!CQ51","v":0},{"$f":"給与明細!DB51","v":0},{"$f":"給与明細!DM51","v":0},{"$f":"給与明細!DX51","v":0},{"$f":"SUM(C31:N31)","v":0}]
[null,"欠勤日数",{"$f":"給与明細!H51","v":0},{"$f":"給与明細!S51","v":0},{"$f":"給与明細!AD51","v":0},{"$f":"給与明細!AO51","v":0},{"$f":"給与明細!AZ51","v":0},{"$f":"給与明細!BK51","v":0},{"$f":"給与明細!BV51","v":0},{"$f":"給与明細!CG51","v":0},{"$f":"給与明細!CR51","v":0},{"$f":"給与明細!DC51","v":0},{"$f":"給与明細!DN51","v":0},{"$f":"給与明細!DY51","v":0},{"$f":"SUM(C32:N32)","v":0}]
[null,"有休日数",{"$f":"給与明細!I51","v":0},{"$f":"給与明細!T51","v":0},{"$f":"給与明細!AE51","v":0},{"$f":"給与明細!AP51","v":0},{"$f":"給与明細!BA51","v":0},{"$f":"給与明細!BL51","v":0},{"$f":"給与明細!BW51","v":0},{"$f":"給与明細!CH51","v":0},{"$f":"給与明細!CS51","v":0},{"$f":"給与明細!DD51","v":0},{"$f":"給与明細!DO51","v":0},{"$f":"給与明細!DZ51","v":0},0]
[null,"有休残日数",{"$f":"給与明細!J51","v":0},{"$f":"給与明細!U51","v":0},{"$f":"給与明細!AF51","v":0},{"$f":"給与明細!AQ51","v":0},{"$f":"給与明細!BB51","v":0},{"$f":"給与明細!BM51","v":0},{"$f":"給与明細!BX51","v":0},{"$f":"給与明細!CI51","v":0},{"$f":"給与明細!CT51","v":0},{"$f":"給与明細!DE51","v":0},{"$f":"給与明細!DP51","v":0},{"$f":"給与明細!EA51","v":0},"-"]
[]
[null,"労働時間",{"$f":"給与明細!C51","v":0},{"$f":"給与明細!N51","v":0},{"$f":"給与明細!Y51","v":0},{"$f":"給与明細!AJ51","v":0},{"$f":"給与明細!AU51","v":0},{"$f":"給与明細!BF51","v":0},{"$f":"給与明細!BQ51","v":0},{"$f":"給与明細!CB51","v":0},{"$f":"給与明細!CM51","v":0},{"$f":"給与明細!CX51","v":0},{"$f":"給与明細!DI51","v":0},{"$f":"給与明細!DT51","v":0},0]
[null,"普通残業時間",{"$f":"給与明細!D51","v":0},{"$f":"給与明細!O51","v":0},{"$f":"給与明細!Z51","v":0},{"$f":"給与明細!AK51","v":0},{"$f":"給与明細!AV51","v":0},{"$f":"給与明細!BG51","v":0},{"$f":"給与明細!BR51","v":0},{"$f":"給与明細!CC51","v":0},{"$f":"給与明細!CN51","v":0},{"$f":"給与明細!CY51","v":0},{"$f":"給与明細!DJ51","v":0},{"$f":"給与明細!DU51","v":0},0]
[null,"深夜労働時間",{"$f":"給与明細!E51","v":0},{"$f":"給与明細!P51","v":0},{"$f":"給与明細!AA51","v":0},{"$f":"給与明細!AL51","v":0},{"$f":"給与明細!AW51","v":0},{"$f":"給与明細!BH51","v":0},{"$f":"給与明細!BS51","v":0},{"$f":"給与明細!CD51","v":0},{"$f":"給与明細!CO51","v":0},{"$f":"給与明細!CZ51","v":0},{"$f":"給与明細!DK51","v":0},{"$f":"給与明細!DV51","v":0},0]
[null,"休日労働時間",{"$f":"給与明細!F51","v":0},{"$f":"給与明細!Q51","v":0},{"$f":"給与明細!AB51","v":0},{"$f":"給与明細!AM51","v":0},{"$f":"給与明細!AX51","v":0},{"$f":"給与明細!BI51","v":0},{"$f":"給与明細!BT51","v":0},{"$f":"給与明細!CE51","v":0},{"$f":"給与明細!CP51","v":0},{"$f":"給与明細!DA51","v":0},{"$f":"給与明細!DL51","v":0},{"$f":"給与明細!DW51","v":0},0]
[]
[]
[4,{"$f":"給与計算設定!B103","v":0},"1月","2月","3月","4月","5月","6月","7月","8月","9月","10月","11月","12月","年間合計"]
[null,"出勤日数",{"$f":"給与明細!G72","v":0},{"$f":"給与明細!R72","v":0},{"$f":"給与明細!AC72","v":0},{"$f":"給与明細!AN72","v":0},{"$f":"給与明細!AY72","v":0},{"$f":"給与明細!BJ72","v":0},{"$f":"給与明細!BU72","v":0},{"$f":"給与明細!CF72","v":0},{"$f":"給与明細!CQ72","v":0},{"$f":"給与明細!DB72","v":0},{"$f":"給与明細!DM72","v":0},{"$f":"給与明細!DX72","v":0},{"$f":"SUM(C43:N43)","v":0}]
[null,"欠勤日数",{"$f":"給与明細!H72","v":0},{"$f":"給与明細!S72","v":0},{"$f":"給与明細!AD72","v":0},{"$f":"給与明細!AO72","v":0},{"$f":"給与明細!AZ72","v":0},{"$f":"給与明細!BK72","v":0},{"$f":"給与明細!BV72","v":0},{"$f":"給与明細!CG72","v":0},{"$f":"給与明細!CR72","v":0},{"$f":"給与明細!DC72","v":0},{"$f":"給与明細!DN72","v":0},{"$f":"給与明細!DY72","v":0},{"$f":"SUM(C44:N44)","v":0}]
[null,"有休日数",{"$f":"給与明細!I72","v":0},{"$f":"給与明細!T72","v":0},{"$f":"給与明細!AE72","v":0},{"$f":"給与明細!AP72","v":0},{"$f":"給与明細!BA72","v":0},{"$f":"給与明細!BL72","v":0},{"$f":"給与明細!BW72","v":0},{"$f":"給与明細!CH72","v":0},{"$f":"給与明細!CS72","v":0},{"$f":"給与明細!DD72","v":0},{"$f":"給与明細!DO72","v":0},{"$f":"給与明細!DZ72","v":0},0]
[null,"有休残日数",{"$f":"給与明細!J72","v":0},{"$f":"給与明細!U72","v":0},{"$f":"給与明細!AF72","v":0},{"$f":"給与明細!AQ72","v":0},{"$f":"給与明細!BB72","v":0},{"$f":"給与明細!BM72","v":0},{"$f":"給与明細!BX72","v":0},{"$f":"給与明細!CI72","v":0},{"$f":"給与明細!CT72","v":0},{"$f":"給与明細!DE72","v":0},{"$f":"給与明細!DP72","v":0},{"$f":"給与明細!EA72","v":0},"-"]
[]
[null,"労働時間",{"$f":"給与明細!C72","v":0},{"$f":"給与明細!N72","v":0},{"$f":"給与明細!Y72","v":0},{"$f":"給与明細!AJ72","v":0},{"$f":"給与明細!AU72","v":0},{"$f":"給与明細!BF72","v":0},{"$f":"給与明細!BQ72","v":0},{"$f":"給与明細!CB72","v":0},{"$f":"給与明細!CM72","v":0},{"$f":"給与明細!CX72","v":0},{"$f":"給与明細!DI72","v":0},{"$f":"給与明細!DT72","v":0},0]
[null,"普通残業時間",{"$f":"給与明細!D72","v":0},{"$f":"給与明細!O72","v":0},{"$f":"給与明細!Z72","v":0},{"$f":"給与明細!AK72","v":0},{"$f":"給与明細!AV72","v":0},{"$f":"給与明細!BG72","v":0},{"$f":"給与明細!BR72","v":0},{"$f":"給与明細!CC72","v":0},{"$f":"給与明細!CN72","v":0},{"$f":"給与明細!CY72","v":0},{"$f":"給与明細!DJ72","v":0},{"$f":"給与明細!DU72","v":0},0]
[null,"深夜労働時間",{"$f":"給与明細!E72","v":0},{"$f":"給与明細!P72","v":0},{"$f":"給与明細!AA72","v":0},{"$f":"給与明細!AL72","v":0},{"$f":"給与明細!AW72","v":0},{"$f":"給与明細!BH72","v":0},{"$f":"給与明細!BS72","v":0},{"$f":"給与明細!CD72","v":0},{"$f":"給与明細!CO72","v":0},{"$f":"給与明細!CZ72","v":0},{"$f":"給与明細!DK72","v":0},{"$f":"給与明細!DV72","v":0},0]
[null,"休日労働時間",{"$f":"給与明細!F72","v":0},{"$f":"給与明細!Q72","v":0},{"$f":"給与明細!AB72","v":0},{"$f":"給与明細!AM72","v":0},{"$f":"給与明細!AX72","v":0},{"$f":"給与明細!BI72","v":0},{"$f":"給与明細!BT72","v":0},{"$f":"給与明細!CE72","v":0},{"$f":"給与明細!CP72","v":0},{"$f":"給与明細!DA72","v":0},{"$f":"給与明細!DL72","v":0},{"$f":"給与明細!DW72","v":0},0]
[]
[]
[5,{"$f":"給与計算設定!B136","v":0},"1月","2月","3月","4月","5月","6月","7月","8月","9月","10月","11月","12月","年間合計"]
[null,"出勤日数",{"$f":"給与明細!G93","v":0},{"$f":"給与明細!R93","v":0},{"$f":"給与明細!AC93","v":0},{"$f":"給与明細!AN93","v":0},{"$f":"給与明細!AY93","v":0},{"$f":"給与明細!BJ93","v":0},{"$f":"給与明細!BU93","v":0},{"$f":"給与明細!CF93","v":0},{"$f":"給与明細!CQ93","v":0},{"$f":"給与明細!DB93","v":0},{"$f":"給与明細!DM93","v":0},{"$f":"給与明細!DX93","v":0},{"$f":"SUM(C55:N55)","v":0}]
[null,"欠勤日数",{"$f":"給与明細!H93","v":0},{"$f":"給与明細!S93","v":0},{"$f":"給与明細!AD93","v":0},{"$f":"給与明細!AO93","v":0},{"$f":"給与明細!AZ93","v":0},{"$f":"給与明細!BK93","v":0},{"$f":"給与明細!BV93","v":0},{"$f":"給与明細!CG93","v":0},{"$f":"給与明細!CR93","v":0},{"$f":"給与明細!DC93","v":0},{"$f":"給与明細!DN93","v":0},{"$f":"給与明細!DY93","v":0},{"$f":"SUM(C56:N56)","v":0}]
[null,"有休日数",{"$f":"給与明細!I93","v":0},{"$f":"給与明細!T93","v":0},{"$f":"給与明細!AE93","v":0},{"$f":"給与明細!AP93","v":0},{"$f":"給与明細!BA93","v":0},{"$f":"給与明細!BL93","v":0},{"$f":"給与明細!BW93","v":0},{"$f":"給与明細!CH93","v":0},{"$f":"給与明細!CS93","v":0},{"$f":"給与明細!DD93","v":0},{"$f":"給与明細!DO93","v":0},{"$f":"給与明細!DZ93","v":0},0]
[null,"有休残日数",{"$f":"給与明細!J93","v":0},{"$f":"給与明細!U93","v":0},{"$f":"給与明細!AF93","v":0},{"$f":"給与明細!AQ93","v":0},{"$f":"給与明細!BB93","v":0},{"$f":"給与明細!BM93","v":0},{"$f":"給与明細!BX93","v":0},{"$f":"給与明細!CI93","v":0},{"$f":"給与明細!CT93","v":0},{"$f":"給与明細!DE93","v":0},{"$f":"給与明細!DP93","v":0},{"$f":"給与明細!EA93","v":0},"-"]
[]
[null,"労働時間",{"$f":"給与明細!C93","v":0},{"$f":"給与明細!N93","v":0},{"$f":"給与明細!Y93","v":0},{"$f":"給与明細!AJ93","v":0},{"$f":"給与明細!AU93","v":0},{"$f":"給与明細!BF93","v":0},{"$f":"給与明細!BQ93","v":0},{"$f":"給与明細!CB93","v":0},{"$f":"給与明細!CM93","v":0},{"$f":"給与明細!CX93","v":0},{"$f":"給与明細!DI93","v":0},{"$f":"給与明細!DT93","v":0},0]
[null,"普通残業時間",{"$f":"給与明細!D93","v":0},{"$f":"給与明細!O93","v":0},{"$f":"給与明細!Z93","v":0},{"$f":"給与明細!AK93","v":0},{"$f":"給与明細!AV93","v":0},{"$f":"給与明細!BG93","v":0},{"$f":"給与明細!BR93","v":0},{"$f":"給与明細!CC93","v":0},{"$f":"給与明細!CN93","v":0},{"$f":"給与明細!CY93","v":0},{"$f":"給与明細!DJ93","v":0},{"$f":"給与明細!DU93","v":0},0]
[null,"深夜労働時間",{"$f":"給与明細!E93","v":0},{"$f":"給与明細!P93","v":0},{"$f":"給与明細!AA93","v":0},{"$f":"給与明細!AL93","v":0},{"$f":"給与明細!AW93","v":0},{"$f":"給与明細!BH93","v":0},{"$f":"給与明細!BS93","v":0},{"$f":"給与明細!CD93","v":0},{"$f":"給与明細!CO93","v":0},{"$f":"給与明細!CZ93","v":0},{"$f":"給与明細!DK93","v":0},{"$f":"給与明細!DV93","v":0},0]
[null,"休日労働時間",{"$f":"給与明細!F93","v":0},{"$f":"給与明細!Q93","v":0},{"$f":"給与明細!AB93","v":0},{"$f":"給与明細!AM93","v":0},{"$f":"給与明細!AX93","v":0},{"$f":"給与明細!BI93","v":0},{"$f":"給与明細!BT93","v":0},{"$f":"給与明細!CE93","v":0},{"$f":"給与明細!CP93","v":0},{"$f":"給与明細!DA93","v":0},{"$f":"給与明細!DL93","v":0},{"$f":"給与明細!DW93","v":0},0]
[]
[]
[6,{"$f":"給与計算設定!B169","v":0},"1月","2月","3月","4月","5月","6月","7月","8月","9月","10月","11月","12月","年間合計"]
[null,"出勤日数",{"$f":"給与明細!G114","v":0},{"$f":"給与明細!R114","v":0},{"$f":"給与明細!AC114","v":0},{"$f":"給与明細!AN114","v":0},{"$f":"給与明細!AY114","v":0},{"$f":"給与明細!BJ114","v":0},{"$f":"給与明細!BU114","v":0},{"$f":"給与明細!CF114","v":0},{"$f":"給与明細!CQ114","v":0},{"$f":"給与明細!DB114","v":0},{"$f":"給与明細!DM114","v":0},{"$f":"給与明細!DX114","v":0},{"$f":"SUM(C67:N67)","v":0}]
[null,"欠勤日数",{"$f":"給与明細!H114","v":0},{"$f":"給与明細!S114","v":0},{"$f":"給与明細!AD114","v":0},{"$f":"給与明細!AO114","v":0},{"$f":"給与明細!AZ114","v":0},{"$f":"給与明細!BK114","v":0},{"$f":"給与明細!BV114","v":0},{"$f":"給与明細!CG114","v":0},{"$f":"給与明細!CR114","v":0},{"$f":"給与明細!DC114","v":0},{"$f":"給与明細!DN114","v":0},{"$f":"給与明細!DY114","v":0},{"$f":"SUM(C68:N68)","v":0}]
[null,"有休日数",{"$f":"給与明細!I114","v":0},{"$f":"給与明細!T114","v":0},{"$f":"給与明細!AE114","v":0},{"$f":"給与明細!AP114","v":0},{"$f":"給与明細!BA114","v":0},{"$f":"給与明細!BL114","v":0},{"$f":"給与明細!BW114","v":0},{"$f":"給与明細!CH114","v":0},{"$f":"給与明細!CS114","v":0},{"$f":"給与明細!DD114","v":0},{"$f":"給与明細!DO114","v":0},{"$f":"給与明細!DZ114","v":0},0]
[null,"有休残日数",{"$f":"給与明細!J114","v":0},{"$f":"給与明細!U114","v":0},{"$f":"給与明細!AF114","v":0},{"$f":"給与明細!AQ114","v":0},{"$f":"給与明細!BB114","v":0},{"$f":"給与明細!BM114","v":0},{"$f":"給与明細!BX114","v":0},{"$f":"給与明細!CI114","v":0},{"$f":"給与明細!CT114","v":0},{"$f":"給与明細!DE114","v":0},{"$f":"給与明細!DP114","v":0},{"$f":"給与明細!EA114","v":0},"-"]
[]
[null,"労働時間",{"$f":"給与明細!C114","v":0},{"$f":"給与明細!N114","v":0},{"$f":"給与明細!Y114","v":0},{"$f":"給与明細!AJ114","v":0},{"$f":"給与明細!AU114","v":0},{"$f":"給与明細!BF114","v":0},{"$f":"給与明細!BQ114","v":0},{"$f":"給与明細!CB114","v":0},{"$f":"給与明細!CM114","v":0},{"$f":"給与明細!CX114","v":0},{"$f":"給与明細!DI114","v":0},{"$f":"給与明細!DT114","v":0},0]
[null,"普通残業時間",{"$f":"給与明細!D114","v":0},{"$f":"給与明細!O114","v":0},{"$f":"給与明細!Z114","v":0},{"$f":"給与明細!AK114","v":0},{"$f":"給与明細!AV114","v":0},{"$f":"給与明細!BG114","v":0},{"$f":"給与明細!BR114","v":0},{"$f":"給与明細!CC114","v":0},{"$f":"給与明細!CN114","v":0},{"$f":"給与明細!CY114","v":0},{"$f":"給与明細!DJ114","v":0},{"$f":"給与明細!DU114","v":0},0]
[null,"深夜労働時間",{"$f":"給与明細!E114","v":0},{"$f":"給与明細!P114","v":0},{"$f":"給与明細!AA114","v":0},{"$f":"給与明細!AL114","v":0},{"$f":"給与明細!AW114","v":0},{"$f":"給与明細!BH114","v":0},{"$f":"給与明細!BS114","v":0},{"$f":"給与明細!CD114","v":0},{"$f":"給与明細!CO114","v":0},{"$f":"給与明細!CZ114","v":0},{"$f":"給与明細!DK114","v":0},{"$f":"給与明細!DV114","v":0},0]
[null,"休日労働時間",{"$f":"給与明細!F114","v":0},{"$f":"給与明細!Q114","v":0},{"$f":"給与明細!AB114","v":0},{"$f":"給与明細!AM114","v":0},{"$f":"給与明細!AX114","v":0},{"$f":"給与明細!BI114","v":0},{"$f":"給与明細!BT114","v":0},{"$f":"給与明細!CE114","v":0},{"$f":"給与明細!CP114","v":0},{"$f":"給与明細!DA114","v":0},{"$f":"給与明細!DL114","v":0},{"$f":"給与明細!DW114","v":0},0]
[]
[]
[7,{"$f":"給与計算設定!B202","v":0},"1月","2月","3月","4月","5月","6月","7月","8月","9月","10月","11月","12月","年間合計"]
[null,"出勤日数",{"$f":"給与明細!G135","v":0},{"$f":"給与明細!R135","v":0},{"$f":"給与明細!AC135","v":0},{"$f":"給与明細!AN135","v":0},{"$f":"給与明細!AY135","v":0},{"$f":"給与明細!BJ135","v":0},{"$f":"給与明細!BU135","v":0},{"$f":"給与明細!CF135","v":0},{"$f":"給与明細!CQ135","v":0},{"$f":"給与明細!DB135","v":0},{"$f":"給与明細!DM135","v":0},{"$f":"給与明細!DX135","v":0},{"$f":"SUM(C79:N79)","v":0}]
[null,"欠勤日数",{"$f":"給与明細!H135","v":0},{"$f":"給与明細!S135","v":0},{"$f":"給与明細!AD135","v":0},{"$f":"給与明細!AO135","v":0},{"$f":"給与明細!AZ135","v":0},{"$f":"給与明細!BK135","v":0},{"$f":"給与明細!BV135","v":0},{"$f":"給与明細!CG135","v":0},{"$f":"給与明細!CR135","v":0},{"$f":"給与明細!DC135","v":0},{"$f":"給与明細!DN135","v":0},{"$f":"給与明細!DY135","v":0},{"$f":"SUM(C80:N80)","v":0}]
[null,"有休日数",{"$f":"給与明細!I135","v":0},{"$f":"給与明細!T135","v":0},{"$f":"給与明細!AE135","v":0},{"$f":"給与明細!AP135","v":0},{"$f":"給与明細!BA135","v":0},{"$f":"給与明細!BL135","v":0},{"$f":"給与明細!BW135","v":0},{"$f":"給与明細!CH135","v":0},{"$f":"給与明細!CS135","v":0},{"$f":"給与明細!DD135","v":0},{"$f":"給与明細!DO135","v":0},{"$f":"給与明細!DZ135","v":0},0]
[null,"有休残日数",{"$f":"給与明細!J135","v":0},{"$f":"給与明細!U135","v":0},{"$f":"給与明細!AF135","v":0},{"$f":"給与明細!AQ135","v":0},{"$f":"給与明細!BB135","v":0},{"$f":"給与明細!BM135","v":0},{"$f":"給与明細!BX135","v":0},{"$f":"給与明細!CI135","v":0},{"$f":"給与明細!CT135","v":0},{"$f":"給与明細!DE135","v":0},{"$f":"給与明細!DP135","v":0},{"$f":"給与明細!EA135","v":0},"-"]
[]
[null,"労働時間",{"$f":"給与明細!C135","v":0},{"$f":"給与明細!N135","v":0},{"$f":"給与明細!Y135","v":0},{"$f":"給与明細!AJ135","v":0},{"$f":"給与明細!AU135","v":0},{"$f":"給与明細!BF135","v":0},{"$f":"給与明細!BQ135","v":0},{"$f":"給与明細!CB135","v":0},{"$f":"給与明細!CM135","v":0},{"$f":"給与明細!CX135","v":0},{"$f":"給与明細!DI135","v":0},{"$f":"給与明細!DT135","v":0},0]
[null,"普通残業時間",{"$f":"給与明細!D135","v":0},{"$f":"給与明細!O135","v":0},{"$f":"給与明細!Z135","v":0},{"$f":"給与明細!AK135","v":0},{"$f":"給与明細!AV135","v":0},{"$f":"給与明細!BG135","v":0},{"$f":"給与明細!BR135","v":0},{"$f":"給与明細!CC135","v":0},{"$f":"給与明細!CN135","v":0},{"$f":"給与明細!CY135","v":0},{"$f":"給与明細!DJ135","v":0},{"$f":"給与明細!DU135","v":0},0]
[null,"深夜労働時間",{"$f":"給与明細!E135","v":0},{"$f":"給与明細!P135","v":0},{"$f":"給与明細!AA135","v":0},{"$f":"給与明細!AL135","v":0},{"$f":"給与明細!AW135","v":0},{"$f":"給与明細!BH135","v":0},{"$f":"給与明細!BS135","v":0},{"$f":"給与明細!CD135","v":0},{"$f":"給与明細!CO135","v":0},{"$f":"給与明細!CZ135","v":0},{"$f":"給与明細!DK135","v":0},{"$f":"給与明細!DV135","v":0},0]
[null,"休日労働時間",{"$f":"給与明細!F135","v":0},{"$f":"給与明細!Q135","v":0},{"$f":"給与明細!AB135","v":0},{"$f":"給与明細!AM135","v":0},{"$f":"給与明細!AX135","v":0},{"$f":"給与明細!BI135","v":0},{"$f":"給与明細!BT135","v":0},{"$f":"給与明細!CE135","v":0},{"$f":"給与明細!CP135","v":0},{"$f":"給与明細!DA135","v":0},{"$f":"給与明細!DL135","v":0},{"$f":"給与明細!DW135","v":0},0]
[]
[]
[8,{"$f":"給与計算設定!B235","v":0},"1月","2月","3月","4月","5月","6月","7月","8月","9月","10月","11月","12月","年間合計"]
[null,"出勤日数",{"$f":"給与明細!G156","v":0},{"$f":"給与明細!R156","v":0},{"$f":"給与明細!AC156","v":0},{"$f":"給与明細!AN156","v":0},{"$f":"給与明細!AY156","v":0},{"$f":"給与明細!BJ156","v":0},{"$f":"給与明細!BU156","v":0},{"$f":"給与明細!CF156","v":0},{"$f":"給与明細!CQ156","v":0},{"$f":"給与明細!DB156","v":0},{"$f":"給与明細!DM156","v":0},{"$f":"給与明細!DX156","v":0},{"$f":"SUM(C91:N91)","v":0}]
[null,"欠勤日数",{"$f":"給与明細!H156","v":0},{"$f":"給与明細!S156","v":0},{"$f":"給与明細!AD156","v":0},{"$f":"給与明細!AO156","v":0},{"$f":"給与明細!AZ156","v":0},{"$f":"給与明細!BK156","v":0},{"$f":"給与明細!BV156","v":0},{"$f":"給与明細!CG156","v":0},{"$f":"給与明細!CR156","v":0},{"$f":"給与明細!DC156","v":0},{"$f":"給与明細!DN156","v":0},{"$f":"給与明細!DY156","v":0},{"$f":"SUM(C92:N92)","v":0}]
[null,"有休日数",{"$f":"給与明細!I156","v":0},{"$f":"給与明細!T156","v":0},{"$f":"給与明細!AE156","v":0},{"$f":"給与明細!AP156","v":0},{"$f":"給与明細!BA156","v":0},{"$f":"給与明細!BL156","v":0},{"$f":"給与明細!BW156","v":0},{"$f":"給与明細!CH156","v":0},{"$f":"給与明細!CS156","v":0},{"$f":"給与明細!DD156","v":0},{"$f":"給与明細!DO156","v":0},{"$f":"給与明細!DZ156","v":0},0]
[null,"有休残日数",{"$f":"給与明細!J156","v":0},{"$f":"給与明細!U156","v":0},{"$f":"給与明細!AF156","v":0},{"$f":"給与明細!AQ156","v":0},{"$f":"給与明細!BB156","v":0},{"$f":"給与明細!BM156","v":0},{"$f":"給与明細!BX156","v":0},{"$f":"給与明細!CI156","v":0},{"$f":"給与明細!CT156","v":0},{"$f":"給与明細!DE156","v":0},{"$f":"給与明細!DP156","v":0},{"$f":"給与明細!EA156","v":0},"-"]
[]
[null,"労働時間",{"$f":"給与明細!C156","v":0},{"$f":"給与明細!N156","v":0},{"$f":"給与明細!Y156","v":0},{"$f":"給与明細!AJ156","v":0},{"$f":"給与明細!AU156","v":0},{"$f":"給与明細!BF156","v":0},{"$f":"給与明細!BQ156","v":0},{"$f":"給与明細!CB156","v":0},{"$f":"給与明細!CM156","v":0},{"$f":"給与明細!CX156","v":0},{"$f":"給与明細!DI156","v":0},{"$f":"給与明細!DT156","v":0},0]
[null,"普通残業時間",{"$f":"給与明細!D156","v":0},{"$f":"給与明細!O156","v":0},{"$f":"給与明細!Z156","v":0},{"$f":"給与明細!AK156","v":0},{"$f":"給与明細!AV156","v":0},{"$f":"給与明細!BG156","v":0},{"$f":"給与明細!BR156","v":0},{"$f":"給与明細!CC156","v":0},{"$f":"給与明細!CN156","v":0},{"$f":"給与明細!CY156","v":0},{"$f":"給与明細!DJ156","v":0},{"$f":"給与明細!DU156","v":0},0]
[null,"深夜労働時間",{"$f":"給与明細!E156","v":0},{"$f":"給与明細!P156","v":0},{"$f":"給与明細!AA156","v":0},{"$f":"給与明細!AL156","v":0},{"$f":"給与明細!AW156","v":0},{"$f":"給与明細!BH156","v":0},{"$f":"給与明細!BS156","v":0},{"$f":"給与明細!CD156","v":0},{"$f":"給与明細!CO156","v":0},{"$f":"給与明細!CZ156","v":0},{"$f":"給与明細!DK156","v":0},{"$f":"給与明細!DV156","v":0},0]
[null,"休日労働時間",{"$f":"給与明細!F156","v":0},{"$f":"給与明細!Q156","v":0},{"$f":"給与明細!AB156","v":0},{"$f":"給与明細!AM156","v":0},{"$f":"給与明細!AX156","v":0},{"$f":"給与明細!BI156","v":0},{"$f":"給与明細!BT156","v":0},{"$f":"給与明細!CE156","v":0},{"$f":"給与明細!CP156","v":0},{"$f":"給与明細!DA156","v":0},{"$f":"給与明細!DL156","v":0},{"$f":"給与明細!DW156","v":0},0]
[]
[]
[9,{"$f":"給与計算設定!B268","v":0},"1月","2月","3月","4月","5月","6月","7月","8月","9月","10月","11月","12月","年間合計"]
[null,"出勤日数",{"$f":"給与明細!G177","v":0},{"$f":"給与明細!R177","v":0},{"$f":"給与明細!AC177","v":0},{"$f":"給与明細!AN177","v":0},{"$f":"給与明細!AY177","v":0},{"$f":"給与明細!BJ177","v":0},{"$f":"給与明細!BU177","v":0},{"$f":"給与明細!CF177","v":0},{"$f":"給与明細!CQ177","v":0},{"$f":"給与明細!DB177","v":0},{"$f":"給与明細!DM177","v":0},{"$f":"給与明細!DX177","v":0},{"$f":"SUM(C103:N103)","v":0}]
[null,"欠勤日数",{"$f":"給与明細!H177","v":0},{"$f":"給与明細!S177","v":0},{"$f":"給与明細!AD177","v":0},{"$f":"給与明細!AO177","v":0},{"$f":"給与明細!AZ177","v":0},{"$f":"給与明細!BK177","v":0},{"$f":"給与明細!BV177","v":0},{"$f":"給与明細!CG177","v":0},{"$f":"給与明細!CR177","v":0},{"$f":"給与明細!DC177","v":0},{"$f":"給与明細!DN177","v":0},{"$f":"給与明細!DY177","v":0},{"$f":"SUM(C104:N104)","v":0}]
[null,"有休日数",{"$f":"給与明細!I177","v":0},{"$f":"給与明細!T177","v":0},{"$f":"給与明細!AE177","v":0},{"$f":"給与明細!AP177","v":0},{"$f":"給与明細!BA177","v":0},{"$f":"給与明細!BL177","v":0},{"$f":"給与明細!BW177","v":0},{"$f":"給与明細!CH177","v":0},{"$f":"給与明細!CS177","v":0},{"$f":"給与明細!DD177","v":0},{"$f":"給与明細!DO177","v":0},{"$f":"給与明細!DZ177","v":0},0]
[null,"有休残日数",{"$f":"給与明細!J177","v":0},{"$f":"給与明細!U177","v":0},{"$f":"給与明細!AF177","v":0},{"$f":"給与明細!AQ177","v":0},{"$f":"給与明細!BB177","v":0},{"$f":"給与明細!BM177","v":0},{"$f":"給与明細!BX177","v":0},{"$f":"給与明細!CI177","v":0},{"$f":"給与明細!CT177","v":0},{"$f":"給与明細!DE177","v":0},{"$f":"給与明細!DP177","v":0},{"$f":"給与明細!EA177","v":0},"-"]
[]
[null,"労働時間",{"$f":"給与明細!C177","v":0},{"$f":"給与明細!N177","v":0},{"$f":"給与明細!Y177","v":0},{"$f":"給与明細!AJ177","v":0},{"$f":"給与明細!AU177","v":0},{"$f":"給与明細!BF177","v":0},{"$f":"給与明細!BQ177","v":0},{"$f":"給与明細!CB177","v":0},{"$f":"給与明細!CM177","v":0},{"$f":"給与明細!CX177","v":0},{"$f":"給与明細!DI177","v":0},{"$f":"給与明細!DT177","v":0},0]
[null,"普通残業時間",{"$f":"給与明細!D177","v":0},{"$f":"給与明細!O177","v":0},{"$f":"給与明細!Z177","v":0},{"$f":"給与明細!AK177","v":0},{"$f":"給与明細!AV177","v":0},{"$f":"給与明細!BG177","v":0},{"$f":"給与明細!BR177","v":0},{"$f":"給与明細!CC177","v":0},{"$f":"給与明細!CN177","v":0},{"$f":"給与明細!CY177","v":0},{"$f":"給与明細!DJ177","v":0},{"$f":"給与明細!DU177","v":0},0]
[null,"深夜労働時間",{"$f":"給与明細!E177","v":0},{"$f":"給与明細!P177","v":0},{"$f":"給与明細!AA177","v":0},{"$f":"給与明細!AL177","v":0},{"$f":"給与明細!AW177","v":0},{"$f":"給与明細!BH177","v":0},{"$f":"給与明細!BS177","v":0},{"$f":"給与明細!CD177","v":0},{"$f":"給与明細!CO177","v":0},{"$f":"給与明細!CZ177","v":0},{"$f":"給与明細!DK177","v":0},{"$f":"給与明細!DV177","v":0},0]
[null,"休日労働時間",{"$f":"給与明細!F177","v":0},{"$f":"給与明細!Q177","v":0},{"$f":"給与明細!AB177","v":0},{"$f":"給与明細!AM177","v":0},{"$f":"給与明細!AX177","v":0},{"$f":"給与明細!BI177","v":0},{"$f":"給与明細!BT177","v":0},{"$f":"給与明細!CE177","v":0},{"$f":"給与明細!CP177","v":0},{"$f":"給与明細!DA177","v":0},{"$f":"給与明細!DL177","v":0},{"$f":"給与明細!DW177","v":0},0]
[]
[]
[10,{"$f":"給与計算設定!B301","v":0},"1月","2月","3月","4月","5月","6月","7月","8月","9月","10月","11月","12月","年間合計"]
[null,"出勤日数",{"$f":"給与明細!G198","v":0},{"$f":"給与明細!R198","v":0},{"$f":"給与明細!AC198","v":0},{"$f":"給与明細!AN198","v":0},{"$f":"給与明細!AY198","v":0},{"$f":"給与明細!BJ198","v":0},{"$f":"給与明細!BU198","v":0},{"$f":"給与明細!CF198","v":0},{"$f":"給与明細!CQ198","v":0},{"$f":"給与明細!DB198","v":0},{"$f":"給与明細!DM198","v":0},{"$f":"給与明細!DX198","v":0},{"$f":"SUM(C115:N115)","v":0}]
[null,"欠勤日数",{"$f":"給与明細!H198","v":0},{"$f":"給与明細!S198","v":0},{"$f":"給与明細!AD198","v":0},{"$f":"給与明細!AO198","v":0},{"$f":"給与明細!AZ198","v":0},{"$f":"給与明細!BK198","v":0},{"$f":"給与明細!BV198","v":0},{"$f":"給与明細!CG198","v":0},{"$f":"給与明細!CR198","v":0},{"$f":"給与明細!DC198","v":0},{"$f":"給与明細!DN198","v":0},{"$f":"給与明細!DY198","v":0},{"$f":"SUM(C116:N116)","v":0}]
[null,"有休日数",{"$f":"給与明細!I198","v":0},{"$f":"給与明細!T198","v":0},{"$f":"給与明細!AE198","v":0},{"$f":"給与明細!AP198","v":0},{"$f":"給与明細!BA198","v":0},{"$f":"給与明細!BL198","v":0},{"$f":"給与明細!BW198","v":0},{"$f":"給与明細!CH198","v":0},{"$f":"給与明細!CS198","v":0},{"$f":"給与明細!DD198","v":0},{"$f":"給与明細!DO198","v":0},{"$f":"給与明細!DZ198","v":0},0]
[null,"有休残日数",{"$f":"給与明細!J198","v":0},{"$f":"給与明細!U198","v":0},{"$f":"給与明細!AF198","v":0},{"$f":"給与明細!AQ198","v":0},{"$f":"給与明細!BB198","v":0},{"$f":"給与明細!BM198","v":0},{"$f":"給与明細!BX198","v":0},{"$f":"給与明細!CI198","v":0},{"$f":"給与明細!CT198","v":0},{"$f":"給与明細!DE198","v":0},{"$f":"給与明細!DP198","v":0},{"$f":"給与明細!EA198","v":0},"-"]
[]
[null,"労働時間",{"$f":"給与明細!C198","v":0},{"$f":"給与明細!N198","v":0},{"$f":"給与明細!Y198","v":0},{"$f":"給与明細!AJ198","v":0},{"$f":"給与明細!AU198","v":0},{"$f":"給与明細!BF198","v":0},{"$f":"給与明細!BQ198","v":0},{"$f":"給与明細!CB198","v":0},{"$f":"給与明細!CM198","v":0},{"$f":"給与明細!CX198","v":0},{"$f":"給与明細!DI198","v":0},{"$f":"給与明細!DT198","v":0},0]
[null,"普通残業時間",{"$f":"給与明細!D198","v":0},{"$f":"給与明細!O198","v":0},{"$f":"給与明細!Z198","v":0},{"$f":"給与明細!AK198","v":0},{"$f":"給与明細!AV198","v":0},{"$f":"給与明細!BG198","v":0},{"$f":"給与明細!BR198","v":0},{"$f":"給与明細!CC198","v":0},{"$f":"給与明細!CN198","v":0},{"$f":"給与明細!CY198","v":0},{"$f":"給与明細!DJ198","v":0},{"$f":"給与明細!DU198","v":0},0]
[null,"深夜労働時間",{"$f":"給与明細!E198","v":0},{"$f":"給与明細!P198","v":0},{"$f":"給与明細!AA198","v":0},{"$f":"給与明細!AL198","v":0},{"$f":"給与明細!AW198","v":0},{"$f":"給与明細!BH198","v":0},{"$f":"給与明細!BS198","v":0},{"$f":"給与明細!CD198","v":0},{"$f":"給与明細!CO198","v":0},{"$f":"給与明細!CZ198","v":0},{"$f":"給与明細!DK198","v":0},{"$f":"給与明細!DV198","v":0},0]
[null,"休日労働時間",{"$f":"給与明細!F198","v":0},{"$f":"給与明細!Q198","v":0},{"$f":"給与明細!AB198","v":0},{"$f":"給与明細!AM198","v":0},{"$f":"給与明細!AX198","v":0},{"$f":"給与明細!BI198","v":0},{"$f":"給与明細!BT198","v":0},{"$f":"給与明細!CE198","v":0},{"$f":"給与明細!CP198","v":0},{"$f":"給与明細!DA198","v":0},{"$f":"給与明細!DL198","v":0},{"$f":"給与明細!DW198","v":0},0]

{"sheet":"所得税","index":4,"n_rows":256,"n_cols":11,"rows_kept":256,"cut":false,"hidden":false,"merged":[[0,0,1,0],[0,1,1,1],[0,2,0,9],[0,10,1,10]]}
["以  上","未  満","扶養親族等の数",null,null,null,null,null,null,null,"乙欄"]
[null,null,"0  人","1  人","2  人","3  人","4  人","5  人","6  人","7  人"]
[0,88000,0,0,0,0,0,0,0,0,3.0630000000000001E-2]
[88000,89000,130,0,0,0,0,0,0,0,3200]
[89000,90000,180,0,0,0,0,0,0,0,3200]
[90000,91000,230,0,0,0,0,0,0,0,3200]
[91000,92000,290,0,0,0,0,0,0,0,3200]
[92000,93000,340,0,0,0,0,0,0,0,3300]
[93000,94000,390,0,0,0,0,0,0,0,3300]
[94000,95000,440,0,0,0,0,0,0,0,3300]
[95000,96000,490,0,0,0,0,0,0,0,3400]
[96000,97000,540,0,0,0,0,0,0,0,3400]
[97000,98000,590,0,0,0,0,0,0,0,3500]
[98000,99000,640,0,0,0,0,0,0,0,3500]
[99000,101000,720,0,0,0,0,0,0,0,3600]
[101000,103000,830,0,0,0,0,0,0,0,3600]
[103000,105000,930,0,0,0,0,0,0,0,3700]
[105000,107000,1030,0,0,0,0,0,0,0,3800]
[107000,109000,1130,0,0,0,0,0,0,0,3800]
[109000,111000,1240,0,0,0,0,0,0,0,3900]
[111000,113000,1340,0,0,0,0,0,0,0,4000]
[113000,115000,1440,0,0,0,0,0,0,0,4100]
[115000,117000,1540,0,0,0,0,0,0,0,4100]
[117000,119000,1640,0,0,0,0,0,0,0,4200]
[119000,121000,1750,120,0,0,0,0,0,0,4300]
[121000,123000,1850,220,0,0,0,0,0,0,4500]
[123000,125000,1950,330,0,0,0,0,0,0,4800]
[125000,127000,2050,430,0,0,0,0,0,0,5100]
[127000,129000,2150,530,0,0,0,0,0,0,5400]
[129000,131000,2260,630,0,0,0,0,0,0,5700]
[131000,133000,2360,740,0,0,0,0,0,0,6000]
[133000,135000,2460,840,0,0,0,0,0,0,6300]
[135000,137000,2550,930,0,0,0,0,0,0,6600]
[137000,139000,2610,990,0,0,0,0,0,0,6800]
[139000,141000,2680,1050,0,0,0,0,0,0,7100]
[141000,143000,2740,1110,0,0,0,0,0,0,7500]
[143000,145000,2800,1170,0,0,0,0,0,0,7800]
[145000,147000,2860,1240,0,0,0,0,0,0,8100]
[147000,149000,2920,1300,0,0,0,0,0,0,8400]
[149000,151000,2980,1360,0,0,0,0,0,0,8700]
[151000,153000,3050,1430,0,0,0,0,0,0,9000]
[153000,155000,3120,1500,0,0,0,0,0,0,9300]
[155000,157000,3200,1570,0,0,0,0,0,0,9600]
[157000,159000,3270,1640,0,0,0,0,0,0,9900]
[159000,161000,3340,1720,100,0,0,0,0,0,10200]
[161000,163000,3410,1790,170,0,0,0,0,0,10500]
[163000,165000,3480,1860,250,0,0,0,0,0,10800]
[165000,167000,3550,1930,320,0,0,0,0,0,11100]
[167000,169000,3620,2000,390,0,0,0,0,0,11400]
[169000,171000,3700,2070,460,0,0,0,0,0,11700]
[171000,173000,3770,2140,530,0,0,0,0,0,12000]
[173000,175000,3840,2220,600,0,0,0,0,0,12400]
[175000,177000,3910,2290,670,0,0,0,0,0,12700]
[177000,179000,3980,2360,750,0,0,0,0,0,13200]
[179000,181000,4050,2430,820,0,0,0,0,0,13900]
[181000,183000,4120,2500,890,0,0,0,0,0,14600]
[183000,185000,4200,2570,960,0,0,0,0,0,15300]
[185000,187000,4270,2640,1030,0,0,0,0,0,16000]
[187000,189000,4340,2720,1100,0,0,0,0,0,16700]
[189000,191000,4410,2790,1170,0,0,0,0,0,17500]
[191000,193000,4480,2860,1250,0,0,0,0,0,18100]
[193000,195000,4550,2930,1320,0,0,0,0,0,18800]
[195000,197000,4630,3000,1390,0,0,0,0,0,19500]
[197000,199000,4700,3070,1460,0,0,0,0,0,20200]
[199000,201000,4770,3140,1530,0,0,0,0,0,20900]
[201000,203000,4840,3220,1600,0,0,0,0,0,21500]
[203000,205000,4910,3290,1670,0,0,0,0,0,22200]
[205000,207000,4980,3360,1750,130,0,0,0,0,22700]
[207000,209000,5050,3430,1820,200,0,0,0,0,23300]
[209000,211000,5130,3500,1890,280,0,0,0,0,23900]
[211000,213000,5200,3570,1960,350,0,0,0,0,24400]
[213000,215000,5270,3640,2030,420,0,0,0,0,25000]
[215000,217000,5340,3720,2100,490,0,0,0,0,25500]
[217000,219000,5410,3790,2170,560,0,0,0,0,26100]
[219000,221000,5480,3860,2250,630,0,0,0,0,26800]
[221000,224000,5560,3950,2340,710,0,0,0,0,27400]
[224000,227000,5680,4060,2440,830,0,0,0,0,28400]
[227000,230000,5780,4170,2550,930,0,0,0,0,29300]
[230000,233000,5890,4280,2650,1040,0,0,0,0,30300]
[233000,236000,5990,4380,2770,1140,0,0,0,0,31300]
[236000,239000,6110,4490,2870,1260,0,0,0,0,32400]
[239000,242000,6210,4590,2980,1360,0,0,0,0,33400]
[242000,245000,6320,4710,3080,1470,0,0,0,0,34400]
[245000,248000,6420,4810,3200,1570,0,0,0,0,35400]
[248000,251000,6530,4920,3300,1680,0,0,0,0,36400]
[251000,254000,6640,5020,3410,1790,170,0,0,0,37500]
[254000,257000,6750,5140,3510,1900,290,0,0,0,38500]
[257000,260000,6850,5240,3620,2000,390,0,0,0,39400]
[260000,263000,6960,5350,3730,2110,500,0,0,0,40400]
[263000,266000,7070,5450,3840,2220,600,0,0,0,41500]
[266000,269000,7180,5560,3940,2330,710,0,0,0,42500]
[269000,272000,7280,5670,4050,2430,820,0,0,0,43500]
[272000,275000,7390,5780,4160,2540,930,0,0,0,44500]
[275000,278000,7490,5880,4270,2640,1030,0,0,0,45500]
[278000,281000,7610,5990,4370,2760,1140,0,0,0,46600]
[281000,284000,7710,6100,4480,2860,1250,0,0,0,47600]
[284000,287000,7820,6210,4580,2970,1360,0,0,0,48600]
[287000,290000,7920,6310,4700,3070,1460,0,0,0,49700]
[290000,293000,8040,6420,4800,3190,1570,0,0,0,50900]
[293000,296000,8140,6520,4910,3290,1670,0,0,0,52100]
[296000,299000,8250,6640,5010,3400,1790,160,0,0,52900]
[299000,302000,8420,6740,5130,3510,1890,280,0,0,53700]
[302000,305000,8670,6860,5250,3630,2010,400,0,0,54500]
[305000,308000,8910,6980,5370,3760,2130,520,0,0,55200]
[308000,311000,9160,7110,5490,3880,2260,640,0,0,56100]
[311000,314000,9400,7230,5620,4000,2380,770,0,0,56900]
[314000,317000,9650,7350,5740,4120,2500,890,0,0,57800]
[317000,320000,9890,7470,5860,4250,2620,1010,0,0,58800]
[320000,323000,10140,7600,5980,4370,2750,1130,0,0,59800]
[323000,326000,10380,7720,6110,4490,2870,1260,0,0,60900]
[326000,329000,10630,7840,6230,4610,2990,1380,0,0,61900]
[329000,332000,10870,7960,6350,4740,3110,1500,0,0,62900]
[332000,335000,11120,8090,6470,4860,3240,1620,0,0,63900]
[335000,338000,11360,8210,6600,4980,3360,1750,130,0,64900]
[338000,341000,11610,8370,6720,5110,3480,1870,260,0,66000]
[341000,344000,11850,8620,6840,5230,3600,1990,380,0,67000]
[344000,347000,12100,8860,6960,5350,3730,2110,500,0,68000]
[347000,350000,12340,9110,7090,5470,3850,2240,620,0,69000]
[350000,353000,12590,9350,7210,5600,3970,2360,750,0,70000]
[353000,356000,12830,9600,7330,5720,4090,2480,870,0,71100]
[356000,359000,13080,9840,7450,5840,4220,2600,990,0,72100]
[359000,362000,13320,10090,7580,5960,4340,2730,1110,0,73100]
[362000,365000,13570,10330,7700,6090,4460,2850,1240,0,74200]
[365000,368000,13810,10580,7820,6210,4580,2970,1360,0,75200]
[368000,371000,14060,10820,7940,6330,4710,3090,1480,0,76200]
[371000,374000,14300,11070,8070,6450,4830,3220,1600,0,77100]
[374000,377000,14550,11310,8190,6580,4950,3340,1730,100,78100]
[377000,380000,14790,11560,8320,6700,5070,3460,1850,220,79000]
[380000,383000,15040,11800,8570,6820,5200,3580,1970,350,79900]
[383000,386000,15280,12050,8810,6940,5320,3710,2090,470,81400]
[386000,389000,15530,12290,9060,7070,5440,3830,2220,590,83100]
[389000,392000,15770,12540,9300,7190,5560,3950,2340,710,84700]
[392000,395000,16020,12780,9550,7310,5690,4070,2460,840,86500]
[395000,398000,16260,13030,9790,7430,5810,4200,2580,960,88200]
[398000,401000,16510,13270,10040,7560,5930,4320,2710,1080,89800]
[401000,404000,16750,13520,10280,7680,6050,4440,2830,1200,91600]
[404000,407000,17000,13760,10530,7800,6180,4560,2950,1330,93300]
[407000,410000,17240,14010,10770,7920,6300,4690,3070,1450,95000]
[410000,413000,17490,14250,11020,8050,6420,4810,3200,1570,96700]
[413000,416000,17730,14500,11260,8170,6540,4930,3320,1690,98300]
[416000,419000,17980,14740,11510,8290,6670,5050,3440,1820,100100]
[419000,422000,18220,14990,11750,8530,6790,5180,3560,1940,101800]
[422000,425000,18470,15230,12000,8770,6910,5300,3690,2060,103400]
[425000,428000,18710,15480,12240,9020,7030,5420,3810,2180,105200]
[428000,431000,18960,15720,12490,9260,7160,5540,3930,2310,106900]
[431000,434000,19210,15970,12730,9510,7280,5670,4050,2430,108500]
[434000,437000,19450,16210,12980,9750,7400,5790,4180,2550,110300]
[437000,440000,19700,16460,13220,10000,7520,5910,4300,2680,112000]
[440000,443000,20090,16700,13470,10240,7650,6030,4420,2800,113600]
[443000,446000,20580,16950,13710,10490,7770,6160,4540,2920,115400]
[446000,449000,21070,17190,13960,10730,7890,6280,4670,3040,117100]
[449000,452000,21560,17440,14200,10980,8010,6400,4790,3170,118700]
[452000,455000,22050,17680,14450,11220,8140,6520,4910,3290,120500]
[455000,458000,22540,17930,14690,11470,8260,6650,5030,3410,122200]
[458000,461000,23030,18170,14940,11710,8470,6770,5160,3530,123800]
[461000,464000,23520,18420,15180,11960,8720,6890,5280,3660,125600]
[464000,467000,24010,18660,15430,12200,8960,7010,5400,3780,127300]
[467000,470000,24500,18910,15670,12450,9210,7140,5520,3900,129000]
[470000,473000,24990,19150,15920,12690,9450,7260,5650,4020,130700]
[473000,476000,25480,19400,16160,12940,9700,7380,5770,4150,132300]
[476000,479000,25970,19640,16410,13180,9940,7500,5890,4270,134000]
[479000,482000,26460,20000,16650,13430,10190,7630,6010,4390,135600]
[482000,485000,26950,20490,16900,13670,10430,7750,6140,4510,137200]
[485000,488000,27440,20980,17140,13920,10680,7870,6260,4640,138800]
[488000,491000,27930,21470,17390,14160,10920,7990,6380,4760,140400]
[491000,494000,28420,21960,17630,14410,11170,8120,6500,4880,142000]
[494000,497000,28910,22450,17880,14650,11410,8240,6630,5000,143700]
[497000,500000,29400,22940,18120,14900,11660,8420,6750,5130,145200]
[500000,503000,29890,23430,18370,15140,11900,8670,6870,5250,146800]
[503000,506000,30380,23920,18610,15390,12150,8910,6990,5370,148500]
[506000,509000,30880,24410,18860,15630,12390,9160,7120,5490,150100]
[509000,512000,31370,24900,19100,15880,12640,9400,7240,5620,151600]
[512000,515000,31860,25390,19350,16120,12890,9650,7360,5740,153300]
[515000,518000,32350,25880,19590,16370,13130,9890,7480,5860,154900]
[518000,521000,32840,26370,19900,16610,13380,10140,7610,5980,156500]
[521000,524000,33330,26860,20390,16860,13620,10380,7730,6110,158100]
[524000,527000,33820,27350,20880,17100,13870,10630,7850,6230,159600]
[527000,530000,34310,27840,21370,17350,14110,10870,7970,6350,161000]
[530000,533000,34800,28330,21860,17590,14360,11120,8100,6470,162500]
[533000,536000,35290,28820,22350,17840,14600,11360,8220,6600,164000]
[536000,539000,35780,29310,22840,18080,14850,11610,8380,6720,165400]
[539000,542000,36270,29800,23330,18330,15090,11850,8630,6840,166900]
[542000,545000,36760,30290,23820,18570,15340,12100,8870,6960,168400]
[545000,548000,37250,30780,24310,18820,15580,12340,9120,7090,169900]
[548000,551000,37740,31270,24800,19060,15830,12590,9360,7210,171300]
[551000,554000,38280,31810,25340,19330,16100,12860,9630,7350,172800]
[554000,557000,38830,32370,25890,19600,16380,13140,9900,7480,174300]
[557000,560000,39380,32920,26440,19980,16650,13420,10180,7630,175700]
[560000,563000,39930,33470,27000,20530,16930,13690,10460,7760,177200]
[563000,566000,40480,34020,27550,21080,17200,13970,10730,7900,178700]
[566000,569000,41030,34570,28100,21630,17480,14240,11010,8040,180100]
[569000,572000,41590,35120,28650,22190,17760,14520,11280,8180,181600]
[572000,575000,42140,35670,29200,22740,18030,14790,11560,8330,183100]
[575000,578000,42690,36230,29750,23290,18310,15070,11830,8610,184600]
[578000,581000,43240,36780,30300,23840,18580,15350,12110,8880,186000]
[581000,584000,43790,37330,30850,24390,18860,15620,12380,9160,187500]
[584000,587000,44340,37880,31410,24940,19130,15900,12660,9430,189000]
[587000,590000,44890,38430,31960,25490,19410,16170,12940,9710,190400]
[590000,593000,45440,38980,32510,26050,19680,16450,13210,9990,191900]
[593000,596000,46000,39530,33060,26600,20130,16720,13490,10260,193400]
[596000,599000,46550,40080,33610,27150,20690,17000,13760,10540,194800]
[599000,602000,47100,40640,34160,27700,21240,17280,14040,10810,196300]
[602000,605000,47650,41190,34710,28250,21790,17550,14310,11090,197800]
[605000,608000,48200,41740,35270,28800,22340,17830,14590,11360,199300]
[608000,611000,48750,42290,35820,29350,22890,18100,14870,11640,200700]
[611000,614000,49300,42840,36370,29910,23440,18380,15140,11920,202200]
[614000,617000,49860,43390,36920,30460,23990,18650,15420,12190,203700]
[617000,620000,50410,43940,37470,31010,24540,18930,15690,12470,205100]
[620000,623000,50960,44500,38020,31560,25100,19210,15970,12740,206700]
[623000,626000,51510,45050,38570,32110,25650,19480,16240,13020,208100]
[626000,629000,52060,45600,39120,32660,26200,19760,16520,13290,209500]
[629000,632000,52610,46150,39680,33210,26750,20280,16800,13570,211000]
[632000,635000,53160,46700,40230,33760,27300,20830,17070,13840,212500]
[635000,638000,53710,47250,40780,34320,27850,21380,17350,14120,214000]
[638000,641000,54270,47800,41330,34870,28400,21930,17620,14400,214900]
[641000,644000,54820,48350,41880,35420,28960,22480,17900,14670,215900]
[644000,647000,55370,48910,42430,35970,29510,23030,18170,14950,217000]
[647000,650000,55920,49460,42980,36520,30060,23590,18450,15220,218000]
[650000,653000,56470,50010,43540,37070,30610,24140,18730,15500,219000]
[653000,656000,57020,50560,44090,37620,31160,24690,19000,15770,220000]
[656000,659000,57570,51110,44640,38180,31710,25240,19280,16050,221000]
[659000,662000,58130,51660,45190,38730,32260,25790,19550,16330,222100]
[662000,665000,58680,52210,45740,39280,32810,26340,19880,16600,223100]
[665000,668000,59230,52770,46290,39830,33370,26890,20430,16880,224100]
[668000,671000,59780,53320,46840,40380,33920,27440,20980,17150,225000]
[671000,674000,60330,53870,47390,40930,34470,28000,21530,17430,226000]
[674000,677000,60880,54420,47950,41480,35020,28550,22080,17700,227100]
[677000,680000,61430,54970,48500,42030,35570,29100,22640,17980,228100]
[680000,683000,61980,55520,49050,42590,36120,29650,23190,18260,229100]
[683000,686000,62540,56070,49600,43140,36670,30200,23740,18530,230400]
[686000,689000,63090,56620,50150,43690,37230,30750,24290,18810,232100]
[689000,692000,63640,57180,50700,44240,37780,31300,24840,19080,233600]
[692000,695000,64190,57730,51250,44790,38330,31860,25390,19360,235100]
[695000,698000,64740,58280,51810,45340,38880,32410,25940,19630,236700]
[698000,701000,65290,58830,52360,45890,39430,32960,26490,20030,238200]
[701000,704000,65840,59380,52910,46450,39980,33510,27050,20580,239700]
[704000,707000,66400,59930,53460,47000,40530,34060,27600,21130,241300]
[707000,710000,66960,60480,54020,47550,41090,34620,28150,21690,242900]
[710000,713000,67570,61100,54630,48160,41700,35230,28760,22300,244400]
[713000,716000,68180,61710,55250,48770,42310,35850,29370,22910,246000]
[716000,719000,68790,62320,55860,49390,42920,36460,29990,23520,247500]
[719000,722000,69410,62930,56470,50000,43540,37070,30600,24140,249000]
[722000,725000,70020,63550,57080,50610,44150,37690,31210,24750,250600]
[725000,728000,70630,64160,57700,51220,44760,38300,31820,25360,252200]
[728000,731000,71250,64770,58310,51840,45370,38910,32440,25970,253700]
[731000,734000,71860,65380,58920,52450,45990,39520,33050,26590,255300]
[734000,737000,72470,66000,59530,53060,46600,40140,33660,27200,256800]
[737000,740000,73080,66610,60150,53670,47210,40750,34270,27810,258300]
[740000,740001,73390,66920,60450,53980,47520,41050,34580,28120,259800]
[780000,780001,81560,75090,68620,62150,55690,49220,42750,36290]
[950000,950001,121480,115010,108540,102070,95610,89140,82670,76210]
[1700000,1700001,374180,367710,361240,354770,348310,341840,335370,328910,651900]
[2170000,2170001,571570,565090,558630,552160,545690,539230,532760,526290]
[2210000,2210001,593340,586870,580410,573930,567470,561010,554540,548070]
[2250000,2250001,615120,608650,602190,595710,589250,582790,576310,569850]
[3500000,3500001,1125620,1119150,1112690,1106210,1099750,1093290,1086810,1080350]

{"sheet":"賞与計算設定","index":5,"n_rows":285,"n_cols":6,"rows_kept":285,"cut":false,"hidden":false,"merged":[]}
[]
["賞与計算設定"]
[null,null,null,null,null,{"$f":"勤怠管理!A2","v":"年度　"}]
[]
[1,{"$f":"IF(給与計算設定!B4=0,\"\",給与計算設定!B4)","v":""},"夏季","上期特別","冬季","下期特別"]
[null,"賞与支給額"]
["手当項目を追加可↓"]
[]
[]
[]
[]
[]
[]
[]
[]
[null,"↓控除項目"]
["年金事務所などに確認→","健康保険料"]
["年金事務所などに確認→","介護保険料"]
["年金事務所などに確認→","厚生年金保険料"]
["厚生労働省ＨＰで確認→","雇用保険料の率"]
["控除項目を追加可↓"]
[]
[]
[]
[]
[]
[]
[null,"所得税区分(甲または乙)","甲","甲","甲","甲"]
[null,"扶養人数(０～7人)",0,0,0,0]
[]
[]
[2,{"$f":"IF(給与計算設定!B37=0,\"\",給与計算設定!B37)","v":""},"夏季","上期特別","冬季","下期特別"]
[null,"賞与支給額"]
[]
[]
[]
[]
[]
[]
[]
[]
[]
[null,"↓控除項目"]
[null,"健康保険料"]
[null,"介護保険料"]
[null,"厚生年金保険料"]
[null,"雇用保険料の率"]
[]
[]
[]
[]
[]
[]
[]
[null,"所得税区分(甲または乙)","甲","甲","甲","甲"]
[null,"扶養人数(０～7人)",0,0,0,0]
[]
[]
[3,{"$f":"IF(給与計算設定!B70=0,\"\",給与計算設定!B70)","v":""},"夏季","上期特別","冬季","下期特別"]
[null,"賞与支給額"]
[]
[]
[]
[]
[]
[]
[]
[]
[]
[null,"↓控除項目"]
[null,"健康保険料"]
[null,"介護保険料"]
[null,"厚生年金保険料"]
[null,"雇用保険料の率"]
[]
[]
[]
[]
[]
[]
[]
[null,"所得税区分(甲または乙)","甲","甲","甲","甲"]
[null,"扶養人数(０～7人)",0,0,0,0]
[]
[]
[4,{"$f":"IF(給与計算設定!B103=0,\"\",給与計算設定!B103)","v":""},"夏季","上期特別","冬季","下期特別"]
[null,"賞与支給額"]
[]
[]
[]
[]
[]
[]
[]
[]
[]
[null,"↓控除項目"]
[null,"健康保険料"]
[null,"介護保険料"]
[null,"厚生年金保険料"]
[null,"雇用保険料の率"]
[]
[]
[]
[]
[]
[]
[]
[null,"所得税区分(甲または乙)","甲","甲","甲","甲"]
[null,"扶養人数(０～7人)",0,0,0,0]
[]
[]
[5,{"$f":"IF(給与計算設定!B136=0,\"\",給与計算設定!B136)","v":""},"夏季","上期特別","冬季","下期特別"]
[null,"賞与支給額"]
[]
[]
[]
[]
[]
[]
[]
[]
[]
[null,"↓控除項目"]
[null,"健康保険料"]
[null,"介護保険料"]
[null,"厚生年金保険料"]
[null,"雇用保険料の率"]
[]
[]
[]
[]
[]
[]
[]
[null,"所得税区分(甲または乙)","甲","甲","甲","甲"]
[null,"扶養人数(０～7人)",0,0,0,0]
[]
[]
[6,{"$f":"IF(給与計算設定!B169=0,\"\",給与計算設定!B169)","v":""},"夏季","上期特別","冬季","下期特別"]
[null,"賞与支給額"]
[]
[]
[]
[]
[]
[]
[]
[]
[]
[null,"↓控除項目"]
[null,"健康保険料"]
[null,"介護保険料"]
[null,"厚生年金保険料"]
[null,"雇用保険料の率"]
[]
[]
[]
[]
[]
[]
[]
[null,"所得税区分(甲または乙)","甲","甲","甲","甲"]
[null,"扶養人数(０～7人)",0,0,0,0]
[]
[]
[7,{"$f":"IF(給与計算設定!B202=0,\"\",給与計算設定!B202)","v":""},"夏季","上期特別","冬季","下期特別"]
[null,"賞与支給額"]
[]
[]
[]
[]
[]
[]
[]
[]
[]
[null,"↓控除項目"]
[null,"健康保険料"]
[null,"介護保険料"]
[null,"厚生年金保険料"]
[null,"雇用保険料の率"]
[]
[]
[]
[]
[]
[]
[]
[null,"所得税区分(甲または乙)","甲","甲","甲","甲"]
[null,"扶養人数(０～7人)",0,0,0,0]
[]
[]
[8,{"$f":"IF(給与計算設定!B235=0,\"\",給与計算設定!B235)","v":""},"夏季","上期特別","冬季","下期特別"]
[null,"賞与支給額"]
[]
[]
[]
[]
[]
[]
[]
[]
[]
[null,"↓控除項目"]
[null,"健康保険料"]
[null,"介護保険料"]
[null,"厚生年金保険料"]
[null,"雇用保険料の率"]
[]
[]
[]
[]
[]
[]
[]
[null,"所得税区分(甲または乙)","甲","甲","甲","甲"]
[null,"扶養人数(０～7人)",0,0,0,0]
[]
[]
[9,{"$f":"IF(給与計算設定!B268=0,\"\",給与計算設定!B268)","v":""},"夏季","上期特別","冬季","下期特別"]
[null,"賞与支給額"]
[]
[]
[]
[]
[]
[]
[]
[]
[]
[null,"↓控除項目"]
[null,"健康保険料"]
[null,"介護保険料"]
[null,"厚生年金保険料"]
[null,"雇用保険料の率"]
[]
[]
[]
[]
[]
[]
[]
[null,"所得税区分(甲または乙)","甲","甲","甲","甲"]
[null,"扶養人数(０～7人)",0,0,0,0]
[]
[]
[10,{"$f":"IF(給与計算設定!B301=0,\"\",給与計算設定!B301)","v":""},"夏季","上期特別","冬季","下期特別"]
[null,"賞与支給額"]
[]
[]
[]
[]
[]
[]
[]
[]
[]
[null,"↓控除項目"]
[null,"健康保険料"]
[null,"介護保険料"]
[null,"厚生年金保険料"]
[null,"雇用保険料の率"]
[]
[]
[]
[]
[]
[]
[]
[null,"所得税区分(甲または乙)","甲","甲","甲","甲"]
[null,"扶養人数(０～7人)",0,0,0,0]
[]
[]
["社会保険料チェック（入力不要です）"]
[]
[null,"会社個人折半額","夏季","上期特別","冬季","下期特別"]
["介護保険料含む→","健康保険料",{"$f":"IF(SUM(C279:C280)=0,\"\",SUM(C279:C280))","v":""},{"$f":"IF(SUM(D279:D280)=0,\"\",SUM(D279:D280))","v":""},{"$f":"IF(SUM(E279:E280)=0,\"\",SUM(E279:E280))","v":""},{"$f":"IF(SUM(F279:F280)=0,\"\",SUM(F279:F280))","v":""}]
[null,"健康保険料",{"$f":"IF(SUM(C17,C44,C71,C98,C125,C152,C179,C206,C233,C260)=0,\"\",SUM(C17,C44,C71,C98,C125,C152,C179,C206,C233,C260))","v":""},"","",""]
[null,"介護保険料","","","",""]
[null,"厚生年金保険料","","","",""]
[]
["折半額×２倍→","納付書額","夏季","上期特別","冬季","下期特別"]
["介護保険料含む→","健康保険料",{"$f":"IF(C278=\"\",\"\",C278*2)","v":""},{"$f":"IF(D278=\"\",\"\",D278*2)","v":""},{"$f":"IF(E278=\"\",\"\",E278*2)","v":""},{"$f":"IF(F278=\"\",\"\",F278*2)","v":""}]
[null,"厚生年金保険料",{"$f":"IF(C281=\"\",\"\",C281*2)","v":""},{"$f":"IF(D281=\"\",\"\",D281*2)","v":""},{"$f":"IF(E281=\"\",\"\",E281*2)","v":""},{"$f":"IF(F281=\"\",\"\",F281*2)","v":""}]

{"sheet":"賞与明細","index":6,"n_rows":211,"n_cols":45,"rows_kept":211,"cut":false,"hidden":false,"merged":[[15,1,18,1],[15,12,18,12],[15,23,18,23],[15,34,18,34],[7,1,8,1],[10,1,13,1],[7,12,8,12],[10,12,13,12],[7,23,8,23],[10,23,13,23],[7,34,8,34],[10,34,13,34],[36,1,39,1],[36,12,39,12],[36,23,39,23],[36,34,39,34],[28,1,29,1],[31,1,34,1],[28,23,29,23],[31,23,34,23],[28,12,29,12],[31,12,34,12],[28,34,29,34],[31,34,34,34],[57,1,60,1],[57,12,60,12],[57,23,60,23],[57,34,60,34],[49,1,50,1],[52,1,55,1],[49,12,50,12],[52,12,55,12],[49,23,50,23],[52,23,55,23],[49,34,50,34],[52,34,55,34],[78,1,81,1],[78,12,81,12],[78,23,81,23],[78,34,81,34],[70,1,71,1],[73,1,76,1],[70,23,71,23],[73,23,76,23],[70,12,71,12],[73,12,76,12],[70,34,71,34],[73,34,76,34],[99,1,102,1],[99,12,102,12],[99,23,102,23],[99,34,102,34],[91,1,92,1],[94,1,97,1],[91,12,92,12],[94,12,97,12],[91,23,92,23],[94,23,97,23],[91,34,92,34],[94,34,97,34],[120,1,123,1],[120,12,123,12],[120,23,123,23],[120,34,123,34],[112,1,113,1],[115,1,118,1],[112,12,113,12],[115,12,118,12],[112,23,113,23],[115,23,118,23],[112,34,113,34],[115,34,118,34],[141,1,144,1],[141,12,144,12],[141,23,144,23],[141,34,144,34],[133,1,134,1],[136,1,139,1],[133,23,134,23],[136,23,139,23],[133,12,134,12],[136,12,139,12],[133,34,134,34],[136,34,139,34],[162,1,165,1],[162,12,165,12],[162,23,165,23],[162,34,165,34],[154,1,155,1],[157,1,160,1],[154,12,155,12],[157,12,160,12],[154,23,155,23],[157,23,160,23],[154,34,155,34],[157,34,160,34],[183,1,186,1],[183,12,186,12],[183,23,186,23],[183,34,186,34],[175,1,176,1],[178,1,181,1],[175,23,176,23],[178,23,181,23],[175,12,176,12],[178,12,181,12],[175,34,176,34],[178,34,181,34],[204,1,207,1],[204,12,207,12],[204,23,207,23],[204,34,207,34],[196,1,197,1],[199,1,202,1],[196,12,197,12],[199,12,202,12],[196,23,197,23],[199,23,202,23],[196,34,197,34],[199,34,202,34]]}
[]
["賞与明細"]
[]
[null,{"$f":"給与計算設定!$E$2&給与計算設定!$F$2&\"夏季賞与\"","v":"年度夏季賞与"},null,null,null,null,null,null,null,{"$f":"給与明細!J4","v":"年度　"},null,null,{"$f":"給与計算設定!$E$2&給与計算設定!$F$2&\"上期特別賞与\"","v":"年度上期特別賞与"},null,null,null,null,null,null,null,{"$f":"J4","v":"年度　"},null,null,{"$f":"給与計算設定!$E$2&給与計算設定!$F$2&\"冬季賞与\"","v":"年度冬季賞与"},null,null,null,null,null,null,null,{"$f":"U4","v":"年度　"},null,null,{"$f":"給与計算設定!$E$2&給与計算設定!$F$2&\"下期特別賞与\"","v":"年度下期特別賞与"},null,null,null,null,null,null,null,{"$f":"AF4","v":"年度　"}]
[]
[1,"氏名",{"$f":"給与計算設定!B4","v":0},null,null,null,null,null,null,null,null,1,"氏名",{"$f":"C6","v":0},null,null,null,null,null,null,null,null,1,"氏名",{"$f":"N6","v":0},null,null,null,null,null,null,null,null,1,"氏名",{"$f":"Y6","v":0},null,null,null,null,null,null,null,null,1]
[]
[null,"勤怠","労働時間","普通残業時間","深夜労働時間","休日労働時間","出勤日数","欠勤日数","有休日数","有休残日数",null,null,"勤怠","労働時間","普通残業時間","深夜労働時間","休日労働時間","出勤日数","欠勤日数","有休日数","有休残日数",null,null,"勤怠","労働時間","普通残業時間","深夜労働時間","休日労働時間","出勤日数","欠勤日数","有休日数","有休残日数",null,null,"勤怠","労働時間","普通残業時間","深夜労働時間","休日労働時間","出勤日数","欠勤日数","有休日数","有休残日数"]
[]
[]
[null,"支給","賞与額",{"$f":"賞与計算設定!B7","v":0},{"$f":"賞与計算設定!B8","v":0},{"$f":"賞与計算設定!B9","v":0},{"$f":"賞与計算設定!B10","v":0},{"$f":"賞与計算設定!B11","v":0},{"$f":"賞与計算設定!B12","v":0},"課税対象額",null,null,"支給","賞与額",{"$f":"D11","v":0},0,0,0,0,0,"課税対象額",null,null,"支給","賞与額",{"$f":"O11","v":0},0,0,0,0,0,"課税対象額",null,null,"支給","賞与額",{"$f":"Z11","v":0},0,0,0,0,0,"課税対象額"]
[null,null,{"$f":"賞与計算設定!C6","v":0},{"$f":"賞与計算設定!C7","v":0},{"$f":"賞与計算設定!C8","v":0},{"$f":"賞与計算設定!C9","v":0},{"$f":"賞与計算設定!C10","v":0},{"$f":"賞与計算設定!C11","v":0},{"$f":"賞与計算設定!C12","v":0},{"$f":"J14-J17","v":0},null,null,null,{"$f":"賞与計算設定!D6","v":0},{"$f":"賞与計算設定!D7","v":0},{"$f":"賞与計算設定!D8","v":0},{"$f":"賞与計算設定!D9","v":0},{"$f":"賞与計算設定!D10","v":0},{"$f":"賞与計算設定!D11","v":0},{"$f":"賞与計算設定!D12","v":0},{"$f":"U14-U17","v":0},null,null,null,{"$f":"賞与計算設定!E6","v":0},{"$f":"賞与計算設定!E7","v":0},{"$f":"賞与計算設定!E8","v":0},{"$f":"賞与計算設定!E9","v":0},{"$f":"賞与計算設定!E10","v":0},{"$f":"賞与計算設定!E11","v":0},{"$f":"賞与計算設定!E12","v":0},{"$f":"AF14-AF17","v":0},null,null,null,{"$f":"賞与計算設定!F6","v":0},{"$f":"賞与計算設定!F7","v":0},{"$f":"賞与計算設定!F8","v":0},{"$f":"賞与計算設定!F9","v":0},{"$f":"賞与計算設定!F10","v":0},{"$f":"賞与計算設定!F11","v":0},{"$f":"賞与計算設定!F12","v":0},{"$f":"AQ14-AQ17","v":0}]
[null,null,{"$f":"賞与計算設定!B13","v":0},{"$f":"賞与計算設定!B14","v":0},{"$f":"賞与計算設定!B15","v":0},null,null,null,null,"支給合計",null,null,null,{"$f":"C13","v":0},{"$f":"D13","v":0},{"$f":"E13","v":0},null,null,null,null,"支給合計",null,null,null,{"$f":"N13","v":0},{"$f":"O13","v":0},{"$f":"P13","v":0},null,null,null,null,"支給合計",null,null,null,{"$f":"Y13","v":0},{"$f":"Z13","v":0},{"$f":"AA13","v":0},null,null,null,null,"支給合計"]
[null,null,{"$f":"賞与計算設定!C13","v":0},{"$f":"賞与計算設定!C14","v":0},{"$f":"賞与計算設定!C15","v":0},null,null,null,null,{"$f":"SUM(C12:I12,C14:I14)","v":0},null,null,null,{"$f":"賞与計算設定!D13","v":0},{"$f":"賞与計算設定!D14","v":0},{"$f":"賞与計算設定!D15","v":0},null,null,null,null,{"$f":"SUM(N12:T12,N14:T14)","v":0},null,null,null,{"$f":"賞与計算設定!E13","v":0},{"$f":"賞与計算設定!E14","v":0},{"$f":"賞与計算設定!E15","v":0},null,null,null,null,{"$f":"SUM(Y12:AE12,Y14:AE14)","v":0},null,null,null,{"$f":"賞与計算設定!F13","v":0},{"$f":"賞与計算設定!F14","v":0},{"$f":"賞与計算設定!F15","v":0},null,null,null,null,{"$f":"SUM(AJ12:AP12,AJ14:AP14)","v":0}]
[]
[null,"控除","健康保険料","介護保険料","厚生年金等","雇用保険料","所得税","住民税","年末調整","社会保険料合計",null,null,"控除","健康保険料","介護保険料","厚生年金等","雇用保険料","所得税","住民税","年末調整","社会保険料合計",null,null,"控除","健康保険料","介護保険料","厚生年金等","雇用保険料","所得税","住民税","年末調整","社会保険料合計",null,null,"控除","健康保険料","介護保険料","厚生年金等","雇用保険料","所得税","住民税","年末調整","社会保険料合計"]
[null,null,{"$f":"賞与計算設定!C17","v":0},{"$f":"賞与計算設定!C18","v":0},{"$f":"賞与計算設定!C19","v":0},{"$f":"ROUND(賞与計算設定!C20*J14,0)","v":0},null,null,null,{"$f":"SUM(C17:F17)","v":0},null,null,null,{"$f":"賞与計算設定!D17","v":0},{"$f":"賞与計算設定!D18","v":0},{"$f":"賞与計算設定!D19","v":0},{"$f":"ROUND(賞与計算設定!D20*U14,0)","v":0},null,null,null,{"$f":"SUM(N17:Q17)","v":0},null,null,null,{"$f":"賞与計算設定!E17","v":0},{"$f":"賞与計算設定!E18","v":0},{"$f":"賞与計算設定!E19","v":0},{"$f":"ROUND(賞与計算設定!E20*AF14,0)","v":0},null,null,null,{"$f":"SUM(Y17:AB17)","v":0},null,null,null,{"$f":"賞与計算設定!F17","v":0},{"$f":"賞与計算設定!F18","v":0},{"$f":"賞与計算設定!F19","v":0},{"$f":"ROUND(賞与計算設定!F20*AQ14,0)","v":0},null,null,null,{"$f":"SUM(AJ17:AM17)","v":0}]
[null,null,{"$f":"賞与計算設定!B21","v":0},{"$f":"賞与計算設定!B22","v":0},{"$f":"賞与計算設定!B23","v":0},{"$f":"賞与計算設定!B24","v":0},{"$f":"賞与計算設定!B25","v":0},{"$f":"賞与計算設定!B26","v":0},{"$f":"賞与計算設定!B27","v":0},"控除合計",null,null,null,{"$f":"C18","v":0},{"$f":"D18","v":0},0,0,0,0,0,"控除合計",null,null,null,{"$f":"N18","v":0},0,0,0,0,0,0,"控除合計",null,null,null,{"$f":"Y18","v":0},0,0,0,0,0,0,"控除合計"]
[null,null,{"$f":"賞与計算設定!C21","v":0},{"$f":"賞与計算設定!C22","v":0},{"$f":"賞与計算設定!C23","v":0},{"$f":"賞与計算設定!C24","v":0},{"$f":"賞与計算設定!C25","v":0},{"$f":"賞与計算設定!C26","v":0},{"$f":"賞与計算設定!C27","v":0},{"$f":"SUM(C17:I17,C19:I19)","v":0},null,null,null,{"$f":"賞与計算設定!D21","v":0},{"$f":"賞与計算設定!D22","v":0},{"$f":"賞与計算設定!D23","v":0},{"$f":"賞与計算設定!D24","v":0},{"$f":"賞与計算設定!D25","v":0},{"$f":"賞与計算設定!D26","v":0},{"$f":"賞与計算設定!D27","v":0},{"$f":"SUM(N17:T17,N19:T19)","v":0},null,null,null,{"$f":"賞与計算設定!E21","v":0},{"$f":"賞与計算設定!E22","v":0},{"$f":"賞与計算設定!E23","v":0},{"$f":"賞与計算設定!E24","v":0},{"$f":"賞与計算設定!E25","v":0},{"$f":"賞与計算設定!E26","v":0},{"$f":"賞与計算設定!E27","v":0},{"$f":"SUM(Y17:AE17,Y19:AE19)","v":0},null,null,null,{"$f":"賞与計算設定!F21","v":0},{"$f":"賞与計算設定!F22","v":0},{"$f":"賞与計算設定!F23","v":0},{"$f":"賞与計算設定!F24","v":0},{"$f":"賞与計算設定!F25","v":0},{"$f":"賞与計算設定!F26","v":0},{"$f":"賞与計算設定!F27","v":0},{"$f":"SUM(AJ17:AP17,AJ19:AP19)","v":0}]
[]
[null,"備考",null,null,null,null,null,null,null,"差引支給額",null,null,"備考",null,null,null,null,null,null,null,"差引支給額",null,null,"備考",null,null,null,null,null,null,null,"差引支給額",null,null,"備考",null,null,null,null,null,null,null,"差引支給額"]
[null,null,null,null,null,null,null,null,null,{"$f":"J14-J19","v":0},null,null,null,null,null,null,null,null,null,null,{"$f":"U14-U19","v":0},null,null,null,null,null,null,null,null,null,null,{"$f":"AF14-AF19","v":0},null,null,null,null,null,null,null,null,null,null,{"$f":"AQ14-AQ19","v":0}]
[]
[]
[null,{"$f":"B4","v":"年度夏季賞与"},null,null,null,null,null,null,null,{"$f":"J4","v":"年度　"},null,null,{"$f":"M4","v":"年度上期特別賞与"},null,null,null,null,null,null,null,{"$f":"J25","v":"年度　"},null,null,{"$f":"X4","v":"年度冬季賞与"},null,null,null,null,null,null,null,{"$f":"U25","v":"年度　"},null,null,{"$f":"AI4","v":"年度下期特別賞与"},null,null,null,null,null,null,null,{"$f":"AF25","v":"年度　"}]
[]
[2,"氏名",{"$f":"給与計算設定!B37","v":0},null,null,null,null,null,null,null,null,2,"氏名",{"$f":"C27","v":0},null,null,null,null,null,null,null,null,2,"氏名",{"$f":"N27","v":0},null,null,null,null,null,null,null,null,2,"氏名",{"$f":"Y27","v":0},null,null,null,null,null,null,null,null,2]
[]
[null,"勤怠","労働時間","普通残業時間","深夜労働時間","休日労働時間","出勤日数","欠勤日数","有休日数","有休残日数",null,null,"勤怠","労働時間","普通残業時間","深夜労働時間","休日労働時間","出勤日数","欠勤日数","有休日数","有休残日数",null,null,"勤怠","労働時間","普通残業時間","深夜労働時間","休日労働時間","出勤日数","欠勤日数","有休日数","有休残日数",null,null,"勤怠","労働時間","普通残業時間","深夜労働時間","休日労働時間","出勤日数","欠勤日数","有休日数","有休残日数"]
[]
[]
[null,"支給","賞与額",{"$f":"賞与計算設定!B34","v":0},{"$f":"賞与計算設定!B35","v":0},{"$f":"賞与計算設定!B36","v":0},{"$f":"賞与計算設定!B37","v":0},{"$f":"賞与計算設定!B38","v":0},{"$f":"賞与計算設定!B39","v":0},"課税対象額",null,null,"支給","賞与額",{"$f":"D32","v":0},0,0,0,0,0,"課税対象額",null,null,"支給","賞与額",{"$f":"O32","v":0},0,0,0,0,0,"課税対象額",null,null,"支給","賞与額",{"$f":"Z32","v":0},0,0,0,0,0,"課税対象額"]
[null,null,{"$f":"賞与計算設定!C33","v":0},{"$f":"賞与計算設定!C34","v":0},{"$f":"賞与計算設定!C35","v":0},{"$f":"賞与計算設定!C36","v":0},{"$f":"賞与計算設定!C37","v":0},{"$f":"賞与計算設定!C38","v":0},{"$f":"賞与計算設定!C39","v":0},{"$f":"J35-J38","v":0},null,null,null,{"$f":"賞与計算設定!D33","v":0},{"$f":"賞与計算設定!D34","v":0},{"$f":"賞与計算設定!D35","v":0},{"$f":"賞与計算設定!D36","v":0},{"$f":"賞与計算設定!D37","v":0},{"$f":"賞与計算設定!D38","v":0},{"$f":"賞与計算設定!D39","v":0},{"$f":"U35-U38","v":0},null,null,null,{"$f":"賞与計算設定!E33","v":0},{"$f":"賞与計算設定!E34","v":0},{"$f":"賞与計算設定!E35","v":0},{"$f":"賞与計算設定!E36","v":0},{"$f":"賞与計算設定!E37","v":0},{"$f":"賞与計算設定!E38","v":0},{"$f":"賞与計算設定!E39","v":0},{"$f":"AF35-AF38","v":0},null,null,null,{"$f":"賞与計算設定!F33","v":0},{"$f":"賞与計算設定!F34","v":0},{"$f":"賞与計算設定!F35","v":0},{"$f":"賞与計算設定!F36","v":0},{"$f":"賞与計算設定!F37","v":0},{"$f":"賞与計算設定!F38","v":0},{"$f":"賞与計算設定!F39","v":0},{"$f":"AQ35-AQ38","v":0}]
[null,null,{"$f":"賞与計算設定!B40","v":0},{"$f":"賞与計算設定!B41","v":0},{"$f":"賞与計算設定!B42","v":0},null,null,null,null,"支給合計",null,null,null,{"$f":"C34","v":0},{"$f":"D34","v":0},{"$f":"E34","v":0},null,null,null,null,"支給合計",null,null,null,{"$f":"N34","v":0},{"$f":"O34","v":0},{"$f":"P34","v":0},null,null,null,null,"支給合計",null,null,null,{"$f":"Y34","v":0},{"$f":"Z34","v":0},{"$f":"AA34","v":0},null,null,null,null,"支給合計"]
[null,null,{"$f":"賞与計算設定!C40","v":0},{"$f":"賞与計算設定!C41","v":0},{"$f":"賞与計算設定!C42","v":0},null,null,null,null,{"$f":"SUM(C33:I33,C35:I35)","v":0},null,null,null,{"$f":"賞与計算設定!D40","v":0},{"$f":"賞与計算設定!D41","v":0},{"$f":"賞与計算設定!D42","v":0},null,null,null,null,{"$f":"SUM(N33:T33,N35:T35)","v":0},null,null,null,{"$f":"賞与計算設定!E40","v":0},{"$f":"賞与計算設定!E41","v":0},{"$f":"賞与計算設定!E42","v":0},null,null,null,null,{"$f":"SUM(Y33:AE33,Y35:AE35)","v":0},null,null,null,{"$f":"賞与計算設定!F40","v":0},{"$f":"賞与計算設定!F41","v":0},{"$f":"賞与計算設定!F42","v":0},null,null,null,null,{"$f":"SUM(AJ33:AP33,AJ35:AP35)","v":0}]
[]
[null,"控除","健康保険料","介護保険料","厚生年金等","雇用保険料","所得税","住民税","年末調整","社会保険料合計",null,null,"控除","健康保険料","介護保険料","厚生年金等","雇用保険料","所得税","住民税","年末調整","社会保険料合計",null,null,"控除","健康保険料","介護保険料","厚生年金等","雇用保険料","所得税","住民税","年末調整","社会保険料合計",null,null,"控除","健康保険料","介護保険料","厚生年金等","雇用保険料","所得税","住民税","年末調整","社会保険料合計"]
[null,null,{"$f":"賞与計算設定!C44","v":0},{"$f":"賞与計算設定!C45","v":0},{"$f":"賞与計算設定!C46","v":0},{"$f":"ROUND(賞与計算設定!C47*J35,0)","v":0},null,null,null,{"$f":"SUM(C38:F38)","v":0},null,null,null,{"$f":"賞与計算設定!D44","v":0},{"$f":"賞与計算設定!D45","v":0},{"$f":"賞与計算設定!D46","v":0},{"$f":"ROUND(賞与計算設定!D47*U35,0)","v":0},null,null,null,{"$f":"SUM(N38:Q38)","v":0},null,null,null,{"$f":"賞与計算設定!E44","v":0},{"$f":"賞与計算設定!E45","v":0},{"$f":"賞与計算設定!E46","v":0},{"$f":"ROUND(賞与計算設定!E47*AF35,0)","v":0},null,null,null,{"$f":"SUM(Y38:AB38)","v":0},null,null,null,{"$f":"賞与計算設定!F44","v":0},{"$f":"賞与計算設定!F45","v":0},{"$f":"賞与計算設定!F46","v":0},{"$f":"ROUND(賞与計算設定!F47*AQ35,0)","v":0},null,null,null,{"$f":"SUM(AJ38:AM38)","v":0}]
[null,null,{"$f":"賞与計算設定!B48","v":0},{"$f":"賞与計算設定!B49","v":0},{"$f":"賞与計算設定!B50","v":0},{"$f":"賞与計算設定!B51","v":0},{"$f":"賞与計算設定!B52","v":0},{"$f":"賞与計算設定!B53","v":0},{"$f":"賞与計算設定!B54","v":0},"控除合計",null,null,null,{"$f":"C39","v":0},0,0,0,0,0,0,"控除合計",null,null,null,{"$f":"N39","v":0},0,0,0,0,0,0,"控除合計",null,null,null,{"$f":"Y39","v":0},0,0,0,0,0,0,"控除合計"]
[null,null,{"$f":"賞与計算設定!C48","v":0},{"$f":"賞与計算設定!C49","v":0},{"$f":"賞与計算設定!C50","v":0},{"$f":"賞与計算設定!C51","v":0},{"$f":"賞与計算設定!C52","v":0},{"$f":"賞与計算設定!C53","v":0},{"$f":"賞与計算設定!C54","v":0},{"$f":"SUM(C38:I38,C40:I40)","v":0},null,null,null,{"$f":"賞与計算設定!D48","v":0},{"$f":"賞与計算設定!D49","v":0},{"$f":"賞与計算設定!D50","v":0},{"$f":"賞与計算設定!D51","v":0},{"$f":"賞与計算設定!D52","v":0},{"$f":"賞与計算設定!D53","v":0},{"$f":"賞与計算設定!D54","v":0},{"$f":"SUM(N38:T38,N40:T40)","v":0},null,null,null,{"$f":"賞与計算設定!E48","v":0},{"$f":"賞与計算設定!E49","v":0},{"$f":"賞与計算設定!E50","v":0},{"$f":"賞与計算設定!E51","v":0},{"$f":"賞与計算設定!E52","v":0},{"$f":"賞与計算設定!E53","v":0},{"$f":"賞与計算設定!E54","v":0},{"$f":"SUM(Y38:AE38,Y40:AE40)","v":0},null,null,null,{"$f":"賞与計算設定!F48","v":0},{"$f":"賞与計算設定!F49","v":0},{"$f":"賞与計算設定!F50","v":0},{"$f":"賞与計算設定!F51","v":0},{"$f":"賞与計算設定!F52","v":0},{"$f":"賞与計算設定!F53","v":0},{"$f":"賞与計算設定!F54","v":0},{"$f":"SUM(AJ38:AP38,AJ40:AP40)","v":0}]
[]
[null,"備考",null,null,null,null,null,null,null,"差引支給額",null,null,"備考",null,null,null,null,null,null,null,"差引支給額",null,null,"備考",null,null,null,null,null,null,null,"差引支給額",null,null,"備考",null,null,null,null,null,null,null,"差引支給額"]
[null,null,null,null,null,null,null,null,null,{"$f":"J35-J40","v":0},null,null,null,null,null,null,null,null,null,null,{"$f":"U35-U40","v":0},null,null,null,null,null,null,null,null,null,null,{"$f":"AF35-AF40","v":0},null,null,null,null,null,null,null,null,null,null,{"$f":"AQ35-AQ40","v":0}]
[]
[]
[null,{"$f":"B25","v":"年度夏季賞与"},null,null,null,null,null,null,null,{"$f":"J25","v":"年度　"},null,null,{"$f":"M25","v":"年度上期特別賞与"},null,null,null,null,null,null,null,{"$f":"J46","v":"年度　"},null,null,{"$f":"X25","v":"年度冬季賞与"},null,null,null,null,null,null,null,{"$f":"U46","v":"年度　"},null,null,{"$f":"AI25","v":"年度下期特別賞与"},null,null,null,null,null,null,null,{"$f":"AF46","v":"年度　"}]
[]
[3,"氏名",{"$f":"給与計算設定!B70","v":0},null,null,null,null,null,null,null,null,3,"氏名",{"$f":"C48","v":0},null,null,null,null,null,null,null,null,3,"氏名",{"$f":"N48","v":0},null,null,null,null,null,null,null,null,3,"氏名",{"$f":"Y48","v":0},null,null,null,null,null,null,null,null,3]
[]
[null,"勤怠","労働時間","普通残業時間","深夜労働時間","休日労働時間","出勤日数","欠勤日数","有休日数","有休残日数",null,null,"勤怠","労働時間","普通残業時間","深夜労働時間","休日労働時間","出勤日数","欠勤日数","有休日数","有休残日数",null,null,"勤怠","労働時間","普通残業時間","深夜労働時間","休日労働時間","出勤日数","欠勤日数","有休日数","有休残日数",null,null,"勤怠","労働時間","普通残業時間","深夜労働時間","休日労働時間","出勤日数","欠勤日数","有休日数","有休残日数"]
[]
[]
[null,"支給","賞与額",{"$f":"賞与計算設定!B61","v":0},{"$f":"賞与計算設定!B62","v":0},{"$f":"賞与計算設定!B63","v":0},{"$f":"賞与計算設定!B64","v":0},{"$f":"賞与計算設定!B65","v":0},{"$f":"賞与計算設定!B66","v":0},"課税対象額",null,null,"支給","賞与額",{"$f":"D53","v":0},0,0,0,0,0,"課税対象額",null,null,"支給","賞与額",{"$f":"O53","v":0},0,0,0,0,0,"課税対象額",null,null,"支給","賞与額",{"$f":"Z53","v":0},0,0,0,0,0,"課税対象額"]
[null,null,{"$f":"賞与計算設定!C60","v":0},{"$f":"賞与計算設定!C61","v":0},{"$f":"賞与計算設定!C62","v":0},{"$f":"賞与計算設定!C63","v":0},{"$f":"賞与計算設定!C64","v":0},{"$f":"賞与計算設定!C65","v":0},{"$f":"賞与計算設定!C66","v":0},{"$f":"J56-J59","v":0},null,null,null,{"$f":"賞与計算設定!D60","v":0},{"$f":"賞与計算設定!D61","v":0},{"$f":"賞与計算設定!D62","v":0},{"$f":"賞与計算設定!D63","v":0},{"$f":"賞与計算設定!D64","v":0},{"$f":"賞与計算設定!D65","v":0},{"$f":"賞与計算設定!D66","v":0},{"$f":"U56-U59","v":0},null,null,null,{"$f":"賞与計算設定!E60","v":0},{"$f":"賞与計算設定!E61","v":0},{"$f":"賞与計算設定!E62","v":0},{"$f":"賞与計算設定!E63","v":0},{"$f":"賞与計算設定!E64","v":0},{"$f":"賞与計算設定!E65","v":0},{"$f":"賞与計算設定!E66","v":0},{"$f":"AF56-AF59","v":0},null,null,null,{"$f":"賞与計算設定!F60","v":0},{"$f":"賞与計算設定!F61","v":0},{"$f":"賞与計算設定!F62","v":0},{"$f":"賞与計算設定!F63","v":0},{"$f":"賞与計算設定!F64","v":0},{"$f":"賞与計算設定!F65","v":0},{"$f":"賞与計算設定!F66","v":0},{"$f":"AQ56-AQ59","v":0}]
[null,null,{"$f":"賞与計算設定!B67","v":0},{"$f":"賞与計算設定!B68","v":0},{"$f":"賞与計算設定!B69","v":0},null,null,null,null,"支給合計",null,null,null,{"$f":"C55","v":0},{"$f":"D55","v":0},{"$f":"E55","v":0},null,null,null,null,"支給合計",null,null,null,{"$f":"N55","v":0},{"$f":"O55","v":0},{"$f":"P55","v":0},null,null,null,null,"支給合計",null,null,null,{"$f":"Y55","v":0},{"$f":"Z55","v":0},{"$f":"AA55","v":0},null,null,null,null,"支給合計"]
[null,null,{"$f":"賞与計算設定!C67","v":0},{"$f":"賞与計算設定!C68","v":0},{"$f":"賞与計算設定!C69","v":0},null,null,null,null,{"$f":"SUM(C54:I54,C56:I56)","v":0},null,null,null,{"$f":"賞与計算設定!D67","v":0},{"$f":"賞与計算設定!D68","v":0},{"$f":"賞与計算設定!D69","v":0},null,null,null,null,{"$f":"SUM(N54:T54,N56:T56)","v":0},null,null,null,{"$f":"賞与計算設定!E67","v":0},{"$f":"賞与計算設定!E68","v":0},{"$f":"賞与計算設定!E69","v":0},null,null,null,null,{"$f":"SUM(Y54:AE54,Y56:AE56)","v":0},null,null,null,{"$f":"賞与計算設定!F67","v":0},{"$f":"賞与計算設定!F68","v":0},{"$f":"賞与計算設定!F69","v":0},null,null,null,null,{"$f":"SUM(AJ54:AP54,AJ56:AP56)","v":0}]
[]
[null,"控除","健康保険料","介護保険料","厚生年金等","雇用保険料","所得税","住民税","年末調整","社会保険料合計",null,null,"控除","健康保険料","介護保険料","厚生年金等","雇用保険料","所得税","住民税","年末調整","社会保険料合計",null,null,"控除","健康保険料","介護保険料","厚生年金等","雇用保険料","所得税","住民税","年末調整","社会保険料合計",null,null,"控除","健康保険料","介護保険料","厚生年金等","雇用保険料","所得税","住民税","年末調整","社会保険料合計"]
[null,null,{"$f":"賞与計算設定!C71","v":0},{"$f":"賞与計算設定!C72","v":0},{"$f":"賞与計算設定!C73","v":0},{"$f":"ROUND(賞与計算設定!C74*J56,0)","v":0},null,null,null,{"$f":"SUM(C59:F59)","v":0},null,null,null,{"$f":"賞与計算設定!D71","v":0},{"$f":"賞与計算設定!D72","v":0},{"$f":"賞与計算設定!D73","v":0},{"$f":"ROUND(賞与計算設定!D74*U56,0)","v":0},null,null,null,{"$f":"SUM(N59:Q59)","v":0},null,null,null,{"$f":"賞与計算設定!E71","v":0},{"$f":"賞与計算設定!E72","v":0},{"$f":"賞与計算設定!E73","v":0},{"$f":"ROUND(賞与計算設定!E74*AF56,0)","v":0},null,null,null,{"$f":"SUM(Y59:AB59)","v":0},null,null,null,{"$f":"賞与計算設定!F71","v":0},{"$f":"賞与計算設定!F72","v":0},{"$f":"賞与計算設定!F73","v":0},{"$f":"ROUND(賞与計算設定!F74*AQ56,0)","v":0},null,null,null,{"$f":"SUM(AJ59:AM59)","v":0}]
[null,null,{"$f":"賞与計算設定!B75","v":0},{"$f":"賞与計算設定!B76","v":0},{"$f":"賞与計算設定!B77","v":0},{"$f":"賞与計算設定!B78","v":0},{"$f":"賞与計算設定!B79","v":0},{"$f":"賞与計算設定!B80","v":0},{"$f":"賞与計算設定!B81","v":0},"控除合計",null,null,null,{"$f":"C60","v":0},0,0,0,0,0,0,"控除合計",null,null,null,{"$f":"N60","v":0},0,0,0,0,0,0,"控除合計",null,null,null,{"$f":"Y60","v":0},0,0,0,0,0,0,"控除合計"]
[null,null,{"$f":"賞与計算設定!C75","v":0},{"$f":"賞与計算設定!C76","v":0},{"$f":"賞与計算設定!C77","v":0},{"$f":"賞与計算設定!C78","v":0},{"$f":"賞与計算設定!C79","v":0},{"$f":"賞与計算設定!C80","v":0},{"$f":"賞与計算設定!C81","v":0},{"$f":"SUM(C59:I59,C61:I61)","v":0},null,null,null,{"$f":"賞与計算設定!D75","v":0},{"$f":"賞与計算設定!D76","v":0},{"$f":"賞与計算設定!D77","v":0},{"$f":"賞与計算設定!D78","v":0},{"$f":"賞与計算設定!D79","v":0},{"$f":"賞与計算設定!D80","v":0},{"$f":"賞与計算設定!D81","v":0},{"$f":"SUM(N59:T59,N61:T61)","v":0},null,null,null,{"$f":"賞与計算設定!E75","v":0},{"$f":"賞与計算設定!E76","v":0},{"$f":"賞与計算設定!E77","v":0},{"$f":"賞与計算設定!E78","v":0},{"$f":"賞与計算設定!E79","v":0},{"$f":"賞与計算設定!E80","v":0},{"$f":"賞与計算設定!E81","v":0},{"$f":"SUM(Y59:AE59,Y61:AE61)","v":0},null,null,null,{"$f":"賞与計算設定!F75","v":0},{"$f":"賞与計算設定!F76","v":0},{"$f":"賞与計算設定!F77","v":0},{"$f":"賞与計算設定!F78","v":0},{"$f":"賞与計算設定!F79","v":0},{"$f":"賞与計算設定!F80","v":0},{"$f":"賞与計算設定!F81","v":0},{"$f":"SUM(AJ59:AP59,AJ61:AP61)","v":0}]
[]
[null,"備考",null,null,null,null,null,null,null,"差引支給額",null,null,"備考",null,null,null,null,null,null,null,"差引支給額",null,null,"備考",null,null,null,null,null,null,null,"差引支給額",null,null,"備考",null,null,null,null,null,null,null,"差引支給額"]
[null,null,null,null,null,null,null,null,null,{"$f":"J56-J61","v":0},null,null,null,null,null,null,null,null,null,null,{"$f":"U56-U61","v":0},null,null,null,null,null,null,null,null,null,null,{"$f":"AF56-AF61","v":0},null,null,null,null,null,null,null,null,null,null,{"$f":"AQ56-AQ61","v":0}]
[]
[]
[null,{"$f":"B46","v":"年度夏季賞与"},null,null,null,null,null,null,null,{"$f":"J46","v":"年度　"},null,null,{"$f":"M46","v":"年度上期特別賞与"},null,null,null,null,null,null,null,{"$f":"J67","v":"年度　"},null,null,{"$f":"X46","v":"年度冬季賞与"},null,null,null,null,null,null,null,{"$f":"U67","v":"年度　"},null,null,{"$f":"AI46","v":"年度下期特別賞与"},null,null,null,null,null,null,null,{"$f":"AF67","v":"年度　"}]
[]
[4,"氏名",{"$f":"給与計算設定!B103","v":0},null,null,null,null,null,null,null,null,4,"氏名",{"$f":"C69","v":0},null,null,null,null,null,null,null,null,4,"氏名",{"$f":"N69","v":0},null,null,null,null,null,null,null,null,4,"氏名",{"$f":"Y69","v":0},null,null,null,null,null,null,null,null,4]
[]
[null,"勤怠","労働時間","普通残業時間","深夜労働時間","休日労働時間","出勤日数","欠勤日数","有休日数","有休残日数",null,null,"勤怠","労働時間","普通残業時間","深夜労働時間","休日労働時間","出勤日数","欠勤日数","有休日数","有休残日数",null,null,"勤怠","労働時間","普通残業時間","深夜労働時間","休日労働時間","出勤日数","欠勤日数","有休日数","有休残日数",null,null,"勤怠","労働時間","普通残業時間","深夜労働時間","休日労働時間","出勤日数","欠勤日数","有休日数","有休残日数"]
[]
[]
[null,"支給","賞与額",{"$f":"賞与計算設定!B88","v":0},{"$f":"賞与計算設定!B89","v":0},{"$f":"賞与計算設定!B90","v":0},{"$f":"賞与計算設定!B91","v":0},{"$f":"賞与計算設定!B92","v":0},{"$f":"賞与計算設定!B93","v":0},"課税対象額",null,null,"支給","賞与額",{"$f":"D74","v":0},0,0,0,0,0,"課税対象額",null,null,"支給","賞与額",{"$f":"O74","v":0},0,0,0,0,0,"課税対象額",null,null,"支給","賞与額",{"$f":"Z74","v":0},0,0,0,0,0,"課税対象額"]
[null,null,{"$f":"賞与計算設定!C87","v":0},{"$f":"賞与計算設定!C88","v":0},{"$f":"賞与計算設定!C89","v":0},{"$f":"賞与計算設定!C90","v":0},{"$f":"賞与計算設定!C91","v":0},{"$f":"賞与計算設定!C92","v":0},{"$f":"賞与計算設定!C93","v":0},{"$f":"J77-J80","v":0},null,null,null,{"$f":"賞与計算設定!D87","v":0},{"$f":"賞与計算設定!D88","v":0},{"$f":"賞与計算設定!D89","v":0},{"$f":"賞与計算設定!D90","v":0},{"$f":"賞与計算設定!D91","v":0},{"$f":"賞与計算設定!D92","v":0},{"$f":"賞与計算設定!D93","v":0},{"$f":"U77-U80","v":0},null,null,null,{"$f":"賞与計算設定!E87","v":0},{"$f":"賞与計算設定!E88","v":0},{"$f":"賞与計算設定!E89","v":0},{"$f":"賞与計算設定!E90","v":0},{"$f":"賞与計算設定!E91","v":0},{"$f":"賞与計算設定!E92","v":0},{"$f":"賞与計算設定!E93","v":0},{"$f":"AF77-AF80","v":0},null,null,null,{"$f":"賞与計算設定!F87","v":0},{"$f":"賞与計算設定!F88","v":0},{"$f":"賞与計算設定!F89","v":0},{"$f":"賞与計算設定!F90","v":0},{"$f":"賞与計算設定!F91","v":0},{"$f":"賞与計算設定!F92","v":0},{"$f":"賞与計算設定!F93","v":0},{"$f":"AQ77-AQ80","v":0}]
[null,null,{"$f":"賞与計算設定!B94","v":0},{"$f":"賞与計算設定!B95","v":0},{"$f":"賞与計算設定!B96","v":0},null,null,null,null,"支給合計",null,null,null,{"$f":"C76","v":0},{"$f":"D76","v":0},{"$f":"E76","v":0},null,null,null,null,"支給合計",null,null,null,{"$f":"N76","v":0},{"$f":"O76","v":0},{"$f":"P76","v":0},null,null,null,null,"支給合計",null,null,null,{"$f":"Y76","v":0},{"$f":"Z76","v":0},{"$f":"AA76","v":0},null,null,null,null,"支給合計"]
[null,null,{"$f":"賞与計算設定!C94","v":0},{"$f":"賞与計算設定!C95","v":0},{"$f":"賞与計算設定!C96","v":0},null,null,null,null,{"$f":"SUM(C75:I75,C77:I77)","v":0},null,null,null,{"$f":"賞与計算設定!D94","v":0},{"$f":"賞与計算設定!D95","v":0},{"$f":"賞与計算設定!D96","v":0},null,null,null,null,{"$f":"SUM(N75:T75,N77:T77)","v":0},null,null,null,{"$f":"賞与計算設定!E94","v":0},{"$f":"賞与計算設定!E95","v":0},{"$f":"賞与計算設定!E96","v":0},null,null,null,null,{"$f":"SUM(Y75:AE75,Y77:AE77)","v":0},null,null,null,{"$f":"賞与計算設定!F94","v":0},{"$f":"賞与計算設定!F95","v":0},{"$f":"賞与計算設定!F96","v":0},null,null,null,null,{"$f":"SUM(AJ75:AP75,AJ77:AP77)","v":0}]
[]
[null,"控除","健康保険料","介護保険料","厚生年金等","雇用保険料","所得税","住民税","年末調整","社会保険料合計",null,null,"控除","健康保険料","介護保険料","厚生年金等","雇用保険料","所得税","住民税","年末調整","社会保険料合計",null,null,"控除","健康保険料","介護保険料","厚生年金等","雇用保険料","所得税","住民税","年末調整","社会保険料合計",null,null,"控除","健康保険料","介護保険料","厚生年金等","雇用保険料","所得税","住民税","年末調整","社会保険料合計"]
[null,null,{"$f":"賞与計算設定!C98","v":0},{"$f":"賞与計算設定!C99","v":0},{"$f":"賞与計算設定!C100","v":0},{"$f":"ROUND(賞与計算設定!C101*J77,0)","v":0},null,null,null,{"$f":"SUM(C80:F80)","v":0},null,null,null,{"$f":"賞与計算設定!D98","v":0},{"$f":"賞与計算設定!D99","v":0},{"$f":"賞与計算設定!D100","v":0},{"$f":"ROUND(賞与計算設定!D101*U77,0)","v":0},null,null,null,{"$f":"SUM(N80:Q80)","v":0},null,null,null,{"$f":"賞与計算設定!E98","v":0},{"$f":"賞与計算設定!E99","v":0},{"$f":"賞与計算設定!E100","v":0},{"$f":"ROUND(賞与計算設定!E101*AF77,0)","v":0},null,null,null,{"$f":"SUM(Y80:AB80)","v":0},null,null,null,{"$f":"賞与計算設定!F98","v":0},{"$f":"賞与計算設定!F99","v":0},{"$f":"賞与計算設定!F100","v":0},{"$f":"ROUND(賞与計算設定!F101*AQ77,0)","v":0},null,null,null,{"$f":"SUM(AJ80:AM80)","v":0}]
[null,null,{"$f":"賞与計算設定!B102","v":0},{"$f":"賞与計算設定!B103","v":0},{"$f":"賞与計算設定!B104","v":0},{"$f":"賞与計算設定!B105","v":0},{"$f":"賞与計算設定!B106","v":0},{"$f":"賞与計算設定!B107","v":0},{"$f":"賞与計算設定!B108","v":0},"控除合計",null,null,null,{"$f":"C81","v":0},0,0,0,0,0,0,"控除合計",null,null,null,{"$f":"N81","v":0},0,0,0,0,0,0,"控除合計",null,null,null,{"$f":"Y81","v":0},0,0,0,0,0,0,"控除合計"]
[null,null,{"$f":"賞与計算設定!C102","v":0},{"$f":"賞与計算設定!C103","v":0},{"$f":"賞与計算設定!C104","v":0},{"$f":"賞与計算設定!C105","v":0},{"$f":"賞与計算設定!C106","v":0},{"$f":"賞与計算設定!C107","v":0},{"$f":"賞与計算設定!C108","v":0},{"$f":"SUM(C80:I80,C82:I82)","v":0},null,null,null,{"$f":"賞与計算設定!D102","v":0},{"$f":"賞与計算設定!D103","v":0},{"$f":"賞与計算設定!D104","v":0},{"$f":"賞与計算設定!D105","v":0},{"$f":"賞与計算設定!D106","v":0},{"$f":"賞与計算設定!D107","v":0},{"$f":"賞与計算設定!D108","v":0},{"$f":"SUM(N80:T80,N82:T82)","v":0},null,null,null,{"$f":"賞与計算設定!E102","v":0},{"$f":"賞与計算設定!E103","v":0},{"$f":"賞与計算設定!E104","v":0},{"$f":"賞与計算設定!E105","v":0},{"$f":"賞与計算設定!E106","v":0},{"$f":"賞与計算設定!E107","v":0},{"$f":"賞与計算設定!E108","v":0},{"$f":"SUM(Y80:AE80,Y82:AE82)","v":0},null,null,null,{"$f":"賞与計算設定!F102","v":0},{"$f":"賞与計算設定!F103","v":0},{"$f":"賞与計算設定!F104","v":0},{"$f":"賞与計算設定!F105","v":0},{"$f":"賞与計算設定!F106","v":0},{"$f":"賞与計算設定!F107","v":0},{"$f":"賞与計算設定!F108","v":0},{"$f":"SUM(AJ80:AP80,AJ82:AP82)","v":0}]
[]
[null,"備考",null,null,null,null,null,null,null,"差引支給額",null,null,"備考",null,null,null,null,null,null,null,"差引支給額",null,null,"備考",null,null,null,null,null,null,null,"差引支給額",null,null,"備考",null,null,null,null,null,null,null,"差引支給額"]
[null,null,null,null,null,null,null,null,null,{"$f":"J77-J82","v":0},null,null,null,null,null,null,null,null,null,null,{"$f":"U77-U82","v":0},null,null,null,null,null,null,null,null,null,null,{"$f":"AF77-AF82","v":0},null,null,null,null,null,null,null,null,null,null,{"$f":"AQ77-AQ82","v":0}]
[]
[]
[null,{"$f":"B67","v":"年度夏季賞与"},null,null,null,null,null,null,null,{"$f":"J67","v":"年度　"},null,null,{"$f":"M67","v":"年度上期特別賞与"},null,null,null,null,null,null,null,{"$f":"J88","v":"年度　"},null,null,{"$f":"X67","v":"年度冬季賞与"},null,null,null,null,null,null,null,{"$f":"U88","v":"年度　"},null,null,{"$f":"AI67","v":"年度下期特別賞与"},null,null,null,null,null,null,null,{"$f":"AF88","v":"年度　"}]
[]
[5,"氏名",{"$f":"給与計算設定!B136","v":0},null,null,null,null,null,null,null,null,5,"氏名",{"$f":"C90","v":0},null,null,null,null,null,null,null,null,5,"氏名",{"$f":"N90","v":0},null,null,null,null,null,null,null,null,5,"氏名",{"$f":"Y90","v":0},null,null,null,null,null,null,null,null,5]
[]
[null,"勤怠","労働時間","普通残業時間","深夜労働時間","休日労働時間","出勤日数","欠勤日数","有休日数","有休残日数",null,null,"勤怠","労働時間","普通残業時間","深夜労働時間","休日労働時間","出勤日数","欠勤日数","有休日数","有休残日数",null,null,"勤怠","労働時間","普通残業時間","深夜労働時間","休日労働時間","出勤日数","欠勤日数","有休日数","有休残日数",null,null,"勤怠","労働時間","普通残業時間","深夜労働時間","休日労働時間","出勤日数","欠勤日数","有休日数","有休残日数"]
[]
[]
[null,"支給","賞与額",{"$f":"賞与計算設定!B115","v":0},{"$f":"賞与計算設定!B116","v":0},{"$f":"賞与計算設定!B117","v":0},{"$f":"賞与計算設定!B118","v":0},{"$f":"賞与計算設定!B119","v":0},{"$f":"賞与計算設定!B120","v":0},"課税対象額",null,null,"支給","賞与額",{"$f":"D95","v":0},0,0,0,0,0,"課税対象額",null,null,"支給","賞与額",{"$f":"O95","v":0},0,0,0,0,0,"課税対象額",null,null,"支給","賞与額",{"$f":"Z95","v":0},0,0,0,0,0,"課税対象額"]
[null,null,{"$f":"賞与計算設定!C114","v":0},{"$f":"賞与計算設定!C115","v":0},{"$f":"賞与計算設定!C116","v":0},{"$f":"賞与計算設定!C117","v":0},{"$f":"賞与計算設定!C118","v":0},{"$f":"賞与計算設定!C119","v":0},{"$f":"賞与計算設定!C120","v":0},{"$f":"J98-J101","v":0},null,null,null,{"$f":"賞与計算設定!D114","v":0},{"$f":"賞与計算設定!D115","v":0},{"$f":"賞与計算設定!D116","v":0},{"$f":"賞与計算設定!D117","v":0},{"$f":"賞与計算設定!D118","v":0},{"$f":"賞与計算設定!D119","v":0},{"$f":"賞与計算設定!D120","v":0},{"$f":"U98-U101","v":0},null,null,null,{"$f":"賞与計算設定!E114","v":0},{"$f":"賞与計算設定!E115","v":0},{"$f":"賞与計算設定!E116","v":0},{"$f":"賞与計算設定!E117","v":0},{"$f":"賞与計算設定!E118","v":0},{"$f":"賞与計算設定!E119","v":0},{"$f":"賞与計算設定!E120","v":0},{"$f":"AF98-AF101","v":0},null,null,null,{"$f":"賞与計算設定!F114","v":0},{"$f":"賞与計算設定!F115","v":0},{"$f":"賞与計算設定!F116","v":0},{"$f":"賞与計算設定!F117","v":0},{"$f":"賞与計算設定!F118","v":0},{"$f":"賞与計算設定!F119","v":0},{"$f":"賞与計算設定!F120","v":0},{"$f":"AQ98-AQ101","v":0}]
[null,null,{"$f":"賞与計算設定!B121","v":0},{"$f":"賞与計算設定!B122","v":0},{"$f":"賞与計算設定!B123","v":0},null,null,null,null,"支給合計",null,null,null,{"$f":"C97","v":0},{"$f":"D97","v":0},{"$f":"E97","v":0},null,null,null,null,"支給合計",null,null,null,{"$f":"N97","v":0},{"$f":"O97","v":0},{"$f":"P97","v":0},null,null,null,null,"支給合計",null,null,null,{"$f":"Y97","v":0},{"$f":"Z97","v":0},{"$f":"AA97","v":0},null,null,null,null,"支給合計"]
[null,null,{"$f":"賞与計算設定!C121","v":0},{"$f":"賞与計算設定!C122","v":0},{"$f":"賞与計算設定!C123","v":0},null,null,null,null,{"$f":"SUM(C96:I96,C98:I98)","v":0},null,null,null,{"$f":"賞与計算設定!D121","v":0},{"$f":"賞与計算設定!D122","v":0},{"$f":"賞与計算設定!D123","v":0},null,null,null,null,{"$f":"SUM(N96:T96,N98:T98)","v":0},null,null,null,{"$f":"賞与計算設定!E121","v":0},{"$f":"賞与計算設定!E122","v":0},{"$f":"賞与計算設定!E123","v":0},null,null,null,null,{"$f":"SUM(Y96:AE96,Y98:AE98)","v":0},null,null,null,{"$f":"賞与計算設定!F121","v":0},{"$f":"賞与計算設定!F122","v":0},{"$f":"賞与計算設定!F123","v":0},null,null,null,null,{"$f":"SUM(AJ96:AP96,AJ98:AP98)","v":0}]
[]
[null,"控除","健康保険料","介護保険料","厚生年金等","雇用保険料","所得税","住民税","年末調整","社会保険料合計",null,null,"控除","健康保険料","介護保険料","厚生年金等","雇用保険料","所得税","住民税","年末調整","社会保険料合計",null,null,"控除","健康保険料","介護保険料","厚生年金等","雇用保険料","所得税","住民税","年末調整","社会保険料合計",null,null,"控除","健康保険料","介護保険料","厚生年金等","雇用保険料","所得税","住民税","年末調整","社会保険料合計"]
[null,null,{"$f":"賞与計算設定!C125","v":0},{"$f":"賞与計算設定!C126","v":0},{"$f":"賞与計算設定!C127","v":0},{"$f":"ROUND(賞与計算設定!C128*J98,0)","v":0},null,null,null,{"$f":"SUM(C101:F101)","v":0},null,null,null,{"$f":"賞与計算設定!D125","v":0},{"$f":"賞与計算設定!D126","v":0},{"$f":"賞与計算設定!D127","v":0},{"$f":"ROUND(賞与計算設定!D128*U98,0)","v":0},null,null,null,{"$f":"SUM(N101:Q101)","v":0},null,null,null,{"$f":"賞与計算設定!E125","v":0},{"$f":"賞与計算設定!E126","v":0},{"$f":"賞与計算設定!E127","v":0},{"$f":"ROUND(賞与計算設定!E128*AF98,0)","v":0},null,null,null,{"$f":"SUM(Y101:AB101)","v":0},null,null,null,{"$f":"賞与計算設定!F125","v":0},{"$f":"賞与計算設定!F126","v":0},{"$f":"賞与計算設定!F127","v":0},{"$f":"ROUND(賞与計算設定!F128*AQ98,0)","v":0},null,null,null,{"$f":"SUM(AJ101:AM101)","v":0}]
[null,null,{"$f":"賞与計算設定!B129","v":0},{"$f":"賞与計算設定!B130","v":0},{"$f":"賞与計算設定!B131","v":0},{"$f":"賞与計算設定!B132","v":0},{"$f":"賞与計算設定!B133","v":0},{"$f":"賞与計算設定!B134","v":0},{"$f":"賞与計算設定!B135","v":0},"控除合計",null,null,null,{"$f":"C102","v":0},0,0,0,0,0,0,"控除合計",null,null,null,{"$f":"N102","v":0},0,0,0,0,0,0,"控除合計",null,null,null,{"$f":"Y102","v":0},0,0,0,0,0,0,"控除合計"]
[null,null,{"$f":"賞与計算設定!C129","v":0},{"$f":"賞与計算設定!C130","v":0},{"$f":"賞与計算設定!C131","v":0},{"$f":"賞与計算設定!C132","v":0},{"$f":"賞与計算設定!C133","v":0},{"$f":"賞与計算設定!C134","v":0},{"$f":"賞与計算設定!C135","v":0},{"$f":"SUM(C101:I101,C103:I103)","v":0},null,null,null,{"$f":"賞与計算設定!D129","v":0},{"$f":"賞与計算設定!D130","v":0},{"$f":"賞与計算設定!D131","v":0},{"$f":"賞与計算設定!D132","v":0},{"$f":"賞与計算設定!D133","v":0},{"$f":"賞与計算設定!D134","v":0},{"$f":"賞与計算設定!D135","v":0},{"$f":"SUM(N101:T101,N103:T103)","v":0},null,null,null,{"$f":"賞与計算設定!E129","v":0},{"$f":"賞与計算設定!E130","v":0},{"$f":"賞与計算設定!E131","v":0},{"$f":"賞与計算設定!E132","v":0},{"$f":"賞与計算設定!E133","v":0},{"$f":"賞与計算設定!E134","v":0},{"$f":"賞与計算設定!E135","v":0},{"$f":"SUM(Y101:AE101,Y103:AE103)","v":0},null,null,null,{"$f":"賞与計算設定!F129","v":0},{"$f":"賞与計算設定!F130","v":0},{"$f":"賞与計算設定!F131","v":0},{"$f":"賞与計算設定!F132","v":0},{"$f":"賞与計算設定!F133","v":0},{"$f":"賞与計算設定!F134","v":0},{"$f":"賞与計算設定!F135","v":0},{"$f":"SUM(AJ101:AP101,AJ103:AP103)","v":0}]
[]
[null,"備考",null,null,null,null,null,null,null,"差引支給額",null,null,"備考",null,null,null,null,null,null,null,"差引支給額",null,null,"備考",null,null,null,null,null,null,null,"差引支給額",null,null,"備考",null,null,null,null,null,null,null,"差引支給額"]
[null,null,null,null,null,null,null,null,null,{"$f":"J98-J103","v":0},null,null,null,null,null,null,null,null,null,null,{"$f":"U98-U103","v":0},null,null,null,null,null,null,null,null,null,null,{"$f":"AF98-AF103","v":0},null,null,null,null,null,null,null,null,null,null,{"$f":"AQ98-AQ103","v":0}]
[]
[]
[null,{"$f":"B88","v":"年度夏季賞与"},null,null,null,null,null,null,null,{"$f":"J88","v":"年度　"},null,null,{"$f":"M88","v":"年度上期特別賞与"},null,null,null,null,null,null,null,{"$f":"J109","v":"年度　"},null,null,{"$f":"X88","v":"年度冬季賞与"},null,null,null,null,null,null,null,{"$f":"U109","v":"年度　"},null,null,{"$f":"AI88","v":"年度下期特別賞与"},null,null,null,null,null,null,null,{"$f":"AF109","v":"年度　"}]
[]
[6,"氏名",{"$f":"給与計算設定!B169","v":0},null,null,null,null,null,null,null,null,6,"氏名",{"$f":"C111","v":0},null,null,null,null,null,null,null,null,6,"氏名",{"$f":"N111","v":0},null,null,null,null,null,null,null,null,6,"氏名",{"$f":"Y111","v":0},null,null,null,null,null,null,null,null,6]
[]
[null,"勤怠","労働時間","普通残業時間","深夜労働時間","休日労働時間","出勤日数","欠勤日数","有休日数","有休残日数",null,null,"勤怠","労働時間","普通残業時間","深夜労働時間","休日労働時間","出勤日数","欠勤日数","有休日数","有休残日数",null,null,"勤怠","労働時間","普通残業時間","深夜労働時間","休日労働時間","出勤日数","欠勤日数","有休日数","有休残日数",null,null,"勤怠","労働時間","普通残業時間","深夜労働時間","休日労働時間","出勤日数","欠勤日数","有休日数","有休残日数"]
[]
[]
[null,"支給","賞与額",{"$f":"賞与計算設定!B142","v":0},{"$f":"賞与計算設定!B143","v":0},{"$f":"賞与計算設定!B144","v":0},{"$f":"賞与計算設定!B145","v":0},{"$f":"賞与計算設定!B146","v":0},{"$f":"賞与計算設定!B147","v":0},"課税対象額",null,null,"支給","賞与額",{"$f":"D116","v":0},0,0,0,0,0,"課税対象額",null,null,"支給","賞与額",{"$f":"O116","v":0},0,0,0,0,0,"課税対象額",null,null,"支給","賞与額",{"$f":"Z116","v":0},0,0,0,0,0,"課税対象額"]
[null,null,{"$f":"賞与計算設定!C141","v":0},{"$f":"賞与計算設定!C142","v":0},{"$f":"賞与計算設定!C143","v":0},{"$f":"賞与計算設定!C144","v":0},{"$f":"賞与計算設定!C145","v":0},{"$f":"賞与計算設定!C146","v":0},{"$f":"賞与計算設定!C147","v":0},{"$f":"J119-J122","v":0},null,null,null,{"$f":"賞与計算設定!D141","v":0},{"$f":"賞与計算設定!D142","v":0},{"$f":"賞与計算設定!D143","v":0},{"$f":"賞与計算設定!D144","v":0},{"$f":"賞与計算設定!D145","v":0},{"$f":"賞与計算設定!D146","v":0},{"$f":"賞与計算設定!D147","v":0},{"$f":"U119-U122","v":0},null,null,null,{"$f":"賞与計算設定!E141","v":0},{"$f":"賞与計算設定!E142","v":0},{"$f":"賞与計算設定!E143","v":0},{"$f":"賞与計算設定!E144","v":0},{"$f":"賞与計算設定!E145","v":0},{"$f":"賞与計算設定!E146","v":0},{"$f":"賞与計算設定!E147","v":0},{"$f":"AF119-AF122","v":0},null,null,null,{"$f":"賞与計算設定!F141","v":0},{"$f":"賞与計算設定!F142","v":0},{"$f":"賞与計算設定!F143","v":0},{"$f":"賞与計算設定!F144","v":0},{"$f":"賞与計算設定!F145","v":0},{"$f":"賞与計算設定!F146","v":0},{"$f":"賞与計算設定!F147","v":0},{"$f":"AQ119-AQ122","v":0}]
[null,null,{"$f":"賞与計算設定!B148","v":0},{"$f":"賞与計算設定!B149","v":0},{"$f":"賞与計算設定!B150","v":0},null,null,null,null,"支給合計",null,null,null,{"$f":"C118","v":0},{"$f":"D118","v":0},{"$f":"E118","v":0},null,null,null,null,"支給合計",null,null,null,{"$f":"N118","v":0},{"$f":"O118","v":0},{"$f":"P118","v":0},null,null,null,null,"支給合計",null,null,null,{"$f":"Y118","v":0},{"$f":"Z118","v":0},{"$f":"AA118","v":0},null,null,null,null,"支給合計"]
[null,null,{"$f":"賞与計算設定!C148","v":0},{"$f":"賞与計算設定!C149","v":0},{"$f":"賞与計算設定!C150","v":0},null,null,null,null,{"$f":"SUM(C117:I117,C119:I119)","v":0},null,null,null,{"$f":"賞与計算設定!D148","v":0},{"$f":"賞与計算設定!D149","v":0},{"$f":"賞与計算設定!D150","v":0},null,null,null,null,{"$f":"SUM(N117:T117,N119:T119)","v":0},null,null,null,{"$f":"賞与計算設定!E148","v":0},{"$f":"賞与計算設定!E149","v":0},{"$f":"賞与計算設定!E150","v":0},null,null,null,null,{"$f":"SUM(Y117:AE117,Y119:AE119)","v":0},null,null,null,{"$f":"賞与計算設定!F148","v":0},{"$f":"賞与計算設定!F149","v":0},{"$f":"賞与計算設定!F150","v":0},null,null,null,null,{"$f":"SUM(AJ117:AP117,AJ119:AP119)","v":0}]
[]
[null,"控除","健康保険料","介護保険料","厚生年金等","雇用保険料","所得税","住民税","年末調整","社会保険料合計",null,null,"控除","健康保険料","介護保険料","厚生年金等","雇用保険料","所得税","住民税","年末調整","社会保険料合計",null,null,"控除","健康保険料","介護保険料","厚生年金等","雇用保険料","所得税","住民税","年末調整","社会保険料合計",null,null,"控除","健康保険料","介護保険料","厚生年金等","雇用保険料","所得税","住民税","年末調整","社会保険料合計"]
[null,null,{"$f":"賞与計算設定!C152","v":0},{"$f":"賞与計算設定!C153","v":0},{"$f":"賞与計算設定!C154","v":0},{"$f":"ROUND(賞与計算設定!C155*J119,0)","v":0},null,null,null,{"$f":"SUM(C122:F122)","v":0},null,null,null,{"$f":"賞与計算設定!D152","v":0},{"$f":"賞与計算設定!D153","v":0},{"$f":"賞与計算設定!D154","v":0},{"$f":"ROUND(賞与計算設定!D155*U119,0)","v":0},null,null,null,{"$f":"SUM(N122:Q122)","v":0},null,null,null,{"$f":"賞与計算設定!E152","v":0},{"$f":"賞与計算設定!E153","v":0},{"$f":"賞与計算設定!E154","v":0},{"$f":"ROUND(賞与計算設定!E155*AF119,0)","v":0},null,null,null,{"$f":"SUM(Y122:AB122)","v":0},null,null,null,{"$f":"賞与計算設定!F152","v":0},{"$f":"賞与計算設定!F153","v":0},{"$f":"賞与計算設定!F154","v":0},{"$f":"ROUND(賞与計算設定!F155*AQ119,0)","v":0},null,null,null,{"$f":"SUM(AJ122:AM122)","v":0}]
[null,null,{"$f":"賞与計算設定!B156","v":0},{"$f":"賞与計算設定!B157","v":0},{"$f":"賞与計算設定!B158","v":0},{"$f":"賞与計算設定!B159","v":0},{"$f":"賞与計算設定!B160","v":0},{"$f":"賞与計算設定!B161","v":0},{"$f":"賞与計算設定!B162","v":0},"控除合計",null,null,null,{"$f":"C123","v":0},0,0,0,0,0,0,"控除合計",null,null,null,{"$f":"N123","v":0},0,0,0,0,0,0,"控除合計",null,null,null,{"$f":"Y123","v":0},0,0,0,0,0,0,"控除合計"]
[null,null,{"$f":"賞与計算設定!C156","v":0},{"$f":"賞与計算設定!C157","v":0},{"$f":"賞与計算設定!C158","v":0},{"$f":"賞与計算設定!C159","v":0},{"$f":"賞与計算設定!C160","v":0},{"$f":"賞与計算設定!C161","v":0},{"$f":"賞与計算設定!C162","v":0},{"$f":"SUM(C122:I122,C124:I124)","v":0},null,null,null,{"$f":"賞与計算設定!D156","v":0},{"$f":"賞与計算設定!D157","v":0},{"$f":"賞与計算設定!D158","v":0},{"$f":"賞与計算設定!D159","v":0},{"$f":"賞与計算設定!D160","v":0},{"$f":"賞与計算設定!D161","v":0},{"$f":"賞与計算設定!D162","v":0},{"$f":"SUM(N122:T122,N124:T124)","v":0},null,null,null,{"$f":"賞与計算設定!E156","v":0},{"$f":"賞与計算設定!E157","v":0},{"$f":"賞与計算設定!E158","v":0},{"$f":"賞与計算設定!E159","v":0},{"$f":"賞与計算設定!E160","v":0},{"$f":"賞与計算設定!E161","v":0},{"$f":"賞与計算設定!E162","v":0},{"$f":"SUM(Y122:AE122,Y124:AE124)","v":0},null,null,null,{"$f":"賞与計算設定!F156","v":0},{"$f":"賞与計算設定!F157","v":0},{"$f":"賞与計算設定!F158","v":0},{"$f":"賞与計算設定!F159","v":0},{"$f":"賞与計算設定!F160","v":0},{"$f":"賞与計算設定!F161","v":0},{"$f":"賞与計算設定!F162","v":0},{"$f":"SUM(AJ122:AP122,AJ124:AP124)","v":0}]
[]
[null,"備考",null,null,null,null,null,null,null,"差引支給額",null,null,"備考",null,null,null,null,null,null,null,"差引支給額",null,null,"備考",null,null,null,null,null,null,null,"差引支給額",null,null,"備考",null,null,null,null,null,null,null,"差引支給額"]
[null,null,null,null,null,null,null,null,null,{"$f":"J119-J124","v":0},null,null,null,null,null,null,null,null,null,null,{"$f":"U119-U124","v":0},null,null,null,null,null,null,null,null,null,null,{"$f":"AF119-AF124","v":0},null,null,null,null,null,null,null,null,null,null,{"$f":"AQ119-AQ124","v":0}]
[]
[]
[null,{"$f":"B109","v":"年度夏季賞与"},null,null,null,null,null,null,null,{"$f":"J109","v":"年度　"},null,null,{"$f":"M109","v":"年度上期特別賞与"},null,null,null,null,null,null,null,{"$f":"J130","v":"年度　"},null,null,{"$f":"X109","v":"年度冬季賞与"},null,null,null,null,null,null,null,{"$f":"U130","v":"年度　"},null,null,{"$f":"AI109","v":"年度下期特別賞与"},null,null,null,null,null,null,null,{"$f":"AF130","v":"年度　"}]
[]
[7,"氏名",{"$f":"給与計算設定!B202","v":0},null,null,null,null,null,null,null,null,7,"氏名",{"$f":"C132","v":0},null,null,null,null,null,null,null,null,7,"氏名",{"$f":"N132","v":0},null,null,null,null,null,null,null,null,7,"氏名",{"$f":"Y132","v":0},null,null,null,null,null,null,null,null,7]
[]
[null,"勤怠","労働時間","普通残業時間","深夜労働時間","休日労働時間","出勤日数","欠勤日数","有休日数","有休残日数",null,null,"勤怠","労働時間","普通残業時間","深夜労働時間","休日労働時間","出勤日数","欠勤日数","有休日数","有休残日数",null,null,"勤怠","労働時間","普通残業時間","深夜労働時間","休日労働時間","出勤日数","欠勤日数","有休日数","有休残日数",null,null,"勤怠","労働時間","普通残業時間","深夜労働時間","休日労働時間","出勤日数","欠勤日数","有休日数","有休残日数"]
[]
[]
[null,"支給","賞与額",{"$f":"賞与計算設定!B169","v":0},{"$f":"賞与計算設定!B170","v":0},{"$f":"賞与計算設定!B171","v":0},{"$f":"賞与計算設定!B172","v":0},{"$f":"賞与計算設定!B173","v":0},{"$f":"賞与計算設定!B174","v":0},"課税対象額",null,null,"支給","賞与額",{"$f":"D137","v":0},0,0,0,0,0,"課税対象額",null,null,"支給","賞与額",{"$f":"O137","v":0},0,0,0,0,0,"課税対象額",null,null,"支給","賞与額",{"$f":"Z137","v":0},0,0,0,0,0,"課税対象額"]
[null,null,{"$f":"賞与計算設定!C168","v":0},{"$f":"賞与計算設定!C169","v":0},{"$f":"賞与計算設定!C170","v":0},{"$f":"賞与計算設定!C171","v":0},{"$f":"賞与計算設定!C172","v":0},{"$f":"賞与計算設定!C173","v":0},{"$f":"賞与計算設定!C174","v":0},{"$f":"J140-J143","v":0},null,null,null,{"$f":"賞与計算設定!D168","v":0},{"$f":"賞与計算設定!D169","v":0},{"$f":"賞与計算設定!D170","v":0},{"$f":"賞与計算設定!D171","v":0},{"$f":"賞与計算設定!D172","v":0},{"$f":"賞与計算設定!D173","v":0},{"$f":"賞与計算設定!D174","v":0},{"$f":"U140-U143","v":0},null,null,null,{"$f":"賞与計算設定!E168","v":0},{"$f":"賞与計算設定!E169","v":0},{"$f":"賞与計算設定!E170","v":0},{"$f":"賞与計算設定!E171","v":0},{"$f":"賞与計算設定!E172","v":0},{"$f":"賞与計算設定!E173","v":0},{"$f":"賞与計算設定!E174","v":0},{"$f":"AF140-AF143","v":0},null,null,null,{"$f":"賞与計算設定!F168","v":0},{"$f":"賞与計算設定!F169","v":0},{"$f":"賞与計算設定!F170","v":0},{"$f":"賞与計算設定!F171","v":0},{"$f":"賞与計算設定!F172","v":0},{"$f":"賞与計算設定!F173","v":0},{"$f":"賞与計算設定!F174","v":0},{"$f":"AQ140-AQ143","v":0}]
[null,null,{"$f":"賞与計算設定!B175","v":0},{"$f":"賞与計算設定!B176","v":0},{"$f":"賞与計算設定!B177","v":0},null,null,null,null,"支給合計",null,null,null,{"$f":"C139","v":0},{"$f":"D139","v":0},{"$f":"E139","v":0},null,null,null,null,"支給合計",null,null,null,{"$f":"N139","v":0},{"$f":"O139","v":0},{"$f":"P139","v":0},null,null,null,null,"支給合計",null,null,null,{"$f":"Y139","v":0},{"$f":"Z139","v":0},{"$f":"AA139","v":0},null,null,null,null,"支給合計"]
[null,null,{"$f":"賞与計算設定!C175","v":0},{"$f":"賞与計算設定!C176","v":0},{"$f":"賞与計算設定!C177","v":0},null,null,null,null,{"$f":"SUM(C138:I138,C140:I140)","v":0},null,null,null,{"$f":"賞与計算設定!D175","v":0},{"$f":"賞与計算設定!D176","v":0},{"$f":"賞与計算設定!D177","v":0},null,null,null,null,{"$f":"SUM(N138:T138,N140:T140)","v":0},null,null,null,{"$f":"賞与計算設定!E175","v":0},{"$f":"賞与計算設定!E176","v":0},{"$f":"賞与計算設定!E177","v":0},null,null,null,null,{"$f":"SUM(Y138:AE138,Y140:AE140)","v":0},null,null,null,{"$f":"賞与計算設定!F175","v":0},{"$f":"賞与計算設定!F176","v":0},{"$f":"賞与計算設定!F177","v":0},null,null,null,null,{"$f":"SUM(AJ138:AP138,AJ140:AP140)","v":0}]
[]
[null,"控除","健康保険料","介護保険料","厚生年金等","雇用保険料","所得税","住民税","年末調整","社会保険料合計",null,null,"控除","健康保険料","介護保険料","厚生年金等","雇用保険料","所得税","住民税","年末調整","社会保険料合計",null,null,"控除","健康保険料","介護保険料","厚生年金等","雇用保険料","所得税","住民税","年末調整","社会保険料合計",null,null,"控除","健康保険料","介護保険料","厚生年金等","雇用保険料","所得税","住民税","年末調整","社会保険料合計"]
[null,null,{"$f":"賞与計算設定!C179","v":0},{"$f":"賞与計算設定!C180","v":0},{"$f":"賞与計算設定!C181","v":0},{"$f":"ROUND(賞与計算設定!C182*J140,0)","v":0},null,null,null,{"$f":"SUM(C143:F143)","v":0},null,null,null,{"$f":"賞与計算設定!D179","v":0},{"$f":"賞与計算設定!D180","v":0},{"$f":"賞与計算設定!D181","v":0},{"$f":"ROUND(賞与計算設定!D182*U140,0)","v":0},null,null,null,{"$f":"SUM(N143:Q143)","v":0},null,null,null,{"$f":"賞与計算設定!E179","v":0},{"$f":"賞与計算設定!E180","v":0},{"$f":"賞与計算設定!E181","v":0},{"$f":"ROUND(賞与計算設定!E182*AF140,0)","v":0},null,null,null,{"$f":"SUM(Y143:AB143)","v":0},null,null,null,{"$f":"賞与計算設定!F179","v":0},{"$f":"賞与計算設定!F180","v":0},{"$f":"賞与計算設定!F181","v":0},{"$f":"ROUND(賞与計算設定!F182*AQ140,0)","v":0},null,null,null,{"$f":"SUM(AJ143:AM143)","v":0}]
[null,null,{"$f":"賞与計算設定!B183","v":0},{"$f":"賞与計算設定!B184","v":0},{"$f":"賞与計算設定!B185","v":0},{"$f":"賞与計算設定!B186","v":0},{"$f":"賞与計算設定!B187","v":0},{"$f":"賞与計算設定!B188","v":0},{"$f":"賞与計算設定!B189","v":0},"控除合計",null,null,null,{"$f":"C144","v":0},0,0,0,0,0,0,"控除合計",null,null,null,{"$f":"N144","v":0},0,0,0,0,0,0,"控除合計",null,null,null,{"$f":"Y144","v":0},0,0,0,0,0,0,"控除合計"]
[null,null,{"$f":"賞与計算設定!C183","v":0},{"$f":"賞与計算設定!C184","v":0},{"$f":"賞与計算設定!C185","v":0},{"$f":"賞与計算設定!C186","v":0},{"$f":"賞与計算設定!C187","v":0},{"$f":"賞与計算設定!C188","v":0},{"$f":"賞与計算設定!C189","v":0},{"$f":"SUM(C143:I143,C145:I145)","v":0},null,null,null,{"$f":"賞与計算設定!D183","v":0},{"$f":"賞与計算設定!D184","v":0},{"$f":"賞与計算設定!D185","v":0},{"$f":"賞与計算設定!D186","v":0},{"$f":"賞与計算設定!D187","v":0},{"$f":"賞与計算設定!D188","v":0},{"$f":"賞与計算設定!D189","v":0},{"$f":"SUM(N143:T143,N145:T145)","v":0},null,null,null,{"$f":"賞与計算設定!E183","v":0},{"$f":"賞与計算設定!E184","v":0},{"$f":"賞与計算設定!E185","v":0},{"$f":"賞与計算設定!E186","v":0},{"$f":"賞与計算設定!E187","v":0},{"$f":"賞与計算設定!E188","v":0},{"$f":"賞与計算設定!E189","v":0},{"$f":"SUM(Y143:AE143,Y145:AE145)","v":0},null,null,null,{"$f":"賞与計算設定!F183","v":0},{"$f":"賞与計算設定!F184","v":0},{"$f":"賞与計算設定!F185","v":0},{"$f":"賞与計算設定!F186","v":0},{"$f":"賞与計算設定!F187","v":0},{"$f":"賞与計算設定!F188","v":0},{"$f":"賞与計算設定!F189","v":0},{"$f":"SUM(AJ143:AP143,AJ145:AP145)","v":0}]
[]
[null,"備考",null,null,null,null,null,null,null,"差引支給額",null,null,"備考",null,null,null,null,null,null,null,"差引支給額",null,null,"備考",null,null,null,null,null,null,null,"差引支給額",null,null,"備考",null,null,null,null,null,null,null,"差引支給額"]
[null,null,null,null,null,null,null,null,null,{"$f":"J140-J145","v":0},null,null,null,null,null,null,null,null,null,null,{"$f":"U140-U145","v":0},null,null,null,null,null,null,null,null,null,null,{"$f":"AF140-AF145","v":0},null,null,null,null,null,null,null,null,null,null,{"$f":"AQ140-AQ145","v":0}]
[]
[]
[null,{"$f":"B130","v":"年度夏季賞与"},null,null,null,null,null,null,null,{"$f":"J130","v":"年度　"},null,null,{"$f":"M130","v":"年度上期特別賞与"},null,null,null,null,null,null,null,{"$f":"J151","v":"年度　"},null,null,{"$f":"X130","v":"年度冬季賞与"},null,null,null,null,null,null,null,{"$f":"U151","v":"年度　"},null,null,{"$f":"AI130","v":"年度下期特別賞与"},null,null,null,null,null,null,null,{"$f":"AF151","v":"年度　"}]
[]
[8,"氏名",{"$f":"給与計算設定!B235","v":0},null,null,null,null,null,null,null,null,8,"氏名",{"$f":"C153","v":0},null,null,null,null,null,null,null,null,8,"氏名",{"$f":"N153","v":0},null,null,null,null,null,null,null,null,8,"氏名",{"$f":"Y153","v":0},null,null,null,null,null,null,null,null,8]
[]
[null,"勤怠","労働時間","普通残業時間","深夜労働時間","休日労働時間","出勤日数","欠勤日数","有休日数","有休残日数",null,null,"勤怠","労働時間","普通残業時間","深夜労働時間","休日労働時間","出勤日数","欠勤日数","有休日数","有休残日数",null,null,"勤怠","労働時間","普通残業時間","深夜労働時間","休日労働時間","出勤日数","欠勤日数","有休日数","有休残日数",null,null,"勤怠","労働時間","普通残業時間","深夜労働時間","休日労働時間","出勤日数","欠勤日数","有休日数","有休残日数"]
[]
[]
[null,"支給","賞与額",{"$f":"賞与計算設定!B196","v":0},{"$f":"賞与計算設定!B197","v":0},{"$f":"賞与計算設定!B198","v":0},{"$f":"賞与計算設定!B199","v":0},{"$f":"賞与計算設定!B200","v":0},{"$f":"賞与計算設定!B201","v":0},"課税対象額",null,null,"支給","賞与額",{"$f":"D158","v":0},0,0,0,0,0,"課税対象額",null,null,"支給","賞与額",{"$f":"O158","v":0},0,0,0,0,0,"課税対象額",null,null,"支給","賞与額",{"$f":"Z158","v":0},0,0,0,0,0,"課税対象額"]
[null,null,{"$f":"賞与計算設定!C195","v":0},{"$f":"賞与計算設定!C196","v":0},{"$f":"賞与計算設定!C197","v":0},{"$f":"賞与計算設定!C198","v":0},{"$f":"賞与計算設定!C199","v":0},{"$f":"賞与計算設定!C200","v":0},{"$f":"賞与計算設定!C201","v":0},{"$f":"J161-J164","v":0},null,null,null,{"$f":"賞与計算設定!D195","v":0},{"$f":"賞与計算設定!D196","v":0},{"$f":"賞与計算設定!D197","v":0},{"$f":"賞与計算設定!D198","v":0},{"$f":"賞与計算設定!D199","v":0},{"$f":"賞与計算設定!D200","v":0},{"$f":"賞与計算設定!D201","v":0},{"$f":"U161-U164","v":0},null,null,null,{"$f":"賞与計算設定!E195","v":0},{"$f":"賞与計算設定!E196","v":0},{"$f":"賞与計算設定!E197","v":0},{"$f":"賞与計算設定!E198","v":0},{"$f":"賞与計算設定!E199","v":0},{"$f":"賞与計算設定!E200","v":0},{"$f":"賞与計算設定!E201","v":0},{"$f":"AF161-AF164","v":0},null,null,null,{"$f":"賞与計算設定!F195","v":0},{"$f":"賞与計算設定!F196","v":0},{"$f":"賞与計算設定!F197","v":0},{"$f":"賞与計算設定!F198","v":0},{"$f":"賞与計算設定!F199","v":0},{"$f":"賞与計算設定!F200","v":0},{"$f":"賞与計算設定!F201","v":0},{"$f":"AQ161-AQ164","v":0}]
[null,null,{"$f":"賞与計算設定!B202","v":0},{"$f":"賞与計算設定!B203","v":0},{"$f":"賞与計算設定!B204","v":0},null,null,null,null,"支給合計",null,null,null,{"$f":"C160","v":0},{"$f":"D160","v":0},{"$f":"E160","v":0},null,null,null,null,"支給合計",null,null,null,{"$f":"N160","v":0},{"$f":"O160","v":0},{"$f":"P160","v":0},null,null,null,null,"支給合計",null,null,null,{"$f":"Y160","v":0},{"$f":"Z160","v":0},{"$f":"AA160","v":0},null,null,null,null,"支給合計"]
[null,null,{"$f":"賞与計算設定!C202","v":0},{"$f":"賞与計算設定!C203","v":0},{"$f":"賞与計算設定!C204","v":0},null,null,null,null,{"$f":"SUM(C159:I159,C161:I161)","v":0},null,null,null,{"$f":"賞与計算設定!D202","v":0},{"$f":"賞与計算設定!D203","v":0},{"$f":"賞与計算設定!D204","v":0},null,null,null,null,{"$f":"SUM(N159:T159,N161:T161)","v":0},null,null,null,{"$f":"賞与計算設定!E202","v":0},{"$f":"賞与計算設定!E203","v":0},{"$f":"賞与計算設定!E204","v":0},null,null,null,null,{"$f":"SUM(Y159:AE159,Y161:AE161)","v":0},null,null,null,{"$f":"賞与計算設定!F202","v":0},{"$f":"賞与計算設定!F203","v":0},{"$f":"賞与計算設定!F204","v":0},null,null,null,null,{"$f":"SUM(AJ159:AP159,AJ161:AP161)","v":0}]
[]
[null,"控除","健康保険料","介護保険料","厚生年金等","雇用保険料","所得税","住民税","年末調整","社会保険料合計",null,null,"控除","健康保険料","介護保険料","厚生年金等","雇用保険料","所得税","住民税","年末調整","社会保険料合計",null,null,"控除","健康保険料","介護保険料","厚生年金等","雇用保険料","所得税","住民税","年末調整","社会保険料合計",null,null,"控除","健康保険料","介護保険料","厚生年金等","雇用保険料","所得税","住民税","年末調整","社会保険料合計"]
[null,null,{"$f":"賞与計算設定!C206","v":0},{"$f":"賞与計算設定!C207","v":0},{"$f":"賞与計算設定!C208","v":0},{"$f":"ROUND(賞与計算設定!C209*J161,0)","v":0},null,null,null,{"$f":"SUM(C164:F164)","v":0},null,null,null,{"$f":"賞与計算設定!D206","v":0},{"$f":"賞与計算設定!D207","v":0},{"$f":"賞与計算設定!D208","v":0},{"$f":"ROUND(賞与計算設定!D209*U161,0)","v":0},null,null,null,{"$f":"SUM(N164:Q164)","v":0},null,null,null,{"$f":"賞与計算設定!E206","v":0},{"$f":"賞与計算設定!E207","v":0},{"$f":"賞与計算設定!E208","v":0},{"$f":"ROUND(賞与計算設定!E209*AF161,0)","v":0},null,null,null,{"$f":"SUM(Y164:AB164)","v":0},null,null,null,{"$f":"賞与計算設定!F206","v":0},{"$f":"賞与計算設定!F207","v":0},{"$f":"賞与計算設定!F208","v":0},{"$f":"ROUND(賞与計算設定!F209*AQ161,0)","v":0},null,null,null,{"$f":"SUM(AJ164:AM164)","v":0}]
[null,null,{"$f":"賞与計算設定!B210","v":0},{"$f":"賞与計算設定!B211","v":0},{"$f":"賞与計算設定!B212","v":0},{"$f":"賞与計算設定!B213","v":0},{"$f":"賞与計算設定!B214","v":0},{"$f":"賞与計算設定!B215","v":0},{"$f":"賞与計算設定!B216","v":0},"控除合計",null,null,null,{"$f":"C165","v":0},0,0,0,0,0,0,"控除合計",null,null,null,{"$f":"N165","v":0},0,0,0,0,0,0,"控除合計",null,null,null,{"$f":"Y165","v":0},0,0,0,0,0,0,"控除合計"]
[null,null,{"$f":"賞与計算設定!C210","v":0},{"$f":"賞与計算設定!C211","v":0},{"$f":"賞与計算設定!C212","v":0},{"$f":"賞与計算設定!C213","v":0},{"$f":"賞与計算設定!C214","v":0},{"$f":"賞与計算設定!C215","v":0},{"$f":"賞与計算設定!C216","v":0},{"$f":"SUM(C164:I164,C166:I166)","v":0},null,null,null,{"$f":"賞与計算設定!D210","v":0},{"$f":"賞与計算設定!D211","v":0},{"$f":"賞与計算設定!D212","v":0},{"$f":"賞与計算設定!D213","v":0},{"$f":"賞与計算設定!D214","v":0},{"$f":"賞与計算設定!D215","v":0},{"$f":"賞与計算設定!D216","v":0},{"$f":"SUM(N164:T164,N166:T166)","v":0},null,null,null,{"$f":"賞与計算設定!E210","v":0},{"$f":"賞与計算設定!E211","v":0},{"$f":"賞与計算設定!E212","v":0},{"$f":"賞与計算設定!E213","v":0},{"$f":"賞与計算設定!E214","v":0},{"$f":"賞与計算設定!E215","v":0},{"$f":"賞与計算設定!E216","v":0},{"$f":"SUM(Y164:AE164,Y166:AE166)","v":0},null,null,null,{"$f":"賞与計算設定!F210","v":0},{"$f":"賞与計算設定!F211","v":0},{"$f":"賞与計算設定!F212","v":0},{"$f":"賞与計算設定!F213","v":0},{"$f":"賞与計算設定!F214","v":0},{"$f":"賞与計算設定!F215","v":0},{"$f":"賞与計算設定!F216","v":0},{"$f":"SUM(AJ164:AP164,AJ166:AP166)","v":0}]
[]
[null,"備考",null,null,null,null,null,null,null,"差引支給額",null,null,"備考",null,null,null,null,null,null,null,"差引支給額",null,null,"備考",null,null,null,null,null,null,null,"差引支給額",null,null,"備考",null,null,null,null,null,null,null,"差引支給額"]
[null,null,null,null,null,null,null,null,null,{"$f":"J161-J166","v":0},null,null,null,null,null,null,null,null,null,null,{"$f":"U161-U166","v":0},null,null,null,null,null,null,null,null,null,null,{"$f":"AF161-AF166","v":0},null,null,null,null,null,null,null,null,null,null,{"$f":"AQ161-AQ166","v":0}]
[]
[]
[null,{"$f":"B151","v":"年度夏季賞与"},null,null,null,null,null,null,null,{"$f":"J151","v":"年度　"},null,null,{"$f":"M151","v":"年度上期特別賞与"},null,null,null,null,null,null,null,{"$f":"J172","v":"年度　"},null,null,{"$f":"X151","v":"年度冬季賞与"},null,null,null,null,null,null,null,{"$f":"U172","v":"年度　"},null,null,{"$f":"AI151","v":"年度下期特別賞与"},null,null,null,null,null,null,null,{"$f":"AF172","v":"年度　"}]
[]
[9,"氏名",{"$f":"給与計算設定!B268","v":0},null,null,null,null,null,null,null,null,9,"氏名",{"$f":"C174","v":0},null,null,null,null,null,null,null,null,9,"氏名",{"$f":"N174","v":0},null,null,null,null,null,null,null,null,9,"氏名",{"$f":"Y174","v":0},null,null,null,null,null,null,null,null,9]
[]
[null,"勤怠","労働時間","普通残業時間","深夜労働時間","休日労働時間","出勤日数","欠勤日数","有休日数","有休残日数",null,null,"勤怠","労働時間","普通残業時間","深夜労働時間","休日労働時間","出勤日数","欠勤日数","有休日数","有休残日数",null,null,"勤怠","労働時間","普通残業時間","深夜労働時間","休日労働時間","出勤日数","欠勤日数","有休日数","有休残日数",null,null,"勤怠","労働時間","普通残業時間","深夜労働時間","休日労働時間","出勤日数","欠勤日数","有休日数","有休残日数"]
[]
[]
[null,"支給","賞与額",{"$f":"賞与計算設定!B223","v":0},{"$f":"賞与計算設定!B224","v":0},{"$f":"賞与計算設定!B225","v":0},{"$f":"賞与計算設定!B226","v":0},{"$f":"賞与計算設定!B227","v":0},{"$f":"賞与計算設定!B228","v":0},"課税対象額",null,null,"支給","賞与額",{"$f":"D179","v":0},0,0,0,0,0,"課税対象額",null,null,"支給","賞与額",{"$f":"O179","v":0},0,0,0,0,0,"課税対象額",null,null,"支給","賞与額",{"$f":"Z179","v":0},0,0,0,0,0,"課税対象額"]
[null,null,{"$f":"賞与計算設定!C222","v":0},{"$f":"賞与計算設定!C223","v":0},{"$f":"賞与計算設定!C224","v":0},{"$f":"賞与計算設定!C225","v":0},{"$f":"賞与計算設定!C226","v":0},{"$f":"賞与計算設定!C227","v":0},{"$f":"賞与計算設定!C228","v":0},{"$f":"J182-J185","v":0},null,null,null,{"$f":"賞与計算設定!D222","v":0},{"$f":"賞与計算設定!D223","v":0},{"$f":"賞与計算設定!D224","v":0},{"$f":"賞与計算設定!D225","v":0},{"$f":"賞与計算設定!D226","v":0},{"$f":"賞与計算設定!D227","v":0},{"$f":"賞与計算設定!D228","v":0},{"$f":"U182-U185","v":0},null,null,null,{"$f":"賞与計算設定!E222","v":0},{"$f":"賞与計算設定!E223","v":0},{"$f":"賞与計算設定!E224","v":0},{"$f":"賞与計算設定!E225","v":0},{"$f":"賞与計算設定!E226","v":0},{"$f":"賞与計算設定!E227","v":0},{"$f":"賞与計算設定!E228","v":0},{"$f":"AF182-AF185","v":0},null,null,null,{"$f":"賞与計算設定!F222","v":0},{"$f":"賞与計算設定!F223","v":0},{"$f":"賞与計算設定!F224","v":0},{"$f":"賞与計算設定!F225","v":0},{"$f":"賞与計算設定!F226","v":0},{"$f":"賞与計算設定!F227","v":0},{"$f":"賞与計算設定!F228","v":0},{"$f":"AQ182-AQ185","v":0}]
[null,null,{"$f":"賞与計算設定!B229","v":0},{"$f":"賞与計算設定!B230","v":0},{"$f":"賞与計算設定!B231","v":0},null,null,null,null,"支給合計",null,null,null,{"$f":"C181","v":0},{"$f":"D181","v":0},{"$f":"E181","v":0},null,null,null,null,"支給合計",null,null,null,{"$f":"N181","v":0},{"$f":"O181","v":0},{"$f":"P181","v":0},null,null,null,null,"支給合計",null,null,null,{"$f":"Y181","v":0},{"$f":"Z181","v":0},{"$f":"AA181","v":0},null,null,null,null,"支給合計"]
[null,null,{"$f":"賞与計算設定!C229","v":0},{"$f":"賞与計算設定!C230","v":0},{"$f":"賞与計算設定!C231","v":0},null,null,null,null,{"$f":"SUM(C180:I180,C182:I182)","v":0},null,null,null,{"$f":"賞与計算設定!D229","v":0},{"$f":"賞与計算設定!D230","v":0},{"$f":"賞与計算設定!D231","v":0},null,null,null,null,{"$f":"SUM(N180:T180,N182:T182)","v":0},null,null,null,{"$f":"賞与計算設定!E229","v":0},{"$f":"賞与計算設定!E230","v":0},{"$f":"賞与計算設定!E231","v":0},null,null,null,null,{"$f":"SUM(Y180:AE180,Y182:AE182)","v":0},null,null,null,{"$f":"賞与計算設定!F229","v":0},{"$f":"賞与計算設定!F230","v":0},{"$f":"賞与計算設定!F231","v":0},null,null,null,null,{"$f":"SUM(AJ180:AP180,AJ182:AP182)","v":0}]
[]
[null,"控除","健康保険料","介護保険料","厚生年金等","雇用保険料","所得税","住民税","年末調整","社会保険料合計",null,null,"控除","健康保険料","介護保険料","厚生年金等","雇用保険料","所得税","住民税","年末調整","社会保険料合計",null,null,"控除","健康保険料","介護保険料","厚生年金等","雇用保険料","所得税","住民税","年末調整","社会保険料合計",null,null,"控除","健康保険料","介護保険料","厚生年金等","雇用保険料","所得税","住民税","年末調整","社会保険料合計"]
[null,null,{"$f":"賞与計算設定!C233","v":0},{"$f":"賞与計算設定!C234","v":0},{"$f":"賞与計算設定!C235","v":0},{"$f":"ROUND(賞与計算設定!C236*J182,0)","v":0},null,null,null,{"$f":"SUM(C185:F185)","v":0},null,null,null,{"$f":"賞与計算設定!D233","v":0},{"$f":"賞与計算設定!D234","v":0},{"$f":"賞与計算設定!D235","v":0},{"$f":"ROUND(賞与計算設定!D236*U182,0)","v":0},null,null,null,{"$f":"SUM(N185:Q185)","v":0},null,null,null,{"$f":"賞与計算設定!E233","v":0},{"$f":"賞与計算設定!E234","v":0},{"$f":"賞与計算設定!E235","v":0},{"$f":"ROUND(賞与計算設定!E236*AF182,0)","v":0},null,null,null,{"$f":"SUM(Y185:AB185)","v":0},null,null,null,{"$f":"賞与計算設定!F233","v":0},{"$f":"賞与計算設定!F234","v":0},{"$f":"賞与計算設定!F235","v":0},{"$f":"ROUND(賞与計算設定!F236*AQ182,0)","v":0},null,null,null,{"$f":"SUM(AJ185:AM185)","v":0}]
[null,null,{"$f":"賞与計算設定!B237","v":0},{"$f":"賞与計算設定!B238","v":0},{"$f":"賞与計算設定!B239","v":0},{"$f":"賞与計算設定!B240","v":0},{"$f":"賞与計算設定!B241","v":0},{"$f":"賞与計算設定!B242","v":0},{"$f":"賞与計算設定!B243","v":0},"控除合計",null,null,null,{"$f":"C186","v":0},0,0,0,0,0,0,"控除合計",null,null,null,{"$f":"N186","v":0},0,0,0,0,0,0,"控除合計",null,null,null,{"$f":"Y186","v":0},0,0,0,0,0,0,"控除合計"]
[null,null,{"$f":"賞与計算設定!C237","v":0},{"$f":"賞与計算設定!C238","v":0},{"$f":"賞与計算設定!C239","v":0},{"$f":"賞与計算設定!C240","v":0},{"$f":"賞与計算設定!C241","v":0},{"$f":"賞与計算設定!C242","v":0},{"$f":"賞与計算設定!C243","v":0},{"$f":"SUM(C185:I185,C187:I187)","v":0},null,null,null,{"$f":"賞与計算設定!D237","v":0},{"$f":"賞与計算設定!D238","v":0},{"$f":"賞与計算設定!D239","v":0},{"$f":"賞与計算設定!D240","v":0},{"$f":"賞与計算設定!D241","v":0},{"$f":"賞与計算設定!D242","v":0},{"$f":"賞与計算設定!D243","v":0},{"$f":"SUM(N185:T185,N187:T187)","v":0},null,null,null,{"$f":"賞与計算設定!E237","v":0},{"$f":"賞与計算設定!E238","v":0},{"$f":"賞与計算設定!E239","v":0},{"$f":"賞与計算設定!E240","v":0},{"$f":"賞与計算設定!E241","v":0},{"$f":"賞与計算設定!E242","v":0},{"$f":"賞与計算設定!E243","v":0},{"$f":"SUM(Y185:AE185,Y187:AE187)","v":0},null,null,null,{"$f":"賞与計算設定!F237","v":0},{"$f":"賞与計算設定!F238","v":0},{"$f":"賞与計算設定!F239","v":0},{"$f":"賞与計算設定!F240","v":0},{"$f":"賞与計算設定!F241","v":0},{"$f":"賞与計算設定!F242","v":0},{"$f":"賞与計算設定!F243","v":0},{"$f":"SUM(AJ185:AP185,AJ187:AP187)","v":0}]
[]
[null,"備考",null,null,null,null,null,null,null,"差引支給額",null,null,"備考",null,null,null,null,null,null,null,"差引支給額",null,null,"備考",null,null,null,null,null,null,null,"差引支給額",null,null,"備考",null,null,null,null,null,null,null,"差引支給額"]
[null,null,null,null,null,null,null,null,null,{"$f":"J182-J187","v":0},null,null,null,null,null,null,null,null,null,null,{"$f":"U182-U187","v":0},null,null,null,null,null,null,null,null,null,null,{"$f":"AF182-AF187","v":0},null,null,null,null,null,null,null,null,null,null,{"$f":"AQ182-AQ187","v":0}]
[]
[]
[null,{"$f":"B172","v":"年度夏季賞与"},null,null,null,null,null,null,null,{"$f":"J172","v":"年度　"},null,null,{"$f":"M172","v":"年度上期特別賞与"},null,null,null,null,null,null,null,{"$f":"J193","v":"年度　"},null,null,{"$f":"X172","v":"年度冬季賞与"},null,null,null,null,null,null,null,{"$f":"U193","v":"年度　"},null,null,{"$f":"AI172","v":"年度下期特別賞与"},null,null,null,null,null,null,null,{"$f":"AF193","v":"年度　"}]
[]
[10,"氏名",{"$f":"給与計算設定!B301","v":0},null,null,null,null,null,null,null,null,10,"氏名",{"$f":"C195","v":0},null,null,null,null,null,null,null,null,10,"氏名",{"$f":"N195","v":0},null,null,null,null,null,null,null,null,10,"氏名",{"$f":"Y195","v":0},null,null,null,null,null,null,null,null,10]
[]
[null,"勤怠","労働時間","普通残業時間","深夜労働時間","休日労働時間","出勤日数","欠勤日数","有休日数","有休残日数",null,null,"勤怠","労働時間","普通残業時間","深夜労働時間","休日労働時間","出勤日数","欠勤日数","有休日数","有休残日数",null,null,"勤怠","労働時間","普通残業時間","深夜労働時間","休日労働時間","出勤日数","欠勤日数","有休日数","有休残日数",null,null,"勤怠","労働時間","普通残業時間","深夜労働時間","休日労働時間","出勤日数","欠勤日数","有休日数","有休残日数"]
[]
[]
[null,"支給","賞与額",{"$f":"賞与計算設定!B250","v":0},{"$f":"賞与計算設定!B251","v":0},{"$f":"賞与計算設定!B252","v":0},{"$f":"賞与計算設定!B253","v":0},{"$f":"賞与計算設定!B254","v":0},{"$f":"賞与計算設定!B255","v":0},"課税対象額",null,null,"支給","賞与額",{"$f":"D200","v":0},0,0,0,0,0,"課税対象額",null,null,"支給","賞与額",{"$f":"O200","v":0},0,0,0,0,0,"課税対象額",null,null,"支給","賞与額",{"$f":"Z200","v":0},0,0,0,0,0,"課税対象額"]
[null,null,{"$f":"賞与計算設定!C249","v":0},{"$f":"賞与計算設定!C250","v":0},{"$f":"賞与計算設定!C251","v":0},{"$f":"賞与計算設定!C252","v":0},{"$f":"賞与計算設定!C253","v":0},{"$f":"賞与計算設定!C254","v":0},{"$f":"賞与計算設定!C255","v":0},{"$f":"J203-J206","v":0},null,null,null,{"$f":"賞与計算設定!D249","v":0},{"$f":"賞与計算設定!D250","v":0},{"$f":"賞与計算設定!D251","v":0},{"$f":"賞与計算設定!D252","v":0},{"$f":"賞与計算設定!D253","v":0},{"$f":"賞与計算設定!D254","v":0},{"$f":"賞与計算設定!D255","v":0},{"$f":"U203-U206","v":0},null,null,null,{"$f":"賞与計算設定!E249","v":0},{"$f":"賞与計算設定!E250","v":0},{"$f":"賞与計算設定!E251","v":0},{"$f":"賞与計算設定!E252","v":0},{"$f":"賞与計算設定!E253","v":0},{"$f":"賞与計算設定!E254","v":0},{"$f":"賞与計算設定!E255","v":0},{"$f":"AF203-AF206","v":0},null,null,null,{"$f":"賞与計算設定!F249","v":0},{"$f":"賞与計算設定!F250","v":0},{"$f":"賞与計算設定!F251","v":0},{"$f":"賞与計算設定!F252","v":0},{"$f":"賞与計算設定!F253","v":0},{"$f":"賞与計算設定!F254","v":0},{"$f":"賞与計算設定!F255","v":0},{"$f":"AQ203-AQ206","v":0}]
[null,null,{"$f":"賞与計算設定!B256","v":0},{"$f":"賞与計算設定!B257","v":0},{"$f":"賞与計算設定!B258","v":0},null,null,null,null,"支給合計",null,null,null,{"$f":"C202","v":0},{"$f":"D202","v":0},{"$f":"E202","v":0},null,null,null,null,"支給合計",null,null,null,{"$f":"N202","v":0},{"$f":"O202","v":0},{"$f":"P202","v":0},null,null,null,null,"支給合計",null,null,null,{"$f":"Y202","v":0},{"$f":"Z202","v":0},{"$f":"AA202","v":0},null,null,null,null,"支給合計"]
[null,null,{"$f":"賞与計算設定!C256","v":0},{"$f":"賞与計算設定!C257","v":0},{"$f":"賞与計算設定!C258","v":0},null,null,null,null,{"$f":"SUM(C201:I201,C203:I203)","v":0},null,null,null,{"$f":"賞与計算設定!D256","v":0},{"$f":"賞与計算設定!D257","v":0},{"$f":"賞与計算設定!D258","v":0},null,null,null,null,{"$f":"SUM(N201:T201,N203:T203)","v":0},null,null,null,{"$f":"賞与計算設定!E256","v":0},{"$f":"賞与計算設定!E257","v":0},{"$f":"賞与計算設定!E258","v":0},null,null,null,null,{"$f":"SUM(Y201:AE201,Y203:AE203)","v":0},null,null,null,{"$f":"賞与計算設定!F256","v":0},{"$f":"賞与計算設定!F257","v":0},{"$f":"賞与計算設定!F258","v":0},null,null,null,null,{"$f":"SUM(AJ201:AP201,AJ203:AP203)","v":0}]
[]
[null,"控除","健康保険料","介護保険料","厚生年金等","雇用保険料","所得税","住民税","年末調整","社会保険料合計",null,null,"控除","健康保険料","介護保険料","厚生年金等","雇用保険料","所得税","住民税","年末調整","社会保険料合計",null,null,"控除","健康保険料","介護保険料","厚生年金等","雇用保険料","所得税","住民税","年末調整","社会保険料合計",null,null,"控除","健康保険料","介護保険料","厚生年金等","雇用保険料","所得税","住民税","年末調整","社会保険料合計"]
[null,null,{"$f":"賞与計算設定!C260","v":0},{"$f":"賞与計算設定!C261","v":0},{"$f":"賞与計算設定!C262","v":0},{"$f":"ROUND(賞与計算設定!C263*J203,0)","v":0},null,null,null,{"$f":"SUM(C206:F206)","v":0},null,null,null,{"$f":"賞与計算設定!D260","v":0},{"$f":"賞与計算設定!D261","v":0},{"$f":"賞与計算設定!D262","v":0},{"$f":"ROUND(賞与計算設定!D263*U203,0)","v":0},null,null,null,{"$f":"SUM(N206:Q206)","v":0},null,null,null,{"$f":"賞与計算設定!E260","v":0},{"$f":"賞与計算設定!E261","v":0},{"$f":"賞与計算設定!E262","v":0},{"$f":"ROUND(賞与計算設定!E263*AF203,0)","v":0},null,null,null,{"$f":"SUM(Y206:AB206)","v":0},null,null,null,{"$f":"賞与計算設定!F260","v":0},{"$f":"賞与計算設定!F261","v":0},{"$f":"賞与計算設定!F262","v":0},{"$f":"ROUND(賞与計算設定!F263*AQ203,0)","v":0},null,null,null,{"$f":"SUM(AJ206:AM206)","v":0}]
[null,null,{"$f":"賞与計算設定!B264","v":0},{"$f":"賞与計算設定!B265","v":0},{"$f":"賞与計算設定!B266","v":0},{"$f":"賞与計算設定!B267","v":0},{"$f":"賞与計算設定!B268","v":0},{"$f":"賞与計算設定!B269","v":0},{"$f":"賞与計算設定!B270","v":0},"控除合計",null,null,null,{"$f":"C207","v":0},0,0,0,0,0,0,"控除合計",null,null,null,{"$f":"N207","v":0},0,0,0,0,0,0,"控除合計",null,null,null,{"$f":"Y207","v":0},0,0,0,0,0,0,"控除合計"]
[null,null,{"$f":"賞与計算設定!C264","v":0},{"$f":"賞与計算設定!C265","v":0},{"$f":"賞与計算設定!C266","v":0},{"$f":"賞与計算設定!C267","v":0},{"$f":"賞与計算設定!C268","v":0},{"$f":"賞与計算設定!C269","v":0},{"$f":"賞与計算設定!C270","v":0},{"$f":"SUM(C206:I206,C208:I208)","v":0},null,null,null,{"$f":"賞与計算設定!D264","v":0},{"$f":"賞与計算設定!D265","v":0},{"$f":"賞与計算設定!D266","v":0},{"$f":"賞与計算設定!D267","v":0},{"$f":"賞与計算設定!D268","v":0},{"$f":"賞与計算設定!D269","v":0},{"$f":"賞与計算設定!D270","v":0},{"$f":"SUM(N206:T206,N208:T208)","v":0},null,null,null,{"$f":"賞与計算設定!E264","v":0},{"$f":"賞与計算設定!E265","v":0},{"$f":"賞与計算設定!E266","v":0},{"$f":"賞与計算設定!E267","v":0},{"$f":"賞与計算設定!E268","v":0},{"$f":"賞与計算設定!E269","v":0},{"$f":"賞与計算設定!E270","v":0},{"$f":"SUM(Y206:AE206,Y208:AE208)","v":0},null,null,null,{"$f":"賞与計算設定!F264","v":0},{"$f":"賞与計算設定!F265","v":0},{"$f":"賞与計算設定!F266","v":0},{"$f":"賞与計算設定!F267","v":0},{"$f":"賞与計算設定!F268","v":0},{"$f":"賞与計算設定!F269","v":0},{"$f":"賞与計算設定!F270","v":0},{"$f":"SUM(AJ206:AP206,AJ208:AP208)","v":0}]
[]
[null,"備考",null,null,null,null,null,null,null,"差引支給額",null,null,"備考",null,null,null,null,null,null,null,"差引支給額",null,null,"備考",null,null,null,null,null,null,null,"差引支給額",null,null,"備考",null,null,null,null,null,null,null,"差引支給額"]
[null,null,null,null,null,null,null,null,null,{"$f":"J203-J208","v":0},null,null,null,null,null,null,null,null,null,null,{"$f":"U203-U208","v":0},null,null,null,null,null,null,null,null,null,null,{"$f":"AF203-AF208","v":0},null,null,null,null,null,null,null,null,null,null,{"$f":"AQ203-AQ208","v":0}]